BEGIN:VCALENDAR
VERSION:2.0
PRODID:-//St Timothy Lutheran Church - ECPv6.15.20//NONSGML v1.0//EN
CALSCALE:GREGORIAN
METHOD:PUBLISH
X-WR-CALNAME:St Timothy Lutheran Church
X-ORIGINAL-URL:https://sttimothynj.org
X-WR-CALDESC:Events for St Timothy Lutheran Church
REFRESH-INTERVAL;VALUE=DURATION:PT1H
X-Robots-Tag:noindex
X-PUBLISHED-TTL:PT1H
BEGIN:VTIMEZONE
TZID:UTC
BEGIN:STANDARD
TZOFFSETFROM:+0000
TZOFFSETTO:+0000
TZNAME:UTC
DTSTART:20240101T000000
END:STANDARD
END:VTIMEZONE
BEGIN:VEVENT
DTSTART;TZID=UTC:20250401T130000
DTEND;TZID=UTC:20250401T140000
DTSTAMP:20260424T105134
CREATED:20250326T025857Z
LAST-MODIFIED:20250326T025857Z
UID:24244-1743512400-1743516000@sttimothynj.org
SUMMARY:Meditation w/Movement
DESCRIPTION:
URL:https://sttimothynj.org/event/meditation-w-movement-6/
CATEGORIES:St Timothy's
END:VEVENT
BEGIN:VEVENT
DTSTART;TZID=UTC:20250401T140000
DTEND;TZID=UTC:20250401T150000
DTSTAMP:20260424T105134
CREATED:20250326T025930Z
LAST-MODIFIED:20250326T025930Z
UID:24246-1743516000-1743519600@sttimothynj.org
SUMMARY:Bible Study w/ Holy Communion
DESCRIPTION:
URL:https://sttimothynj.org/event/bible-study-w-holy-communion-6/
CATEGORIES:St Timothy's
END:VEVENT
BEGIN:VEVENT
DTSTART;TZID=UTC:20250401T190000
DTEND;TZID=UTC:20250401T200000
DTSTAMP:20260424T105134
CREATED:20250326T030010Z
LAST-MODIFIED:20250326T030010Z
UID:24248-1743534000-1743537600@sttimothynj.org
SUMMARY:Worship
DESCRIPTION:
URL:https://sttimothynj.org/event/worship-9/
CATEGORIES:St Timothy's
END:VEVENT
BEGIN:VEVENT
DTSTART;TZID=UTC:20250402T183000
DTEND;TZID=UTC:20250402T200000
DTSTAMP:20260424T105134
CREATED:20250326T030103Z
LAST-MODIFIED:20250326T030103Z
UID:24250-1743618600-1743624000@sttimothynj.org
SUMMARY:Lenten Soup Supper followed by Choir Rehearsal
DESCRIPTION:
URL:https://sttimothynj.org/event/lenten-soup-supper-followed-by-choir-rehearsal/
CATEGORIES:St Timothy's
END:VEVENT
BEGIN:VEVENT
DTSTART;TZID=UTC:20250404T180000
DTEND;TZID=UTC:20250404T193000
DTSTAMP:20260424T105134
CREATED:20250326T030142Z
LAST-MODIFIED:20250326T030142Z
UID:24252-1743789600-1743795000@sttimothynj.org
SUMMARY:AA
DESCRIPTION:
URL:https://sttimothynj.org/event/aa-12/
CATEGORIES:St Timothy's
END:VEVENT
BEGIN:VEVENT
DTSTART;TZID=UTC:20250406T083000
DTEND;TZID=UTC:20250406T091500
DTSTAMP:20260424T105134
CREATED:20250326T030245Z
LAST-MODIFIED:20250326T030245Z
UID:24254-1743928200-1743930900@sttimothynj.org
SUMMARY:Worship
DESCRIPTION:
URL:https://sttimothynj.org/event/worship-10/
CATEGORIES:St Timothy's
END:VEVENT
BEGIN:VEVENT
DTSTART;TZID=UTC:20250406T103000
DTEND;TZID=UTC:20250406T113000
DTSTAMP:20260424T105134
CREATED:20250326T030317Z
LAST-MODIFIED:20250326T030317Z
UID:24256-1743935400-1743939000@sttimothynj.org
SUMMARY:Worship
DESCRIPTION:
URL:https://sttimothynj.org/event/worship-11/
CATEGORIES:St Timothy's
END:VEVENT
BEGIN:VEVENT
DTSTART;TZID=UTC:20250406T113000
DTEND;TZID=UTC:20250406T123000
DTSTAMP:20260424T105134
CREATED:20250326T030347Z
LAST-MODIFIED:20250326T030347Z
UID:24258-1743939000-1743942600@sttimothynj.org
SUMMARY:Coffee Hour
DESCRIPTION:
URL:https://sttimothynj.org/event/coffee-hour-4/
CATEGORIES:St Timothy's
END:VEVENT
BEGIN:VEVENT
DTSTART;TZID=UTC:20250406T130000
DTEND;TZID=UTC:20250406T143000
DTSTAMP:20260424T105134
CREATED:20250326T030420Z
LAST-MODIFIED:20250326T030420Z
UID:24260-1743944400-1743949800@sttimothynj.org
SUMMARY:AA
DESCRIPTION:
URL:https://sttimothynj.org/event/aa-13/
CATEGORIES:St Timothy's
END:VEVENT
BEGIN:VEVENT
DTSTART;TZID=UTC:20250407T090000
DTEND;TZID=UTC:20250407T113000
DTSTAMP:20260424T105134
CREATED:20250326T030501Z
LAST-MODIFIED:20250326T030501Z
UID:24262-1744016400-1744025400@sttimothynj.org
SUMMARY:Heart ‘n Hands
DESCRIPTION:
URL:https://sttimothynj.org/event/heart-n-hands-5/
CATEGORIES:St Timothy's
END:VEVENT
BEGIN:VEVENT
DTSTART;TZID=UTC:20250407T190000
DTEND;TZID=UTC:20250407T200000
DTSTAMP:20260424T105134
CREATED:20250326T030533Z
LAST-MODIFIED:20250326T030533Z
UID:24264-1744052400-1744056000@sttimothynj.org
SUMMARY:Boy Scouts
DESCRIPTION:
URL:https://sttimothynj.org/event/boy-scouts-6/
CATEGORIES:St Timothy's
END:VEVENT
BEGIN:VEVENT
DTSTART;TZID=UTC:20250408T130000
DTEND;TZID=UTC:20250408T140000
DTSTAMP:20260424T105134
CREATED:20250326T030606Z
LAST-MODIFIED:20250326T030606Z
UID:24266-1744117200-1744120800@sttimothynj.org
SUMMARY:Meditation w/Movement
DESCRIPTION:
URL:https://sttimothynj.org/event/meditation-w-movement-7/
CATEGORIES:St Timothy's
END:VEVENT
BEGIN:VEVENT
DTSTART;TZID=UTC:20250408T140000
DTEND;TZID=UTC:20250408T150000
DTSTAMP:20260424T105134
CREATED:20250326T030649Z
LAST-MODIFIED:20250326T030649Z
UID:24268-1744120800-1744124400@sttimothynj.org
SUMMARY:Bible Study w/ Holy Communion
DESCRIPTION:
URL:https://sttimothynj.org/event/bible-study-w-holy-communion-7/
CATEGORIES:St Timothy's
END:VEVENT
BEGIN:VEVENT
DTSTART;TZID=UTC:20250408T193000
DTEND;TZID=UTC:20250408T203000
DTSTAMP:20260424T105134
CREATED:20250326T030723Z
LAST-MODIFIED:20250326T030723Z
UID:24270-1744140600-1744144200@sttimothynj.org
SUMMARY:Church Council Meeting
DESCRIPTION:
URL:https://sttimothynj.org/event/church-council-meeting/
CATEGORIES:St Timothy's
END:VEVENT
BEGIN:VEVENT
DTSTART;TZID=UTC:20250409T093000
DTEND;TZID=UTC:20250409T103000
DTSTAMP:20260424T105134
CREATED:20250326T030758Z
LAST-MODIFIED:20250326T030758Z
UID:24272-1744191000-1744194600@sttimothynj.org
SUMMARY:Angels Circle
DESCRIPTION:
URL:https://sttimothynj.org/event/angels-circle-4/
CATEGORIES:St Timothy's
END:VEVENT
BEGIN:VEVENT
DTSTART;TZID=UTC:20250409T103000
DTEND;TZID=UTC:20250409T113000
DTSTAMP:20260424T105134
CREATED:20250326T030835Z
LAST-MODIFIED:20250326T030835Z
UID:24274-1744194600-1744198200@sttimothynj.org
SUMMARY:Knit & Crochet
DESCRIPTION:
URL:https://sttimothynj.org/event/knit-crochet-4/
CATEGORIES:St Timothy's
END:VEVENT
BEGIN:VEVENT
DTSTART;TZID=UTC:20250409T183000
DTEND;TZID=UTC:20250409T193000
DTSTAMP:20260424T105134
CREATED:20250326T030931Z
LAST-MODIFIED:20250326T030931Z
UID:24276-1744223400-1744227000@sttimothynj.org
SUMMARY:Lenten Soup Supper
DESCRIPTION:No music rehearsal
URL:https://sttimothynj.org/event/lenten-soup-supper/
CATEGORIES:St Timothy's
END:VEVENT
BEGIN:VEVENT
DTSTART;TZID=UTC:20250411T180000
DTEND;TZID=UTC:20250411T193000
DTSTAMP:20260424T105134
CREATED:20250326T031010Z
LAST-MODIFIED:20250326T031010Z
UID:24278-1744394400-1744399800@sttimothynj.org
SUMMARY:AA
DESCRIPTION:
URL:https://sttimothynj.org/event/aa-14/
CATEGORIES:St Timothy's
END:VEVENT
BEGIN:VEVENT
DTSTART;TZID=UTC:20250412T103000
DTEND;TZID=UTC:20250412T113000
DTSTAMP:20260424T105134
CREATED:20250326T031049Z
LAST-MODIFIED:20250326T031049Z
UID:24280-1744453800-1744457400@sttimothynj.org
SUMMARY:Bookworms Book Club
DESCRIPTION:
URL:https://sttimothynj.org/event/bookworms-book-club-3/
CATEGORIES:St Timothy's
END:VEVENT
BEGIN:VEVENT
DTSTART;TZID=UTC:20250413T093000
DTEND;TZID=UTC:20250413T120000
DTSTAMP:20260424T105134
CREATED:20250326T031608Z
LAST-MODIFIED:20250326T031608Z
UID:24282-1744536600-1744545600@sttimothynj.org
SUMMARY:Palm Sunday Worship Followed by Brunch
DESCRIPTION:
URL:https://sttimothynj.org/event/palm-sunday-worship-followed-by-brunch/
CATEGORIES:St Timothy's
END:VEVENT
BEGIN:VEVENT
DTSTART;TZID=UTC:20250413T130000
DTEND;TZID=UTC:20250413T143000
DTSTAMP:20260424T105134
CREATED:20250326T031638Z
LAST-MODIFIED:20250326T031638Z
UID:24284-1744549200-1744554600@sttimothynj.org
SUMMARY:AA
DESCRIPTION:
URL:https://sttimothynj.org/event/aa-15/
CATEGORIES:St Timothy's
END:VEVENT
BEGIN:VEVENT
DTSTART;TZID=UTC:20250414T090000
DTEND;TZID=UTC:20250414T113000
DTSTAMP:20260424T105134
CREATED:20250326T031716Z
LAST-MODIFIED:20250326T031716Z
UID:24286-1744621200-1744630200@sttimothynj.org
SUMMARY:Heart ‘n Hands
DESCRIPTION:
URL:https://sttimothynj.org/event/heart-n-hands-6/
CATEGORIES:St Timothy's
END:VEVENT
BEGIN:VEVENT
DTSTART;TZID=UTC:20250415T130000
DTEND;TZID=UTC:20250415T140000
DTSTAMP:20260424T105134
CREATED:20250326T031903Z
LAST-MODIFIED:20250326T031903Z
UID:24288-1744722000-1744725600@sttimothynj.org
SUMMARY:Meditation w/Movement
DESCRIPTION:
URL:https://sttimothynj.org/event/meditation-w-movement-8/
CATEGORIES:St Timothy's
END:VEVENT
BEGIN:VEVENT
DTSTART;TZID=UTC:20250415T140000
DTEND;TZID=UTC:20250415T150000
DTSTAMP:20260424T105134
CREATED:20250326T031941Z
LAST-MODIFIED:20250326T031941Z
UID:24290-1744725600-1744729200@sttimothynj.org
SUMMARY:Bible Study w/ Holy Communion
DESCRIPTION:
URL:https://sttimothynj.org/event/bible-study-w-holy-communion-8/
CATEGORIES:St Timothy's
END:VEVENT
BEGIN:VEVENT
DTSTART;TZID=UTC:20250415T190000
DTEND;TZID=UTC:20250415T200000
DTSTAMP:20260424T105134
CREATED:20250326T032020Z
LAST-MODIFIED:20250326T032020Z
UID:24292-1744743600-1744747200@sttimothynj.org
SUMMARY:Christian Ed Committee
DESCRIPTION:
URL:https://sttimothynj.org/event/christian-ed-committee-2/
CATEGORIES:St Timothy's
END:VEVENT
BEGIN:VEVENT
DTSTART;TZID=UTC:20250416T100000
DTEND;TZID=UTC:20250416T110000
DTSTAMP:20260424T105134
CREATED:20250326T032101Z
LAST-MODIFIED:20250326T032101Z
UID:24294-1744797600-1744801200@sttimothynj.org
SUMMARY:Hymn
DESCRIPTION:
URL:https://sttimothynj.org/event/hymn/
CATEGORIES:St Timothy's
END:VEVENT
BEGIN:VEVENT
DTSTART;TZID=UTC:20250416T190000
DTEND;TZID=UTC:20250416T200000
DTSTAMP:20260424T105134
CREATED:20250326T032152Z
LAST-MODIFIED:20250326T032152Z
UID:24296-1744830000-1744833600@sttimothynj.org
SUMMARY:Bells & Choir Rehearsal
DESCRIPTION:
URL:https://sttimothynj.org/event/bells-choir-rehearsal/
CATEGORIES:St Timothy's
END:VEVENT
BEGIN:VEVENT
DTSTART;TZID=UTC:20250417T103000
DTEND;TZID=UTC:20250417T113000
DTSTAMP:20260424T105134
CREATED:20250326T032329Z
LAST-MODIFIED:20250326T032329Z
UID:24298-1744885800-1744889400@sttimothynj.org
SUMMARY:Adult Book Group
DESCRIPTION:
URL:https://sttimothynj.org/event/adult-book-group-2/
CATEGORIES:St Timothy's
END:VEVENT
BEGIN:VEVENT
DTSTART;TZID=UTC:20250417T183000
DTEND;TZID=UTC:20250417T200000
DTSTAMP:20260424T105134
CREATED:20250326T032446Z
LAST-MODIFIED:20250326T032446Z
UID:24300-1744914600-1744920000@sttimothynj.org
SUMMARY:Maundy Thursday-Agape Dinner Church
DESCRIPTION:
URL:https://sttimothynj.org/event/maundy-thursday-agape-dinner-church/
CATEGORIES:St Timothy's
END:VEVENT
BEGIN:VEVENT
DTSTART;VALUE=DATE:20250418
DTEND;VALUE=DATE:20250419
DTSTAMP:20260424T105134
CREATED:20250326T032527Z
LAST-MODIFIED:20250326T032527Z
UID:24302-1744934400-1745020799@sttimothynj.org
SUMMARY:Office Closed
DESCRIPTION:
URL:https://sttimothynj.org/event/office-closed-2/
CATEGORIES:St Timothy's
END:VEVENT
END:VCALENDAR