BEGIN:VCALENDAR
VERSION:2.0
PRODID:-//St Timothy Lutheran Church - ECPv6.15.20//NONSGML v1.0//EN
CALSCALE:GREGORIAN
METHOD:PUBLISH
X-WR-CALNAME:St Timothy Lutheran Church
X-ORIGINAL-URL:https://sttimothynj.org
X-WR-CALDESC:Events for St Timothy Lutheran Church
REFRESH-INTERVAL;VALUE=DURATION:PT1H
X-Robots-Tag:noindex
X-PUBLISHED-TTL:PT1H
BEGIN:VTIMEZONE
TZID:America/New_York
BEGIN:DAYLIGHT
TZOFFSETFROM:-0500
TZOFFSETTO:-0400
TZNAME:EDT
DTSTART:20250309T070000
END:DAYLIGHT
BEGIN:STANDARD
TZOFFSETFROM:-0400
TZOFFSETTO:-0500
TZNAME:EST
DTSTART:20251102T060000
END:STANDARD
BEGIN:DAYLIGHT
TZOFFSETFROM:-0500
TZOFFSETTO:-0400
TZNAME:EDT
DTSTART:20260308T070000
END:DAYLIGHT
BEGIN:STANDARD
TZOFFSETFROM:-0400
TZOFFSETTO:-0500
TZNAME:EST
DTSTART:20261101T060000
END:STANDARD
BEGIN:DAYLIGHT
TZOFFSETFROM:-0500
TZOFFSETTO:-0400
TZNAME:EDT
DTSTART:20270314T070000
END:DAYLIGHT
BEGIN:STANDARD
TZOFFSETFROM:-0400
TZOFFSETTO:-0500
TZNAME:EST
DTSTART:20271107T060000
END:STANDARD
END:VTIMEZONE
BEGIN:VEVENT
DTSTART;VALUE=DATE:20260206
DTEND;VALUE=DATE:20260207
DTSTAMP:20260423T193131
CREATED:20251204T181304Z
LAST-MODIFIED:20260206T154231Z
UID:25896-1770336000-1770422399@sttimothynj.org
SUMMARY:OFFICE CLOSED
DESCRIPTION:
URL:https://sttimothynj.org/event/office-closed-20/
CATEGORIES:St Timothy's
END:VEVENT
BEGIN:VEVENT
DTSTART;TZID=America/New_York:20260206T180000
DTEND;TZID=America/New_York:20260206T193000
DTSTAMP:20260423T193131
CREATED:20251021T151329Z
LAST-MODIFIED:20251028T154249Z
UID:25098-1770400800-1770406200@sttimothynj.org
SUMMARY:AA
DESCRIPTION:
URL:https://sttimothynj.org/event/aa-85/
CATEGORIES:St Timothy's
END:VEVENT
BEGIN:VEVENT
DTSTART;TZID=America/New_York:20260206T180000
DTEND;TZID=America/New_York:20260206T193000
DTSTAMP:20260423T193131
CREATED:20260206T154232Z
LAST-MODIFIED:20260206T154232Z
UID:26247-1770400800-1770406200@sttimothynj.org
SUMMARY:AA Wayne Valley group
DESCRIPTION:
URL:https://sttimothynj.org/event/aa-wayne-valley-group-14/
CATEGORIES:St Timothy's
END:VEVENT
BEGIN:VEVENT
DTSTART;TZID=America/New_York:20260208T090000
DTEND;TZID=America/New_York:20260208T093000
DTSTAMP:20260423T193131
CREATED:20260208T025634Z
LAST-MODIFIED:20260208T025634Z
UID:26377-1770541200-1770543000@sttimothynj.org
SUMMARY:Worship
DESCRIPTION:
URL:https://sttimothynj.org/event/worship-40/
CATEGORIES:St Timothy's
END:VEVENT
BEGIN:VEVENT
DTSTART;TZID=America/New_York:20260208T093500
DTEND;TZID=America/New_York:20260208T100000
DTSTAMP:20260423T193131
CREATED:20260208T025747Z
LAST-MODIFIED:20260208T025747Z
UID:26381-1770543300-1770544800@sttimothynj.org
SUMMARY:Christian Ed
DESCRIPTION:
URL:https://sttimothynj.org/event/christian-ed-6/
CATEGORIES:St Timothy's
END:VEVENT
BEGIN:VEVENT
DTSTART;TZID=America/New_York:20260208T103000
DTEND;TZID=America/New_York:20260208T113000
DTSTAMP:20260423T193131
CREATED:20260208T025707Z
LAST-MODIFIED:20260208T025707Z
UID:26379-1770546600-1770550200@sttimothynj.org
SUMMARY:Worship (Scout Sunday)
DESCRIPTION:
URL:https://sttimothynj.org/event/worship-scout-sunday/
CATEGORIES:St Timothy's
END:VEVENT
BEGIN:VEVENT
DTSTART;TZID=America/New_York:20260208T130000
DTEND;TZID=America/New_York:20260208T143000
DTSTAMP:20260423T193131
CREATED:20260206T154232Z
LAST-MODIFIED:20260208T155736Z
UID:26248-1770555600-1770561000@sttimothynj.org
SUMMARY:AA Keep It Real group
DESCRIPTION:
URL:https://sttimothynj.org/event/aa-keep-it-real-group-14/
CATEGORIES:St Timothy's
END:VEVENT
BEGIN:VEVENT
DTSTART;TZID=America/New_York:20260208T130000
DTEND;TZID=America/New_York:20260208T150000
DTSTAMP:20260423T193131
CREATED:20260208T025815Z
LAST-MODIFIED:20260208T025815Z
UID:26383-1770555600-1770562800@sttimothynj.org
SUMMARY:AA
DESCRIPTION:
URL:https://sttimothynj.org/event/aa-184/
CATEGORIES:St Timothy's
END:VEVENT
BEGIN:VEVENT
DTSTART;TZID=America/New_York:20260209T190000
DTEND;TZID=America/New_York:20260209T200000
DTSTAMP:20260423T193131
CREATED:20260206T154232Z
LAST-MODIFIED:20260209T161045Z
UID:26249-1770663600-1770667200@sttimothynj.org
SUMMARY:Boy Scout Troop 107
DESCRIPTION:
URL:https://sttimothynj.org/event/boy-scout-troop-107-4/
CATEGORIES:St Timothy's
END:VEVENT
BEGIN:VEVENT
DTSTART;TZID=America/New_York:20260211T093000
DTEND;TZID=America/New_York:20260211T110000
DTSTAMP:20260423T193131
CREATED:20251204T181304Z
LAST-MODIFIED:20260210T160921Z
UID:25897-1770802200-1770807600@sttimothynj.org
SUMMARY:Angels Circle
DESCRIPTION:
URL:https://sttimothynj.org/event/angels-circle-13/
CATEGORIES:St Timothy's
END:VEVENT
BEGIN:VEVENT
DTSTART;TZID=America/New_York:20260211T103000
DTEND;TZID=America/New_York:20260211T120000
DTSTAMP:20260423T193131
CREATED:20251204T181305Z
LAST-MODIFIED:20260211T162039Z
UID:25898-1770805800-1770811200@sttimothynj.org
SUMMARY:Knitters & Crocheters
DESCRIPTION:
URL:https://sttimothynj.org/event/knitters-crocheters-3/
CATEGORIES:St Timothy's
END:VEVENT
BEGIN:VEVENT
DTSTART;VALUE=DATE:20260213
DTEND;VALUE=DATE:20260214
DTSTAMP:20260423T193131
CREATED:20251204T181305Z
LAST-MODIFIED:20260213T162550Z
UID:25899-1770940800-1771027199@sttimothynj.org
SUMMARY:OFFICE CLOSED
DESCRIPTION:
URL:https://sttimothynj.org/event/office-closed-21/
CATEGORIES:St Timothy's
END:VEVENT
BEGIN:VEVENT
DTSTART;TZID=America/New_York:20260213T180000
DTEND;TZID=America/New_York:20260213T193000
DTSTAMP:20260423T193131
CREATED:20251021T151329Z
LAST-MODIFIED:20251028T154249Z
UID:25100-1771005600-1771011000@sttimothynj.org
SUMMARY:AA
DESCRIPTION:
URL:https://sttimothynj.org/event/aa-86/
CATEGORIES:St Timothy's
END:VEVENT
BEGIN:VEVENT
DTSTART;TZID=America/New_York:20260213T180000
DTEND;TZID=America/New_York:20260213T193000
DTSTAMP:20260423T193131
CREATED:20260206T154232Z
LAST-MODIFIED:20260213T162550Z
UID:26250-1771005600-1771011000@sttimothynj.org
SUMMARY:AA Wayne Valley group
DESCRIPTION:
URL:https://sttimothynj.org/event/aa-wayne-valley-group-15/
CATEGORIES:St Timothy's
END:VEVENT
BEGIN:VEVENT
DTSTART;TZID=America/New_York:20260213T190000
DTEND;TZID=America/New_York:20260213T210000
DTSTAMP:20260423T193131
CREATED:20251030T154231Z
LAST-MODIFIED:20260213T162550Z
UID:25664-1771009200-1771016400@sttimothynj.org
SUMMARY:Line Dancing
DESCRIPTION:
URL:https://sttimothynj.org/event/line-dancing-4/
CATEGORIES:St Timothy's
END:VEVENT
BEGIN:VEVENT
DTSTART;TZID=America/New_York:20260214T103000
DTEND;TZID=America/New_York:20260214T113000
DTSTAMP:20260423T193131
CREATED:20251030T154232Z
LAST-MODIFIED:20260213T162550Z
UID:25665-1771065000-1771068600@sttimothynj.org
SUMMARY:Bookworks Book Club
DESCRIPTION:
URL:https://sttimothynj.org/event/bookworks-book-club-4/
CATEGORIES:St Timothy's
END:VEVENT
BEGIN:VEVENT
DTSTART;TZID=America/New_York:20260215T130000
DTEND;TZID=America/New_York:20260215T143000
DTSTAMP:20260423T193131
CREATED:20260206T154232Z
LAST-MODIFIED:20260215T163605Z
UID:26251-1771160400-1771165800@sttimothynj.org
SUMMARY:AA Keep It Real group
DESCRIPTION:
URL:https://sttimothynj.org/event/aa-keep-it-real-group-15/
CATEGORIES:St Timothy's
END:VEVENT
BEGIN:VEVENT
DTSTART;TZID=America/New_York:20260216T190000
DTEND;TZID=America/New_York:20260216T200000
DTSTAMP:20260423T193131
CREATED:20260206T154232Z
LAST-MODIFIED:20260216T163559Z
UID:26252-1771268400-1771272000@sttimothynj.org
SUMMARY:Boy Scout Troop 107
DESCRIPTION:
URL:https://sttimothynj.org/event/boy-scout-troop-107-5/
CATEGORIES:St Timothy's
END:VEVENT
BEGIN:VEVENT
DTSTART;TZID=America/New_York:20260217T183000
DTEND;TZID=America/New_York:20260217T200000
DTSTAMP:20260423T193131
CREATED:20260206T154232Z
LAST-MODIFIED:20260217T165023Z
UID:26253-1771353000-1771358400@sttimothynj.org
SUMMARY:Shrove Tuesday Pancake Supper
DESCRIPTION:
URL:https://sttimothynj.org/event/shrove-tuesday-pancake-supper/
CATEGORIES:St Timothy's
END:VEVENT
BEGIN:VEVENT
DTSTART;TZID=America/New_York:20260218T100000
DTEND;TZID=America/New_York:20260218T110000
DTSTAMP:20260423T193131
CREATED:20251030T154232Z
LAST-MODIFIED:20260217T165023Z
UID:25666-1771408800-1771412400@sttimothynj.org
SUMMARY:Hymn Sing @ Alps of Wayne
DESCRIPTION:
URL:https://sttimothynj.org/event/hymn-sing-alps-of-wayne-4/
CATEGORIES:St Timothy's
END:VEVENT
BEGIN:VEVENT
DTSTART;TZID=America/New_York:20260218T120000
DTEND;TZID=America/New_York:20260218T130000
DTSTAMP:20260423T193131
CREATED:20260206T154232Z
LAST-MODIFIED:20260218T170515Z
UID:26254-1771416000-1771419600@sttimothynj.org
SUMMARY:Ash Wednesday Worship
DESCRIPTION:
URL:https://sttimothynj.org/event/ash-wednesday-worship/
CATEGORIES:St Timothy's
END:VEVENT
BEGIN:VEVENT
DTSTART;TZID=America/New_York:20260218T190000
DTEND;TZID=America/New_York:20260218T200000
DTSTAMP:20260423T193131
CREATED:20260206T154232Z
LAST-MODIFIED:20260218T170515Z
UID:26255-1771441200-1771444800@sttimothynj.org
SUMMARY:Ash Wednesday Worship
DESCRIPTION:
URL:https://sttimothynj.org/event/ash-wednesday-worship-2/
CATEGORIES:St Timothy's
END:VEVENT
BEGIN:VEVENT
DTSTART;TZID=America/New_York:20260219T103000
DTEND;TZID=America/New_York:20260219T113000
DTSTAMP:20260423T193131
CREATED:20251030T154232Z
LAST-MODIFIED:20260218T170515Z
UID:25667-1771497000-1771500600@sttimothynj.org
SUMMARY:Adult Book Group
DESCRIPTION:
URL:https://sttimothynj.org/event/adult-book-group-12/
CATEGORIES:St Timothy's
END:VEVENT
BEGIN:VEVENT
DTSTART;VALUE=DATE:20260220
DTEND;VALUE=DATE:20260221
DTSTAMP:20260423T193131
CREATED:20251204T181305Z
LAST-MODIFIED:20260220T172650Z
UID:25900-1771545600-1771631999@sttimothynj.org
SUMMARY:OFFICE CLOSED
DESCRIPTION:
URL:https://sttimothynj.org/event/office-closed-22/
CATEGORIES:St Timothy's
END:VEVENT
BEGIN:VEVENT
DTSTART;TZID=America/New_York:20260220T180000
DTEND;TZID=America/New_York:20260220T193000
DTSTAMP:20260423T193131
CREATED:20251021T151330Z
LAST-MODIFIED:20251028T154249Z
UID:25102-1771610400-1771615800@sttimothynj.org
SUMMARY:AA
DESCRIPTION:
URL:https://sttimothynj.org/event/aa-87/
CATEGORIES:St Timothy's
END:VEVENT
BEGIN:VEVENT
DTSTART;TZID=America/New_York:20260220T180000
DTEND;TZID=America/New_York:20260220T193000
DTSTAMP:20260423T193131
CREATED:20260206T154232Z
LAST-MODIFIED:20260220T172650Z
UID:26256-1771610400-1771615800@sttimothynj.org
SUMMARY:AA Wayne Valley group
DESCRIPTION:
URL:https://sttimothynj.org/event/aa-wayne-valley-group-16/
CATEGORIES:St Timothy's
END:VEVENT
BEGIN:VEVENT
DTSTART;TZID=America/New_York:20260222T130000
DTEND;TZID=America/New_York:20260222T143000
DTSTAMP:20260423T193131
CREATED:20260206T154232Z
LAST-MODIFIED:20260222T174057Z
UID:26257-1771765200-1771770600@sttimothynj.org
SUMMARY:AA Keep It Real group
DESCRIPTION:
URL:https://sttimothynj.org/event/aa-keep-it-real-group-16/
CATEGORIES:St Timothy's
END:VEVENT
BEGIN:VEVENT
DTSTART;TZID=America/New_York:20260223T190000
DTEND;TZID=America/New_York:20260223T200000
DTSTAMP:20260423T193131
CREATED:20260206T154232Z
LAST-MODIFIED:20260223T175839Z
UID:26258-1771873200-1771876800@sttimothynj.org
SUMMARY:Boy Scout Troop 107
DESCRIPTION:
URL:https://sttimothynj.org/event/boy-scout-troop-107-6/
CATEGORIES:St Timothy's
END:VEVENT
BEGIN:VEVENT
DTSTART;TZID=America/New_York:20260225T183000
DTEND;TZID=America/New_York:20260225T193000
DTSTAMP:20260423T193131
CREATED:20260206T154232Z
LAST-MODIFIED:20260225T180512Z
UID:26259-1772044200-1772047800@sttimothynj.org
SUMMARY:Lenten Soup & Worship
DESCRIPTION:
URL:https://sttimothynj.org/event/lenten-soup-worship/
CATEGORIES:St Timothy's
END:VEVENT
BEGIN:VEVENT
DTSTART;VALUE=DATE:20260227
DTEND;VALUE=DATE:20260228
DTSTAMP:20260423T193131
CREATED:20251204T181305Z
LAST-MODIFIED:20260227T182341Z
UID:25901-1772150400-1772236799@sttimothynj.org
SUMMARY:OFFICE CLOSED
DESCRIPTION:
URL:https://sttimothynj.org/event/office-closed-23/
CATEGORIES:St Timothy's
END:VEVENT
END:VCALENDAR