BEGIN:VCALENDAR
VERSION:2.0
PRODID:-//St Timothy Lutheran Church - ECPv6.15.20//NONSGML v1.0//EN
CALSCALE:GREGORIAN
METHOD:PUBLISH
X-ORIGINAL-URL:https://sttimothynj.org
X-WR-CALDESC:Events for St Timothy Lutheran Church
REFRESH-INTERVAL;VALUE=DURATION:PT1H
X-Robots-Tag:noindex
X-PUBLISHED-TTL:PT1H
BEGIN:VTIMEZONE
TZID:America/New_York
BEGIN:DAYLIGHT
TZOFFSETFROM:-0500
TZOFFSETTO:-0400
TZNAME:EDT
DTSTART:20250309T070000
END:DAYLIGHT
BEGIN:STANDARD
TZOFFSETFROM:-0400
TZOFFSETTO:-0500
TZNAME:EST
DTSTART:20251102T060000
END:STANDARD
BEGIN:DAYLIGHT
TZOFFSETFROM:-0500
TZOFFSETTO:-0400
TZNAME:EDT
DTSTART:20260308T070000
END:DAYLIGHT
BEGIN:STANDARD
TZOFFSETFROM:-0400
TZOFFSETTO:-0500
TZNAME:EST
DTSTART:20261101T060000
END:STANDARD
BEGIN:DAYLIGHT
TZOFFSETFROM:-0500
TZOFFSETTO:-0400
TZNAME:EDT
DTSTART:20270314T070000
END:DAYLIGHT
BEGIN:STANDARD
TZOFFSETFROM:-0400
TZOFFSETTO:-0500
TZNAME:EST
DTSTART:20271107T060000
END:STANDARD
END:VTIMEZONE
BEGIN:VEVENT
DTSTART;TZID=America/New_York:20260301T090000
DTEND;TZID=America/New_York:20260301T093000
DTSTAMP:20260423T175607
CREATED:20260226T182155Z
LAST-MODIFIED:20260228T182316Z
UID:26409-1772355600-1772357400@sttimothynj.org
SUMMARY:Worship
DESCRIPTION:
URL:https://sttimothynj.org/event/worship-41/
CATEGORIES:St Timothy's
END:VEVENT
BEGIN:VEVENT
DTSTART;TZID=America/New_York:20260301T093500
DTEND;TZID=America/New_York:20260301T102000
DTSTAMP:20260423T175607
CREATED:20260227T182341Z
LAST-MODIFIED:20260228T182316Z
UID:26480-1772357700-1772360400@sttimothynj.org
SUMMARY:Christian Ed Programs
DESCRIPTION:Programs include: \nSunday School classes for grades Pre-K through 6\nConfirmation classes for grades 7-8\nAdult Discussion Forum\nAdult Christian Education classes
URL:https://sttimothynj.org/event/christian-ed-programs-16/
CATEGORIES:St Timothy's
END:VEVENT
BEGIN:VEVENT
DTSTART;TZID=America/New_York:20260301T103000
DTEND;TZID=America/New_York:20260301T113000
DTSTAMP:20260423T175607
CREATED:20260226T182155Z
LAST-MODIFIED:20260228T182316Z
UID:26410-1772361000-1772364600@sttimothynj.org
SUMMARY:Worship & livestream
DESCRIPTION:
URL:https://sttimothynj.org/event/worship-livestream-14/
CATEGORIES:St Timothy's
END:VEVENT
BEGIN:VEVENT
DTSTART;TZID=America/New_York:20260301T130000
DTEND;TZID=America/New_York:20260301T143000
DTSTAMP:20260423T175607
CREATED:20260206T154232Z
LAST-MODIFIED:20260301T183819Z
UID:26261-1772370000-1772375400@sttimothynj.org
SUMMARY:AA Keep It Real group
DESCRIPTION:
URL:https://sttimothynj.org/event/aa-keep-it-real-group-17/
CATEGORIES:St Timothy's
END:VEVENT
BEGIN:VEVENT
DTSTART;TZID=America/New_York:20260302T090000
DTEND;TZID=America/New_York:20260302T113000
DTSTAMP:20260423T175607
CREATED:20260226T182155Z
LAST-MODIFIED:20260301T183819Z
UID:26411-1772442000-1772451000@sttimothynj.org
SUMMARY:Heart n' Hands Mission
DESCRIPTION:Volunteers are available to help with donations.  Please pull around to the rear parking lot and enter through first set of doors (where the railings are!).  Go down the half-flight of stairs to the rooms on the right.\nThis is a collection site only.\nFor donation intake at other times\, call the office 973.694.8316 for arrangements.
URL:https://sttimothynj.org/event/heart-n-hands-mission-9/
CATEGORIES:St Timothy's
END:VEVENT
BEGIN:VEVENT
DTSTART;TZID=America/New_York:20260302T190000
DTEND;TZID=America/New_York:20260302T200000
DTSTAMP:20260423T175607
CREATED:20260206T154232Z
LAST-MODIFIED:20260302T183436Z
UID:26262-1772478000-1772481600@sttimothynj.org
SUMMARY:Boy Scout Troop 107
DESCRIPTION:
URL:https://sttimothynj.org/event/boy-scout-troop-107-7/
CATEGORIES:St Timothy's
END:VEVENT
BEGIN:VEVENT
DTSTART;TZID=America/New_York:20260303T130000
DTEND;TZID=America/New_York:20260303T140000
DTSTAMP:20260423T175607
CREATED:20260226T182155Z
LAST-MODIFIED:20260303T183500Z
UID:26412-1772542800-1772546400@sttimothynj.org
SUMMARY:Meditation with Movement
DESCRIPTION:
URL:https://sttimothynj.org/event/meditation-with-movement-10/
CATEGORIES:St Timothy's
END:VEVENT
BEGIN:VEVENT
DTSTART;TZID=America/New_York:20260303T140000
DTEND;TZID=America/New_York:20260303T150000
DTSTAMP:20260423T175607
CREATED:20260226T182155Z
LAST-MODIFIED:20260303T183500Z
UID:26413-1772546400-1772550000@sttimothynj.org
SUMMARY:Bible Study w/Communion
DESCRIPTION:
URL:https://sttimothynj.org/event/bible-study-w-communion-8/
CATEGORIES:St Timothy's
END:VEVENT
BEGIN:VEVENT
DTSTART;TZID=America/New_York:20260304T183000
DTEND;TZID=America/New_York:20260304T193000
DTSTAMP:20260423T175607
CREATED:20260206T154232Z
LAST-MODIFIED:20260304T183459Z
UID:26263-1772649000-1772652600@sttimothynj.org
SUMMARY:Lenten Soup & Worship
DESCRIPTION:
URL:https://sttimothynj.org/event/lenten-soup-worship-2/
CATEGORIES:St Timothy's
END:VEVENT
BEGIN:VEVENT
DTSTART;VALUE=DATE:20260306
DTEND;VALUE=DATE:20260307
DTSTAMP:20260423T175607
CREATED:20251204T181305Z
LAST-MODIFIED:20260306T190437Z
UID:25902-1772755200-1772841599@sttimothynj.org
SUMMARY:OFFICE CLOSED
DESCRIPTION:
URL:https://sttimothynj.org/event/office-closed-24/
CATEGORIES:St Timothy's
END:VEVENT
BEGIN:VEVENT
DTSTART;TZID=America/New_York:20260306T180000
DTEND;TZID=America/New_York:20260306T193000
DTSTAMP:20260423T175607
CREATED:20251021T151330Z
LAST-MODIFIED:20251028T154250Z
UID:25106-1772820000-1772825400@sttimothynj.org
SUMMARY:AA
DESCRIPTION:
URL:https://sttimothynj.org/event/aa-89/
CATEGORIES:St Timothy's
END:VEVENT
BEGIN:VEVENT
DTSTART;TZID=America/New_York:20260306T180000
DTEND;TZID=America/New_York:20260306T193000
DTSTAMP:20260423T175607
CREATED:20260206T154232Z
LAST-MODIFIED:20260306T190437Z
UID:26264-1772820000-1772825400@sttimothynj.org
SUMMARY:AA Wayne Valley group
DESCRIPTION:
URL:https://sttimothynj.org/event/aa-wayne-valley-group-18/
CATEGORIES:St Timothy's
END:VEVENT
BEGIN:VEVENT
DTSTART;TZID=America/New_York:20260307T093500
DTEND;TZID=America/New_York:20260307T102000
DTSTAMP:20260423T175607
CREATED:20260227T182341Z
LAST-MODIFIED:20260306T190437Z
UID:26485-1772876100-1772878800@sttimothynj.org
SUMMARY:Christian Ed Programs
DESCRIPTION:Programs include: \nSunday School classes for grades Pre-K through 6\nConfirmation classes for grades 7-8\nAdult Discussion Forum\nAdult Christian Education classes
URL:https://sttimothynj.org/event/christian-ed-programs-17/
CATEGORIES:St Timothy's
END:VEVENT
BEGIN:VEVENT
DTSTART;TZID=America/New_York:20260308T090000
DTEND;TZID=America/New_York:20260308T093000
DTSTAMP:20260423T175607
CREATED:20260226T182155Z
LAST-MODIFIED:20260307T190444Z
UID:26414-1772960400-1772962200@sttimothynj.org
SUMMARY:Worship
DESCRIPTION:
URL:https://sttimothynj.org/event/worship-42/
CATEGORIES:St Timothy's
END:VEVENT
BEGIN:VEVENT
DTSTART;TZID=America/New_York:20260308T093500
DTEND;TZID=America/New_York:20260308T102000
DTSTAMP:20260423T175607
CREATED:20260227T182341Z
LAST-MODIFIED:20260307T190444Z
UID:26487-1772962500-1772965200@sttimothynj.org
SUMMARY:Christian Ed Programs
DESCRIPTION:Programs include: \nSunday School classes for grades Pre-K through 6\nConfirmation classes for grades 7-8\nAdult Discussion Forum\nAdult Christian Education classes
URL:https://sttimothynj.org/event/christian-ed-programs-18/
CATEGORIES:St Timothy's
END:VEVENT
BEGIN:VEVENT
DTSTART;TZID=America/New_York:20260308T103000
DTEND;TZID=America/New_York:20260308T113000
DTSTAMP:20260423T175607
CREATED:20260226T182155Z
LAST-MODIFIED:20260307T190444Z
UID:26415-1772965800-1772969400@sttimothynj.org
SUMMARY:Worship & livestream
DESCRIPTION:
URL:https://sttimothynj.org/event/worship-livestream-15/
CATEGORIES:St Timothy's
END:VEVENT
BEGIN:VEVENT
DTSTART;TZID=America/New_York:20260308T130000
DTEND;TZID=America/New_York:20260308T143000
DTSTAMP:20260423T175607
CREATED:20260206T154232Z
LAST-MODIFIED:20260307T190444Z
UID:26265-1772974800-1772980200@sttimothynj.org
SUMMARY:AA Keep It Real group
DESCRIPTION:
URL:https://sttimothynj.org/event/aa-keep-it-real-group-18/
CATEGORIES:St Timothy's
END:VEVENT
BEGIN:VEVENT
DTSTART;VALUE=DATE:20260309
DTEND;VALUE=DATE:20260310
DTSTAMP:20260423T175607
CREATED:20260227T182341Z
LAST-MODIFIED:20260309T192005Z
UID:26490-1773014400-1773100799@sttimothynj.org
SUMMARY:DEADLINE: TIPS newsletter contributions
DESCRIPTION:
URL:https://sttimothynj.org/event/deadline-tips-newsletter-contributions/
CATEGORIES:St Timothy's
END:VEVENT
BEGIN:VEVENT
DTSTART;TZID=America/New_York:20260309T090000
DTEND;TZID=America/New_York:20260309T113000
DTSTAMP:20260423T175607
CREATED:20260226T182155Z
LAST-MODIFIED:20260308T190921Z
UID:26416-1773046800-1773055800@sttimothynj.org
SUMMARY:Heart n' Hands Mission
DESCRIPTION:Volunteers are available to help with donations.  Please pull around to the rear parking lot and enter through first set of doors (where the railings are!).  Go down the half-flight of stairs to the rooms on the right.\nThis is a collection site only.\nFor donation intake at other times\, call the office 973.694.8316 for arrangements.
URL:https://sttimothynj.org/event/heart-n-hands-mission-10/
CATEGORIES:St Timothy's
END:VEVENT
BEGIN:VEVENT
DTSTART;TZID=America/New_York:20260309T190000
DTEND;TZID=America/New_York:20260309T200000
DTSTAMP:20260423T175607
CREATED:20260206T154232Z
LAST-MODIFIED:20260309T192005Z
UID:26266-1773082800-1773086400@sttimothynj.org
SUMMARY:Boy Scout Troop 107
DESCRIPTION:
URL:https://sttimothynj.org/event/boy-scout-troop-107-8/
CATEGORIES:St Timothy's
END:VEVENT
BEGIN:VEVENT
DTSTART;TZID=America/New_York:20260310T130000
DTEND;TZID=America/New_York:20260310T140000
DTSTAMP:20260423T175607
CREATED:20260226T182155Z
LAST-MODIFIED:20260309T192005Z
UID:26417-1773147600-1773151200@sttimothynj.org
SUMMARY:Meditation with Movement
DESCRIPTION:
URL:https://sttimothynj.org/event/meditation-with-movement-11/
CATEGORIES:St Timothy's
END:VEVENT
BEGIN:VEVENT
DTSTART;TZID=America/New_York:20260310T140000
DTEND;TZID=America/New_York:20260310T150000
DTSTAMP:20260423T175607
CREATED:20260226T182155Z
LAST-MODIFIED:20260309T192005Z
UID:26418-1773151200-1773154800@sttimothynj.org
SUMMARY:Bible Study w/Communion
DESCRIPTION:
URL:https://sttimothynj.org/event/bible-study-w-communion-9/
CATEGORIES:St Timothy's
END:VEVENT
BEGIN:VEVENT
DTSTART;TZID=America/New_York:20260311T093000
DTEND;TZID=America/New_York:20260311T110000
DTSTAMP:20260423T175607
CREATED:20251204T181305Z
LAST-MODIFIED:20260310T192150Z
UID:25903-1773221400-1773226800@sttimothynj.org
SUMMARY:Angels Circle
DESCRIPTION:
URL:https://sttimothynj.org/event/angels-circle-14/
CATEGORIES:St Timothy's
END:VEVENT
BEGIN:VEVENT
DTSTART;TZID=America/New_York:20260311T103000
DTEND;TZID=America/New_York:20260311T120000
DTSTAMP:20260423T175607
CREATED:20251204T181305Z
LAST-MODIFIED:20260310T192150Z
UID:25904-1773225000-1773230400@sttimothynj.org
SUMMARY:Knitters & Crocheters
DESCRIPTION:
URL:https://sttimothynj.org/event/knitters-crocheters-4/
CATEGORIES:St Timothy's
END:VEVENT
BEGIN:VEVENT
DTSTART;TZID=America/New_York:20260311T183000
DTEND;TZID=America/New_York:20260311T193000
DTSTAMP:20260423T175607
CREATED:20260206T154232Z
LAST-MODIFIED:20260311T193456Z
UID:26267-1773253800-1773257400@sttimothynj.org
SUMMARY:Lenten Soup & Worship
DESCRIPTION:
URL:https://sttimothynj.org/event/lenten-soup-worship-3/
CATEGORIES:St Timothy's
END:VEVENT
BEGIN:VEVENT
DTSTART;VALUE=DATE:20260313
DTEND;VALUE=DATE:20260314
DTSTAMP:20260423T175607
CREATED:20251204T181305Z
LAST-MODIFIED:20260313T193437Z
UID:25905-1773360000-1773446399@sttimothynj.org
SUMMARY:OFFICE CLOSED
DESCRIPTION:
URL:https://sttimothynj.org/event/office-closed-25/
CATEGORIES:St Timothy's
END:VEVENT
BEGIN:VEVENT
DTSTART;TZID=America/New_York:20260313T180000
DTEND;TZID=America/New_York:20260313T193000
DTSTAMP:20260423T175607
CREATED:20251021T151330Z
LAST-MODIFIED:20251028T154250Z
UID:25108-1773424800-1773430200@sttimothynj.org
SUMMARY:AA
DESCRIPTION:
URL:https://sttimothynj.org/event/aa-90/
CATEGORIES:St Timothy's
END:VEVENT
BEGIN:VEVENT
DTSTART;TZID=America/New_York:20260313T180000
DTEND;TZID=America/New_York:20260313T193000
DTSTAMP:20260423T175607
CREATED:20260206T154232Z
LAST-MODIFIED:20260313T193437Z
UID:26268-1773424800-1773430200@sttimothynj.org
SUMMARY:AA Wayne Valley group
DESCRIPTION:
URL:https://sttimothynj.org/event/aa-wayne-valley-group-19/
CATEGORIES:St Timothy's
END:VEVENT
BEGIN:VEVENT
DTSTART;TZID=America/New_York:20260313T190000
DTEND;TZID=America/New_York:20260313T210000
DTSTAMP:20260423T175607
CREATED:20251030T154232Z
LAST-MODIFIED:20260313T193437Z
UID:25668-1773428400-1773435600@sttimothynj.org
SUMMARY:Line Dancing
DESCRIPTION:
URL:https://sttimothynj.org/event/line-dancing-5/
CATEGORIES:St Timothy's
END:VEVENT
BEGIN:VEVENT
DTSTART;TZID=America/New_York:20260314T093500
DTEND;TZID=America/New_York:20260314T102000
DTSTAMP:20260423T175607
CREATED:20260227T182341Z
LAST-MODIFIED:20260313T193437Z
UID:26493-1773480900-1773483600@sttimothynj.org
SUMMARY:Christian Ed Programs
DESCRIPTION:Programs include: \nSunday School classes for grades Pre-K through 6\nConfirmation classes for grades 7-8\nAdult Discussion Forum\nAdult Christian Education classes
URL:https://sttimothynj.org/event/christian-ed-programs-19/
CATEGORIES:St Timothy's
END:VEVENT
END:VCALENDAR