BEGIN:VCALENDAR
VERSION:2.0
PRODID:-//St Timothy Lutheran Church - ECPv6.15.20//NONSGML v1.0//EN
CALSCALE:GREGORIAN
METHOD:PUBLISH
X-WR-CALNAME:St Timothy Lutheran Church
X-ORIGINAL-URL:https://sttimothynj.org
X-WR-CALDESC:Events for St Timothy Lutheran Church
REFRESH-INTERVAL;VALUE=DURATION:PT1H
X-Robots-Tag:noindex
X-PUBLISHED-TTL:PT1H
BEGIN:VTIMEZONE
TZID:America/New_York
BEGIN:DAYLIGHT
TZOFFSETFROM:-0500
TZOFFSETTO:-0400
TZNAME:EDT
DTSTART:20260308T070000
END:DAYLIGHT
BEGIN:STANDARD
TZOFFSETFROM:-0400
TZOFFSETTO:-0500
TZNAME:EST
DTSTART:20261101T060000
END:STANDARD
BEGIN:DAYLIGHT
TZOFFSETFROM:-0500
TZOFFSETTO:-0400
TZNAME:EDT
DTSTART:20270314T070000
END:DAYLIGHT
BEGIN:STANDARD
TZOFFSETFROM:-0400
TZOFFSETTO:-0500
TZNAME:EST
DTSTART:20271107T060000
END:STANDARD
BEGIN:DAYLIGHT
TZOFFSETFROM:-0500
TZOFFSETTO:-0400
TZNAME:EDT
DTSTART:20280312T070000
END:DAYLIGHT
BEGIN:STANDARD
TZOFFSETFROM:-0400
TZOFFSETTO:-0500
TZNAME:EST
DTSTART:20281105T060000
END:STANDARD
END:VTIMEZONE
BEGIN:VEVENT
DTSTART;VALUE=DATE:20270101
DTEND;VALUE=DATE:20270102
DTSTAMP:20260424T012754
CREATED:20251204T181306Z
LAST-MODIFIED:20260423T213927Z
UID:25951-1798761600-1798847999@sttimothynj.org
SUMMARY:OFFICE CLOSED
DESCRIPTION:
URL:https://sttimothynj.org/event/office-closed-67/
CATEGORIES:St Timothy's
END:VEVENT
BEGIN:VEVENT
DTSTART;TZID=America/New_York:20270101T180000
DTEND;TZID=America/New_York:20270101T193000
DTSTAMP:20260424T012754
CREATED:20251021T151332Z
LAST-MODIFIED:20251028T154251Z
UID:25192-1798826400-1798831800@sttimothynj.org
SUMMARY:AA
DESCRIPTION:
URL:https://sttimothynj.org/event/aa-132/
CATEGORIES:St Timothy's
END:VEVENT
BEGIN:VEVENT
DTSTART;VALUE=DATE:20270108
DTEND;VALUE=DATE:20270109
DTSTAMP:20260424T012754
CREATED:20251204T181306Z
LAST-MODIFIED:20260423T213927Z
UID:25952-1799366400-1799452799@sttimothynj.org
SUMMARY:OFFICE CLOSED
DESCRIPTION:
URL:https://sttimothynj.org/event/office-closed-68/
CATEGORIES:St Timothy's
END:VEVENT
BEGIN:VEVENT
DTSTART;TZID=America/New_York:20270108T180000
DTEND;TZID=America/New_York:20270108T193000
DTSTAMP:20260424T012754
CREATED:20251021T151332Z
LAST-MODIFIED:20251028T154251Z
UID:25194-1799431200-1799436600@sttimothynj.org
SUMMARY:AA
DESCRIPTION:
URL:https://sttimothynj.org/event/aa-133/
CATEGORIES:St Timothy's
END:VEVENT
BEGIN:VEVENT
DTSTART;TZID=America/New_York:20270109T103000
DTEND;TZID=America/New_York:20270109T113000
DTSTAMP:20260424T012754
CREATED:20251030T154232Z
LAST-MODIFIED:20260423T213927Z
UID:25694-1799490600-1799494200@sttimothynj.org
SUMMARY:Bookworks Book Club
DESCRIPTION:
URL:https://sttimothynj.org/event/bookworks-book-club-15/
CATEGORIES:St Timothy's
END:VEVENT
BEGIN:VEVENT
DTSTART;VALUE=DATE:20270111
DTEND;VALUE=DATE:20270112
DTSTAMP:20260424T012754
CREATED:20260227T182344Z
LAST-MODIFIED:20260423T213927Z
UID:26585-1799625600-1799711999@sttimothynj.org
SUMMARY:DEADLINE: TIPS newsletter contributions
DESCRIPTION:
URL:https://sttimothynj.org/event/deadline-tips-newsletter-contributions-11/
CATEGORIES:St Timothy's
END:VEVENT
BEGIN:VEVENT
DTSTART;VALUE=DATE:20270115
DTEND;VALUE=DATE:20270116
DTSTAMP:20260424T012754
CREATED:20251204T181306Z
LAST-MODIFIED:20260423T213927Z
UID:25953-1799971200-1800057599@sttimothynj.org
SUMMARY:OFFICE CLOSED
DESCRIPTION:
URL:https://sttimothynj.org/event/office-closed-69/
CATEGORIES:St Timothy's
END:VEVENT
BEGIN:VEVENT
DTSTART;TZID=America/New_York:20270115T180000
DTEND;TZID=America/New_York:20270115T193000
DTSTAMP:20260424T012754
CREATED:20251021T151332Z
LAST-MODIFIED:20251028T154251Z
UID:25196-1800036000-1800041400@sttimothynj.org
SUMMARY:AA
DESCRIPTION:
URL:https://sttimothynj.org/event/aa-134/
CATEGORIES:St Timothy's
END:VEVENT
BEGIN:VEVENT
DTSTART;TZID=America/New_York:20270121T103000
DTEND;TZID=America/New_York:20270121T113000
DTSTAMP:20260424T012754
CREATED:20251030T154232Z
LAST-MODIFIED:20260423T213927Z
UID:25695-1800527400-1800531000@sttimothynj.org
SUMMARY:Adult Book Group
DESCRIPTION:
URL:https://sttimothynj.org/event/adult-book-group-23/
CATEGORIES:St Timothy's
END:VEVENT
BEGIN:VEVENT
DTSTART;VALUE=DATE:20270122
DTEND;VALUE=DATE:20270123
DTSTAMP:20260424T012754
CREATED:20251204T181306Z
LAST-MODIFIED:20260423T213927Z
UID:25954-1800576000-1800662399@sttimothynj.org
SUMMARY:OFFICE CLOSED
DESCRIPTION:
URL:https://sttimothynj.org/event/office-closed-70/
CATEGORIES:St Timothy's
END:VEVENT
BEGIN:VEVENT
DTSTART;TZID=America/New_York:20270122T180000
DTEND;TZID=America/New_York:20270122T193000
DTSTAMP:20260424T012754
CREATED:20251021T151332Z
LAST-MODIFIED:20251028T154251Z
UID:25198-1800640800-1800646200@sttimothynj.org
SUMMARY:AA
DESCRIPTION:
URL:https://sttimothynj.org/event/aa-135/
CATEGORIES:St Timothy's
END:VEVENT
BEGIN:VEVENT
DTSTART;VALUE=DATE:20270129
DTEND;VALUE=DATE:20270130
DTSTAMP:20260424T012754
CREATED:20251204T181306Z
LAST-MODIFIED:20260423T213927Z
UID:25955-1801180800-1801267199@sttimothynj.org
SUMMARY:OFFICE CLOSED
DESCRIPTION:
URL:https://sttimothynj.org/event/office-closed-71/
CATEGORIES:St Timothy's
END:VEVENT
BEGIN:VEVENT
DTSTART;TZID=America/New_York:20270129T180000
DTEND;TZID=America/New_York:20270129T193000
DTSTAMP:20260424T012754
CREATED:20251021T151332Z
LAST-MODIFIED:20251028T154251Z
UID:25200-1801245600-1801251000@sttimothynj.org
SUMMARY:AA
DESCRIPTION:
URL:https://sttimothynj.org/event/aa-136/
CATEGORIES:St Timothy's
END:VEVENT
END:VCALENDAR