BEGIN:VCALENDAR
VERSION:2.0
PRODID:-//St Timothy Lutheran Church - ECPv6.15.20//NONSGML v1.0//EN
CALSCALE:GREGORIAN
METHOD:PUBLISH
X-WR-CALNAME:St Timothy Lutheran Church
X-ORIGINAL-URL:https://sttimothynj.org
X-WR-CALDESC:Events for St Timothy Lutheran Church
REFRESH-INTERVAL;VALUE=DURATION:PT1H
X-Robots-Tag:noindex
X-PUBLISHED-TTL:PT1H
BEGIN:VTIMEZONE
TZID:America/New_York
BEGIN:DAYLIGHT
TZOFFSETFROM:-0500
TZOFFSETTO:-0400
TZNAME:EDT
DTSTART:20270314T070000
END:DAYLIGHT
BEGIN:STANDARD
TZOFFSETFROM:-0400
TZOFFSETTO:-0500
TZNAME:EST
DTSTART:20271107T060000
END:STANDARD
BEGIN:DAYLIGHT
TZOFFSETFROM:-0500
TZOFFSETTO:-0400
TZNAME:EDT
DTSTART:20280312T070000
END:DAYLIGHT
BEGIN:STANDARD
TZOFFSETFROM:-0400
TZOFFSETTO:-0500
TZNAME:EST
DTSTART:20281105T060000
END:STANDARD
BEGIN:DAYLIGHT
TZOFFSETFROM:-0500
TZOFFSETTO:-0400
TZNAME:EDT
DTSTART:20290311T070000
END:DAYLIGHT
BEGIN:STANDARD
TZOFFSETFROM:-0400
TZOFFSETTO:-0500
TZNAME:EST
DTSTART:20291104T060000
END:STANDARD
END:VTIMEZONE
BEGIN:VEVENT
DTSTART;VALUE=DATE:20280204
DTEND;VALUE=DATE:20280205
DTSTAMP:20260424T203301
CREATED:20260204T151952Z
LAST-MODIFIED:20260424T213631Z
UID:26243-1833235200-1833321599@sttimothynj.org
SUMMARY:OFFICE CLOSED
DESCRIPTION:
URL:https://sttimothynj.org/event/office-closed-124/
CATEGORIES:St Timothy's
END:VEVENT
BEGIN:VEVENT
DTSTART;VALUE=DATE:20280211
DTEND;VALUE=DATE:20280212
DTSTAMP:20260424T203301
CREATED:20260211T162041Z
LAST-MODIFIED:20260424T213631Z
UID:26389-1833840000-1833926399@sttimothynj.org
SUMMARY:OFFICE CLOSED
DESCRIPTION:
URL:https://sttimothynj.org/event/office-closed-125/
CATEGORIES:St Timothy's
END:VEVENT
BEGIN:VEVENT
DTSTART;VALUE=DATE:20280218
DTEND;VALUE=DATE:20280219
DTSTAMP:20260424T203301
CREATED:20260218T170517Z
LAST-MODIFIED:20260424T213631Z
UID:26398-1834444800-1834531199@sttimothynj.org
SUMMARY:OFFICE CLOSED
DESCRIPTION:
URL:https://sttimothynj.org/event/office-closed-126/
CATEGORIES:St Timothy's
END:VEVENT
BEGIN:VEVENT
DTSTART;VALUE=DATE:20280225
DTEND;VALUE=DATE:20280226
DTSTAMP:20260424T203301
CREATED:20260225T180514Z
LAST-MODIFIED:20260424T213631Z
UID:26407-1835049600-1835135999@sttimothynj.org
SUMMARY:OFFICE CLOSED
DESCRIPTION:
URL:https://sttimothynj.org/event/office-closed-127/
CATEGORIES:St Timothy's
END:VEVENT
END:VCALENDAR