BEGIN:VCALENDAR
VERSION:2.0
PRODID:-//St Timothy Lutheran Church - ECPv6.15.20//NONSGML v1.0//EN
CALSCALE:GREGORIAN
METHOD:PUBLISH
X-ORIGINAL-URL:https://sttimothynj.org
X-WR-CALDESC:Events for St Timothy Lutheran Church
REFRESH-INTERVAL;VALUE=DURATION:PT1H
X-Robots-Tag:noindex
X-PUBLISHED-TTL:PT1H
BEGIN:VTIMEZONE
TZID:America/New_York
BEGIN:DAYLIGHT
TZOFFSETFROM:-0500
TZOFFSETTO:-0400
TZNAME:EDT
DTSTART:20250309T070000
END:DAYLIGHT
BEGIN:STANDARD
TZOFFSETFROM:-0400
TZOFFSETTO:-0500
TZNAME:EST
DTSTART:20251102T060000
END:STANDARD
BEGIN:DAYLIGHT
TZOFFSETFROM:-0500
TZOFFSETTO:-0400
TZNAME:EDT
DTSTART:20260308T070000
END:DAYLIGHT
BEGIN:STANDARD
TZOFFSETFROM:-0400
TZOFFSETTO:-0500
TZNAME:EST
DTSTART:20261101T060000
END:STANDARD
BEGIN:DAYLIGHT
TZOFFSETFROM:-0500
TZOFFSETTO:-0400
TZNAME:EDT
DTSTART:20270314T070000
END:DAYLIGHT
BEGIN:STANDARD
TZOFFSETFROM:-0400
TZOFFSETTO:-0500
TZNAME:EST
DTSTART:20271107T060000
END:STANDARD
END:VTIMEZONE
BEGIN:VEVENT
DTSTART;VALUE=DATE:20260424
DTEND;VALUE=DATE:20260425
DTSTAMP:20260423T123244
CREATED:20251204T181305Z
LAST-MODIFIED:20260422T213713Z
UID:25913-1776988800-1777075199@sttimothynj.org
SUMMARY:OFFICE CLOSED
DESCRIPTION:
URL:https://sttimothynj.org/event/office-closed-31/
CATEGORIES:St Timothy's
END:VEVENT
BEGIN:VEVENT
DTSTART;TZID=America/New_York:20260424T180000
DTEND;TZID=America/New_York:20260424T193000
DTSTAMP:20260423T123244
CREATED:20260206T154233Z
LAST-MODIFIED:20260422T213713Z
UID:26288-1777053600-1777059000@sttimothynj.org
SUMMARY:AA Wayne Valley group
DESCRIPTION:
URL:https://sttimothynj.org/event/aa-wayne-valley-group-25/
CATEGORIES:St Timothy's
END:VEVENT
BEGIN:VEVENT
DTSTART;TZID=America/New_York:20260425T093500
DTEND;TZID=America/New_York:20260425T102000
DTSTAMP:20260423T123244
CREATED:20260227T182343Z
LAST-MODIFIED:20260422T213713Z
UID:26544-1777109700-1777112400@sttimothynj.org
SUMMARY:Christian Ed Programs
DESCRIPTION:Programs include: \nSunday School classes for grades Pre-K through 6\nConfirmation classes for grades 7-8\nAdult Discussion Forum\nAdult Christian Education classes
URL:https://sttimothynj.org/event/christian-ed-programs-26/
CATEGORIES:St Timothy's
END:VEVENT
BEGIN:VEVENT
DTSTART;TZID=America/New_York:20260426T090000
DTEND;TZID=America/New_York:20260426T093000
DTSTAMP:20260423T123244
CREATED:20260226T182156Z
LAST-MODIFIED:20260422T213713Z
UID:26452-1777194000-1777195800@sttimothynj.org
SUMMARY:Worship
DESCRIPTION:
URL:https://sttimothynj.org/event/worship-47/
CATEGORIES:St Timothy's
END:VEVENT
BEGIN:VEVENT
DTSTART;TZID=America/New_York:20260426T093500
DTEND;TZID=America/New_York:20260426T102000
DTSTAMP:20260423T123244
CREATED:20260227T182343Z
LAST-MODIFIED:20260422T213713Z
UID:26546-1777196100-1777198800@sttimothynj.org
SUMMARY:Christian Ed Programs
DESCRIPTION:Programs include: \nSunday School classes for grades Pre-K through 6\nConfirmation classes for grades 7-8\nAdult Discussion Forum\nAdult Christian Education classes
URL:https://sttimothynj.org/event/christian-ed-programs-27/
CATEGORIES:St Timothy's
END:VEVENT
BEGIN:VEVENT
DTSTART;TZID=America/New_York:20260426T103000
DTEND;TZID=America/New_York:20260426T113000
DTSTAMP:20260423T123244
CREATED:20260226T182156Z
LAST-MODIFIED:20260422T213713Z
UID:26453-1777199400-1777203000@sttimothynj.org
SUMMARY:Worship & livestream
DESCRIPTION:
URL:https://sttimothynj.org/event/worship-livestream-20/
CATEGORIES:St Timothy's
END:VEVENT
BEGIN:VEVENT
DTSTART;TZID=America/New_York:20260426T130000
DTEND;TZID=America/New_York:20260426T143000
DTSTAMP:20260423T123244
CREATED:20260206T154233Z
LAST-MODIFIED:20260422T213713Z
UID:26289-1777208400-1777213800@sttimothynj.org
SUMMARY:AA Keep It Real group
DESCRIPTION:
URL:https://sttimothynj.org/event/aa-keep-it-real-group-25/
CATEGORIES:St Timothy's
END:VEVENT
BEGIN:VEVENT
DTSTART;TZID=America/New_York:20260427T090000
DTEND;TZID=America/New_York:20260427T113000
DTSTAMP:20260423T123244
CREATED:20260226T182156Z
LAST-MODIFIED:20260422T213713Z
UID:26454-1777280400-1777289400@sttimothynj.org
SUMMARY:Heart n' Hands Mission
DESCRIPTION:Volunteers are available to help with donations.  Please pull around to the rear parking lot and enter through first set of doors (where the railings are!).  Go down the half-flight of stairs to the rooms on the right.\nThis is a collection site only.\nFor donation intake at other times\, call the office 973.694.8316 for arrangements.
URL:https://sttimothynj.org/event/heart-n-hands-mission-17/
CATEGORIES:St Timothy's
END:VEVENT
BEGIN:VEVENT
DTSTART;TZID=America/New_York:20260427T190000
DTEND;TZID=America/New_York:20260427T200000
DTSTAMP:20260423T123244
CREATED:20260206T154233Z
LAST-MODIFIED:20260422T213713Z
UID:26290-1777316400-1777320000@sttimothynj.org
SUMMARY:Boy Scout Troop 107
DESCRIPTION:
URL:https://sttimothynj.org/event/boy-scout-troop-107-15/
CATEGORIES:St Timothy's
END:VEVENT
BEGIN:VEVENT
DTSTART;TZID=America/New_York:20260428T130000
DTEND;TZID=America/New_York:20260428T140000
DTSTAMP:20260423T123244
CREATED:20260226T182156Z
LAST-MODIFIED:20260422T213713Z
UID:26455-1777381200-1777384800@sttimothynj.org
SUMMARY:Meditation with Movement
DESCRIPTION:
URL:https://sttimothynj.org/event/meditation-with-movement-18/
CATEGORIES:St Timothy's
END:VEVENT
BEGIN:VEVENT
DTSTART;TZID=America/New_York:20260428T140000
DTEND;TZID=America/New_York:20260428T150000
DTSTAMP:20260423T123244
CREATED:20260226T182156Z
LAST-MODIFIED:20260422T213713Z
UID:26456-1777384800-1777388400@sttimothynj.org
SUMMARY:Bible Study w/Communion
DESCRIPTION:
URL:https://sttimothynj.org/event/bible-study-w-communion-16/
CATEGORIES:St Timothy's
END:VEVENT
END:VCALENDAR