BEGIN:VCALENDAR
VERSION:2.0
PRODID:-//St Timothy Lutheran Church - ECPv6.15.20//NONSGML v1.0//EN
CALSCALE:GREGORIAN
METHOD:PUBLISH
X-WR-CALNAME:St Timothy Lutheran Church
X-ORIGINAL-URL:https://sttimothynj.org
X-WR-CALDESC:Events for St Timothy Lutheran Church
REFRESH-INTERVAL;VALUE=DURATION:PT1H
X-Robots-Tag:noindex
X-PUBLISHED-TTL:PT1H
BEGIN:VTIMEZONE
TZID:America/New_York
BEGIN:DAYLIGHT
TZOFFSETFROM:-0500
TZOFFSETTO:-0400
TZNAME:EDT
DTSTART:20240310T070000
END:DAYLIGHT
BEGIN:STANDARD
TZOFFSETFROM:-0400
TZOFFSETTO:-0500
TZNAME:EST
DTSTART:20241103T060000
END:STANDARD
BEGIN:DAYLIGHT
TZOFFSETFROM:-0500
TZOFFSETTO:-0400
TZNAME:EDT
DTSTART:20250309T070000
END:DAYLIGHT
BEGIN:STANDARD
TZOFFSETFROM:-0400
TZOFFSETTO:-0500
TZNAME:EST
DTSTART:20251102T060000
END:STANDARD
BEGIN:DAYLIGHT
TZOFFSETFROM:-0500
TZOFFSETTO:-0400
TZNAME:EDT
DTSTART:20260308T070000
END:DAYLIGHT
BEGIN:STANDARD
TZOFFSETFROM:-0400
TZOFFSETTO:-0500
TZNAME:EST
DTSTART:20261101T060000
END:STANDARD
END:VTIMEZONE
BEGIN:VEVENT
DTSTART;TZID=America/New_York:20250821T190000
DTEND;TZID=America/New_York:20250821T210000
DTSTAMP:20260425T094751
CREATED:20250805T035105Z
LAST-MODIFIED:20250805T035105Z
UID:24719-1755802800-1755810000@sttimothynj.org
SUMMARY:Garage Sale In-take
DESCRIPTION:
URL:https://sttimothynj.org/event/garage-sale-in-take-5/
CATEGORIES:St Timothy's
END:VEVENT
BEGIN:VEVENT
DTSTART;TZID=America/New_York:20250822T180000
DTEND;TZID=America/New_York:20250822T193000
DTSTAMP:20260425T094751
CREATED:20250805T035133Z
LAST-MODIFIED:20250805T035133Z
UID:24721-1755885600-1755891000@sttimothynj.org
SUMMARY:AA
DESCRIPTION:
URL:https://sttimothynj.org/event/aa-52/
CATEGORIES:St Timothy's
END:VEVENT
BEGIN:VEVENT
DTSTART;TZID=America/New_York:20250824T093000
DTEND;TZID=America/New_York:20250824T103000
DTSTAMP:20260425T094751
CREATED:20250805T035232Z
LAST-MODIFIED:20250805T035232Z
UID:24723-1756027800-1756031400@sttimothynj.org
SUMMARY:Worship with bible study following
DESCRIPTION:
URL:https://sttimothynj.org/event/worship-with-bible-study-following/
CATEGORIES:St Timothy's
END:VEVENT
BEGIN:VEVENT
DTSTART;TZID=America/New_York:20250824T130000
DTEND;TZID=America/New_York:20250824T143000
DTSTAMP:20260425T094751
CREATED:20250805T035300Z
LAST-MODIFIED:20250805T035300Z
UID:24725-1756040400-1756045800@sttimothynj.org
SUMMARY:AA
DESCRIPTION:
URL:https://sttimothynj.org/event/aa-53/
CATEGORIES:St Timothy's
END:VEVENT
BEGIN:VEVENT
DTSTART;TZID=America/New_York:20250825T090000
DTEND;TZID=America/New_York:20250825T113000
DTSTAMP:20260425T094751
CREATED:20250805T035344Z
LAST-MODIFIED:20250805T035344Z
UID:24727-1756112400-1756121400@sttimothynj.org
SUMMARY:Heart ‘n Hands
DESCRIPTION:
URL:https://sttimothynj.org/event/heart-n-hands-24/
CATEGORIES:St Timothy's
END:VEVENT
BEGIN:VEVENT
DTSTART;TZID=America/New_York:20250826T090000
DTEND;TZID=America/New_York:20250826T113000
DTSTAMP:20260425T094751
CREATED:20250805T035427Z
LAST-MODIFIED:20250805T035427Z
UID:24729-1756198800-1756207800@sttimothynj.org
SUMMARY:Garage Sale In-take
DESCRIPTION:
URL:https://sttimothynj.org/event/garage-sale-in-take-6/
CATEGORIES:St Timothy's
END:VEVENT
BEGIN:VEVENT
DTSTART;TZID=America/New_York:20250826T130000
DTEND;TZID=America/New_York:20250826T140000
DTSTAMP:20260425T094751
CREATED:20250805T035502Z
LAST-MODIFIED:20250805T035502Z
UID:24731-1756213200-1756216800@sttimothynj.org
SUMMARY:Meditation w/Movement
DESCRIPTION:
URL:https://sttimothynj.org/event/meditation-w-movement-26/
CATEGORIES:St Timothy's
END:VEVENT
BEGIN:VEVENT
DTSTART;TZID=America/New_York:20250826T140000
DTEND;TZID=America/New_York:20250826T150000
DTSTAMP:20260425T094751
CREATED:20250805T035538Z
LAST-MODIFIED:20250805T035538Z
UID:24733-1756216800-1756220400@sttimothynj.org
SUMMARY:Bible Study w/ Holy Communion
DESCRIPTION:
URL:https://sttimothynj.org/event/bible-study-w-holy-communion-25/
CATEGORIES:St Timothy's
END:VEVENT
BEGIN:VEVENT
DTSTART;TZID=America/New_York:20250828T190000
DTEND;TZID=America/New_York:20250828T210000
DTSTAMP:20260425T094751
CREATED:20250805T035610Z
LAST-MODIFIED:20250805T035610Z
UID:24735-1756407600-1756414800@sttimothynj.org
SUMMARY:Garage Sale In-take
DESCRIPTION:
URL:https://sttimothynj.org/event/garage-sale-in-take-7/
CATEGORIES:St Timothy's
END:VEVENT
BEGIN:VEVENT
DTSTART;TZID=America/New_York:20250829T180000
DTEND;TZID=America/New_York:20250829T193000
DTSTAMP:20260425T094751
CREATED:20250805T035655Z
LAST-MODIFIED:20250805T035655Z
UID:24737-1756490400-1756495800@sttimothynj.org
SUMMARY:AA
DESCRIPTION:
URL:https://sttimothynj.org/event/aa-54/
CATEGORIES:St Timothy's
END:VEVENT
BEGIN:VEVENT
DTSTART;TZID=America/New_York:20250831T093000
DTEND;TZID=America/New_York:20250831T103000
DTSTAMP:20260425T094751
CREATED:20250805T035732Z
LAST-MODIFIED:20250805T035732Z
UID:24739-1756632600-1756636200@sttimothynj.org
SUMMARY:Worship
DESCRIPTION:
URL:https://sttimothynj.org/event/worship-19/
CATEGORIES:St Timothy's
END:VEVENT
BEGIN:VEVENT
DTSTART;TZID=America/New_York:20250831T130000
DTEND;TZID=America/New_York:20250831T143000
DTSTAMP:20260425T094751
CREATED:20250805T035804Z
LAST-MODIFIED:20250805T035804Z
UID:24741-1756645200-1756650600@sttimothynj.org
SUMMARY:AA
DESCRIPTION:
URL:https://sttimothynj.org/event/aa-55/
CATEGORIES:St Timothy's
END:VEVENT
BEGIN:VEVENT
DTSTART;TZID=America/New_York:20250902T130000
DTEND;TZID=America/New_York:20250902T140000
DTSTAMP:20260425T094751
CREATED:20250831T015341Z
LAST-MODIFIED:20250831T015341Z
UID:24778-1756818000-1756821600@sttimothynj.org
SUMMARY:Meditation w/Movement
DESCRIPTION:
URL:https://sttimothynj.org/event/meditation-w-movement-27/
CATEGORIES:St Timothy's
END:VEVENT
BEGIN:VEVENT
DTSTART;TZID=America/New_York:20250902T140000
DTEND;TZID=America/New_York:20250902T150000
DTSTAMP:20260425T094751
CREATED:20250831T015416Z
LAST-MODIFIED:20250831T015416Z
UID:24780-1756821600-1756825200@sttimothynj.org
SUMMARY:Bible Study w/Holy Communion
DESCRIPTION:
URL:https://sttimothynj.org/event/bible-study-w-holy-communion-26/
CATEGORIES:St Timothy's
END:VEVENT
BEGIN:VEVENT
DTSTART;TZID=America/New_York:20250903T190000
DTEND;TZID=America/New_York:20250903T200000
DTSTAMP:20260425T094751
CREATED:20250831T015454Z
LAST-MODIFIED:20250831T015454Z
UID:24782-1756926000-1756929600@sttimothynj.org
SUMMARY:Alleluia Choir rehearsal
DESCRIPTION:
URL:https://sttimothynj.org/event/alleluia-choir-rehearsal/
CATEGORIES:St Timothy's
END:VEVENT
BEGIN:VEVENT
DTSTART;TZID=America/New_York:20250905T180000
DTEND;TZID=America/New_York:20250905T193000
DTSTAMP:20260425T094751
CREATED:20250831T015528Z
LAST-MODIFIED:20250831T015528Z
UID:24784-1757095200-1757100600@sttimothynj.org
SUMMARY:AA
DESCRIPTION:
URL:https://sttimothynj.org/event/aa-56/
CATEGORIES:St Timothy's
END:VEVENT
BEGIN:VEVENT
DTSTART;TZID=America/New_York:20250906T090000
DTEND;TZID=America/New_York:20250906T160000
DTSTAMP:20260425T094751
CREATED:20250831T015606Z
LAST-MODIFIED:20250831T015606Z
UID:24786-1757149200-1757174400@sttimothynj.org
SUMMARY:WELCA Garage Sale
DESCRIPTION:
URL:https://sttimothynj.org/event/welca-garage-sale/
CATEGORIES:St Timothy's
END:VEVENT
BEGIN:VEVENT
DTSTART;TZID=America/New_York:20250907T093000
DTEND;TZID=America/New_York:20250907T103000
DTSTAMP:20260425T094751
CREATED:20250831T015637Z
LAST-MODIFIED:20250831T015637Z
UID:24788-1757237400-1757241000@sttimothynj.org
SUMMARY:Worship
DESCRIPTION:
URL:https://sttimothynj.org/event/worship-20/
CATEGORIES:St Timothy's
END:VEVENT
BEGIN:VEVENT
DTSTART;TZID=America/New_York:20250907T130000
DTEND;TZID=America/New_York:20250907T143000
DTSTAMP:20260425T094751
CREATED:20250831T015707Z
LAST-MODIFIED:20250831T015707Z
UID:24790-1757250000-1757255400@sttimothynj.org
SUMMARY:AA
DESCRIPTION:
URL:https://sttimothynj.org/event/aa-57/
CATEGORIES:St Timothy's
END:VEVENT
BEGIN:VEVENT
DTSTART;TZID=America/New_York:20250908T090000
DTEND;TZID=America/New_York:20250908T113000
DTSTAMP:20260425T094751
CREATED:20250831T015746Z
LAST-MODIFIED:20250831T015746Z
UID:24792-1757322000-1757331000@sttimothynj.org
SUMMARY:Heart ‘n Hands
DESCRIPTION:
URL:https://sttimothynj.org/event/heart-n-hands-25/
CATEGORIES:St Timothy's
END:VEVENT
BEGIN:VEVENT
DTSTART;TZID=America/New_York:20250909T130000
DTEND;TZID=America/New_York:20250909T140000
DTSTAMP:20260425T094751
CREATED:20250831T015852Z
LAST-MODIFIED:20250831T015852Z
UID:24796-1757422800-1757426400@sttimothynj.org
SUMMARY:Meditation w/Movement
DESCRIPTION:
URL:https://sttimothynj.org/event/meditation-w-movement-28/
CATEGORIES:St Timothy's
END:VEVENT
BEGIN:VEVENT
DTSTART;TZID=America/New_York:20250909T140000
DTEND;TZID=America/New_York:20250909T150000
DTSTAMP:20260425T094751
CREATED:20250831T015921Z
LAST-MODIFIED:20250831T015921Z
UID:24798-1757426400-1757430000@sttimothynj.org
SUMMARY:Bible Study w/Holy Communion
DESCRIPTION:
URL:https://sttimothynj.org/event/bible-study-w-holy-communion-27/
CATEGORIES:St Timothy's
END:VEVENT
BEGIN:VEVENT
DTSTART;TZID=America/New_York:20250909T193000
DTEND;TZID=America/New_York:20250909T203000
DTSTAMP:20260425T094751
CREATED:20250831T020150Z
LAST-MODIFIED:20250831T020150Z
UID:24802-1757446200-1757449800@sttimothynj.org
SUMMARY:Church Council Meeting
DESCRIPTION:
URL:https://sttimothynj.org/event/church-council-meeting-2/
CATEGORIES:St Timothy's
END:VEVENT
BEGIN:VEVENT
DTSTART;TZID=America/New_York:20250910T093000
DTEND;TZID=America/New_York:20250910T103000
DTSTAMP:20260425T094751
CREATED:20250831T020226Z
LAST-MODIFIED:20250831T020226Z
UID:24804-1757496600-1757500200@sttimothynj.org
SUMMARY:Needleworks
DESCRIPTION:
URL:https://sttimothynj.org/event/needleworks/
CATEGORIES:St Timothy's
END:VEVENT
BEGIN:VEVENT
DTSTART;TZID=America/New_York:20250910T190000
DTEND;TZID=America/New_York:20250910T200000
DTSTAMP:20260425T094751
CREATED:20250831T020310Z
LAST-MODIFIED:20250831T020310Z
UID:24806-1757530800-1757534400@sttimothynj.org
SUMMARY:Jubilate Bells Rehearsal
DESCRIPTION:
URL:https://sttimothynj.org/event/jubilate-bells-rehearsal/
CATEGORIES:St Timothy's
END:VEVENT
BEGIN:VEVENT
DTSTART;TZID=America/New_York:20250912T180000
DTEND;TZID=America/New_York:20250912T193000
DTSTAMP:20260425T094751
CREATED:20250831T020339Z
LAST-MODIFIED:20250831T020339Z
UID:24808-1757700000-1757705400@sttimothynj.org
SUMMARY:AA
DESCRIPTION:
URL:https://sttimothynj.org/event/aa-58/
CATEGORIES:St Timothy's
END:VEVENT
BEGIN:VEVENT
DTSTART;TZID=America/New_York:20250913T103000
DTEND;TZID=America/New_York:20250913T120000
DTSTAMP:20260425T094751
CREATED:20250831T020417Z
LAST-MODIFIED:20250831T020417Z
UID:24810-1757759400-1757764800@sttimothynj.org
SUMMARY:Stu Anderson’s Memorial
DESCRIPTION:
URL:https://sttimothynj.org/event/stu-andersons-memorial/
CATEGORIES:St Timothy's
END:VEVENT
BEGIN:VEVENT
DTSTART;TZID=America/New_York:20250914T093000
DTEND;TZID=America/New_York:20250914T103000
DTSTAMP:20260425T094751
CREATED:20250831T020927Z
LAST-MODIFIED:20250831T020927Z
UID:24812-1757842200-1757845800@sttimothynj.org
SUMMARY:Outdoor Worship and Sunday School Kickoff
DESCRIPTION:
URL:https://sttimothynj.org/event/outdoor-worship-and-sunday-school-kickoff/
CATEGORIES:St Timothy's
END:VEVENT
BEGIN:VEVENT
DTSTART;TZID=America/New_York:20250914T130000
DTEND;TZID=America/New_York:20250914T143000
DTSTAMP:20260425T094751
CREATED:20250831T020958Z
LAST-MODIFIED:20250831T020958Z
UID:24814-1757854800-1757860200@sttimothynj.org
SUMMARY:AA
DESCRIPTION:
URL:https://sttimothynj.org/event/aa-59/
CATEGORIES:St Timothy's
END:VEVENT
BEGIN:VEVENT
DTSTART;TZID=America/New_York:20250915T090000
DTEND;TZID=America/New_York:20250915T113000
DTSTAMP:20260425T094751
CREATED:20250831T021032Z
LAST-MODIFIED:20250831T021032Z
UID:24816-1757926800-1757935800@sttimothynj.org
SUMMARY:Heart ‘n Hands
DESCRIPTION:
URL:https://sttimothynj.org/event/heart-n-hands-26/
CATEGORIES:St Timothy's
END:VEVENT
END:VCALENDAR