BEGIN:VCALENDAR
VERSION:2.0
PRODID:-//St Timothy Lutheran Church - ECPv6.15.20//NONSGML v1.0//EN
CALSCALE:GREGORIAN
METHOD:PUBLISH
X-WR-CALNAME:St Timothy Lutheran Church
X-ORIGINAL-URL:https://sttimothynj.org
X-WR-CALDESC:Events for St Timothy Lutheran Church
REFRESH-INTERVAL;VALUE=DURATION:PT1H
X-Robots-Tag:noindex
X-PUBLISHED-TTL:PT1H
BEGIN:VTIMEZONE
TZID:America/New_York
BEGIN:DAYLIGHT
TZOFFSETFROM:-0500
TZOFFSETTO:-0400
TZNAME:EDT
DTSTART:20240310T070000
END:DAYLIGHT
BEGIN:STANDARD
TZOFFSETFROM:-0400
TZOFFSETTO:-0500
TZNAME:EST
DTSTART:20241103T060000
END:STANDARD
BEGIN:DAYLIGHT
TZOFFSETFROM:-0500
TZOFFSETTO:-0400
TZNAME:EDT
DTSTART:20250309T070000
END:DAYLIGHT
BEGIN:STANDARD
TZOFFSETFROM:-0400
TZOFFSETTO:-0500
TZNAME:EST
DTSTART:20251102T060000
END:STANDARD
BEGIN:DAYLIGHT
TZOFFSETFROM:-0500
TZOFFSETTO:-0400
TZNAME:EDT
DTSTART:20260308T070000
END:DAYLIGHT
BEGIN:STANDARD
TZOFFSETFROM:-0400
TZOFFSETTO:-0500
TZNAME:EST
DTSTART:20261101T060000
END:STANDARD
END:VTIMEZONE
BEGIN:VEVENT
DTSTART;TZID=America/New_York:20250804T090000
DTEND;TZID=America/New_York:20250804T113000
DTSTAMP:20260424T075849
CREATED:20250805T033448Z
LAST-MODIFIED:20250805T033448Z
UID:24675-1754298000-1754307000@sttimothynj.org
SUMMARY:Heart n' Hands
DESCRIPTION:
URL:https://sttimothynj.org/event/heart-n-hands-21/
CATEGORIES:St Timothy's
END:VEVENT
BEGIN:VEVENT
DTSTART;TZID=America/New_York:20250805T130000
DTEND;TZID=America/New_York:20250805T140000
DTSTAMP:20260424T075849
CREATED:20250805T033535Z
LAST-MODIFIED:20250805T033535Z
UID:24677-1754398800-1754402400@sttimothynj.org
SUMMARY:Meditation w/Movement
DESCRIPTION:
URL:https://sttimothynj.org/event/meditation-w-movement-23/
CATEGORIES:St Timothy's
END:VEVENT
BEGIN:VEVENT
DTSTART;TZID=America/New_York:20250805T140000
DTEND;TZID=America/New_York:20250805T150000
DTSTAMP:20260424T075849
CREATED:20250805T033611Z
LAST-MODIFIED:20250805T033611Z
UID:24679-1754402400-1754406000@sttimothynj.org
SUMMARY:Bible Study
DESCRIPTION:
URL:https://sttimothynj.org/event/bible-study/
CATEGORIES:St Timothy's
END:VEVENT
BEGIN:VEVENT
DTSTART;TZID=America/New_York:20250807T190000
DTEND;TZID=America/New_York:20250807T210000
DTSTAMP:20260424T075849
CREATED:20250805T033742Z
LAST-MODIFIED:20250805T033742Z
UID:24681-1754593200-1754600400@sttimothynj.org
SUMMARY:Garage Sale In-take
DESCRIPTION:
URL:https://sttimothynj.org/event/garage-sale-in-take/
CATEGORIES:St Timothy's
END:VEVENT
BEGIN:VEVENT
DTSTART;TZID=America/New_York:20250808T180000
DTEND;TZID=America/New_York:20250808T193000
DTSTAMP:20260424T075849
CREATED:20250805T033815Z
LAST-MODIFIED:20250805T033815Z
UID:24683-1754676000-1754681400@sttimothynj.org
SUMMARY:AA
DESCRIPTION:
URL:https://sttimothynj.org/event/aa-48/
CATEGORIES:St Timothy's
END:VEVENT
BEGIN:VEVENT
DTSTART;TZID=America/New_York:20250809T103000
DTEND;TZID=America/New_York:20250809T120000
DTSTAMP:20260424T075849
CREATED:20250805T033918Z
LAST-MODIFIED:20250805T033918Z
UID:24685-1754735400-1754740800@sttimothynj.org
SUMMARY:Bookworms Book Club
DESCRIPTION:
URL:https://sttimothynj.org/event/bookworms-book-club-7/
CATEGORIES:St Timothy's
END:VEVENT
BEGIN:VEVENT
DTSTART;TZID=America/New_York:20250810T093000
DTEND;TZID=America/New_York:20250810T103000
DTSTAMP:20260424T075849
CREATED:20250805T033958Z
LAST-MODIFIED:20250805T033958Z
UID:24687-1754818200-1754821800@sttimothynj.org
SUMMARY:Worship
DESCRIPTION:
URL:https://sttimothynj.org/event/worship-17/
CATEGORIES:St Timothy's
END:VEVENT
BEGIN:VEVENT
DTSTART;TZID=America/New_York:20250810T130000
DTEND;TZID=America/New_York:20250810T143000
DTSTAMP:20260424T075849
CREATED:20250805T034032Z
LAST-MODIFIED:20250805T034032Z
UID:24689-1754830800-1754836200@sttimothynj.org
SUMMARY:AA
DESCRIPTION:
URL:https://sttimothynj.org/event/aa-49/
CATEGORIES:St Timothy's
END:VEVENT
BEGIN:VEVENT
DTSTART;TZID=America/New_York:20250811T090000
DTEND;TZID=America/New_York:20250811T113000
DTSTAMP:20260424T075849
CREATED:20250805T034113Z
LAST-MODIFIED:20250805T034113Z
UID:24691-1754902800-1754911800@sttimothynj.org
SUMMARY:Heart n' Hands
DESCRIPTION:
URL:https://sttimothynj.org/event/heart-n-hands-22/
CATEGORIES:St Timothy's
END:VEVENT
BEGIN:VEVENT
DTSTART;TZID=America/New_York:20250812T090000
DTEND;TZID=America/New_York:20250812T113000
DTSTAMP:20260424T075849
CREATED:20250805T034204Z
LAST-MODIFIED:20250805T034204Z
UID:24693-1754989200-1754998200@sttimothynj.org
SUMMARY:Garage Sale In-take
DESCRIPTION:
URL:https://sttimothynj.org/event/garage-sale-in-take-2/
CATEGORIES:St Timothy's
END:VEVENT
BEGIN:VEVENT
DTSTART;TZID=America/New_York:20250812T130000
DTEND;TZID=America/New_York:20250812T140000
DTSTAMP:20260424T075849
CREATED:20250805T034251Z
LAST-MODIFIED:20250805T034251Z
UID:24695-1755003600-1755007200@sttimothynj.org
SUMMARY:Meditation w/Movement
DESCRIPTION:
URL:https://sttimothynj.org/event/meditation-w-movement-24/
CATEGORIES:St Timothy's
END:VEVENT
BEGIN:VEVENT
DTSTART;TZID=America/New_York:20250812T140000
DTEND;TZID=America/New_York:20250812T150000
DTSTAMP:20260424T075849
CREATED:20250805T034326Z
LAST-MODIFIED:20250805T034326Z
UID:24697-1755007200-1755010800@sttimothynj.org
SUMMARY:Bible Study w/ Holy Communion
DESCRIPTION:
URL:https://sttimothynj.org/event/bible-study-w-holy-communion-23/
CATEGORIES:St Timothy's
END:VEVENT
BEGIN:VEVENT
DTSTART;TZID=America/New_York:20250814T190000
DTEND;TZID=America/New_York:20250814T210000
DTSTAMP:20260424T075849
CREATED:20250805T034357Z
LAST-MODIFIED:20250805T034357Z
UID:24699-1755198000-1755205200@sttimothynj.org
SUMMARY:Garage Sale In-take
DESCRIPTION:
URL:https://sttimothynj.org/event/garage-sale-in-take-3/
CATEGORIES:St Timothy's
END:VEVENT
BEGIN:VEVENT
DTSTART;TZID=America/New_York:20250815T180000
DTEND;TZID=America/New_York:20250815T193000
DTSTAMP:20260424T075849
CREATED:20250805T034435Z
LAST-MODIFIED:20250805T034435Z
UID:24701-1755280800-1755286200@sttimothynj.org
SUMMARY:AA
DESCRIPTION:
URL:https://sttimothynj.org/event/aa-50/
CATEGORIES:St Timothy's
END:VEVENT
BEGIN:VEVENT
DTSTART;TZID=America/New_York:20250817T093000
DTEND;TZID=America/New_York:20250817T103000
DTSTAMP:20260424T075849
CREATED:20250805T034518Z
LAST-MODIFIED:20250805T034518Z
UID:24703-1755423000-1755426600@sttimothynj.org
SUMMARY:Worship
DESCRIPTION:
URL:https://sttimothynj.org/event/worship-18/
CATEGORIES:St Timothy's
END:VEVENT
BEGIN:VEVENT
DTSTART;TZID=America/New_York:20250817T130000
DTEND;TZID=America/New_York:20250817T143000
DTSTAMP:20260424T075849
CREATED:20250805T034632Z
LAST-MODIFIED:20250805T034632Z
UID:24705-1755435600-1755441000@sttimothynj.org
SUMMARY:AA
DESCRIPTION:
URL:https://sttimothynj.org/event/aa-51/
CATEGORIES:St Timothy's
END:VEVENT
BEGIN:VEVENT
DTSTART;TZID=America/New_York:20250818T090000
DTEND;TZID=America/New_York:20250818T113000
DTSTAMP:20260424T075849
CREATED:20250805T034721Z
LAST-MODIFIED:20250805T034721Z
UID:24707-1755507600-1755516600@sttimothynj.org
SUMMARY:Heart n' Hands
DESCRIPTION:
URL:https://sttimothynj.org/event/heart-n-hands-23/
CATEGORIES:St Timothy's
END:VEVENT
BEGIN:VEVENT
DTSTART;TZID=America/New_York:20250819T090000
DTEND;TZID=America/New_York:20250819T113000
DTSTAMP:20260424T075849
CREATED:20250805T034801Z
LAST-MODIFIED:20250805T034801Z
UID:24709-1755594000-1755603000@sttimothynj.org
SUMMARY:Garage Sale In-take
DESCRIPTION:
URL:https://sttimothynj.org/event/garage-sale-in-take-4/
CATEGORIES:St Timothy's
END:VEVENT
BEGIN:VEVENT
DTSTART;TZID=America/New_York:20250819T130000
DTEND;TZID=America/New_York:20250819T140000
DTSTAMP:20260424T075849
CREATED:20250805T034834Z
LAST-MODIFIED:20250805T034834Z
UID:24711-1755608400-1755612000@sttimothynj.org
SUMMARY:Meditation w/Movement
DESCRIPTION:
URL:https://sttimothynj.org/event/meditation-w-movement-25/
CATEGORIES:St Timothy's
END:VEVENT
BEGIN:VEVENT
DTSTART;TZID=America/New_York:20250819T140000
DTEND;TZID=America/New_York:20250819T150000
DTSTAMP:20260424T075849
CREATED:20250805T034911Z
LAST-MODIFIED:20250805T034911Z
UID:24713-1755612000-1755615600@sttimothynj.org
SUMMARY:Bible Study w/ Holy Communion
DESCRIPTION:
URL:https://sttimothynj.org/event/bible-study-w-holy-communion-24/
CATEGORIES:St Timothy's
END:VEVENT
BEGIN:VEVENT
DTSTART;TZID=America/New_York:20250820T100000
DTEND;TZID=America/New_York:20250820T110000
DTSTAMP:20260424T075849
CREATED:20250805T034947Z
LAST-MODIFIED:20250805T034947Z
UID:24715-1755684000-1755687600@sttimothynj.org
SUMMARY:Hymn Sing
DESCRIPTION:
URL:https://sttimothynj.org/event/hymn-sing-4/
CATEGORIES:St Timothy's
END:VEVENT
BEGIN:VEVENT
DTSTART;TZID=America/New_York:20250821T103000
DTEND;TZID=America/New_York:20250821T113000
DTSTAMP:20260424T075849
CREATED:20250805T035025Z
LAST-MODIFIED:20250805T035025Z
UID:24717-1755772200-1755775800@sttimothynj.org
SUMMARY:Adult Book Group
DESCRIPTION:
URL:https://sttimothynj.org/event/adult-book-group-6/
CATEGORIES:St Timothy's
END:VEVENT
BEGIN:VEVENT
DTSTART;TZID=America/New_York:20250821T190000
DTEND;TZID=America/New_York:20250821T210000
DTSTAMP:20260424T075849
CREATED:20250805T035105Z
LAST-MODIFIED:20250805T035105Z
UID:24719-1755802800-1755810000@sttimothynj.org
SUMMARY:Garage Sale In-take
DESCRIPTION:
URL:https://sttimothynj.org/event/garage-sale-in-take-5/
CATEGORIES:St Timothy's
END:VEVENT
BEGIN:VEVENT
DTSTART;TZID=America/New_York:20250822T180000
DTEND;TZID=America/New_York:20250822T193000
DTSTAMP:20260424T075849
CREATED:20250805T035133Z
LAST-MODIFIED:20250805T035133Z
UID:24721-1755885600-1755891000@sttimothynj.org
SUMMARY:AA
DESCRIPTION:
URL:https://sttimothynj.org/event/aa-52/
CATEGORIES:St Timothy's
END:VEVENT
BEGIN:VEVENT
DTSTART;TZID=America/New_York:20250824T093000
DTEND;TZID=America/New_York:20250824T103000
DTSTAMP:20260424T075849
CREATED:20250805T035232Z
LAST-MODIFIED:20250805T035232Z
UID:24723-1756027800-1756031400@sttimothynj.org
SUMMARY:Worship with bible study following
DESCRIPTION:
URL:https://sttimothynj.org/event/worship-with-bible-study-following/
CATEGORIES:St Timothy's
END:VEVENT
BEGIN:VEVENT
DTSTART;TZID=America/New_York:20250824T130000
DTEND;TZID=America/New_York:20250824T143000
DTSTAMP:20260424T075849
CREATED:20250805T035300Z
LAST-MODIFIED:20250805T035300Z
UID:24725-1756040400-1756045800@sttimothynj.org
SUMMARY:AA
DESCRIPTION:
URL:https://sttimothynj.org/event/aa-53/
CATEGORIES:St Timothy's
END:VEVENT
BEGIN:VEVENT
DTSTART;TZID=America/New_York:20250825T090000
DTEND;TZID=America/New_York:20250825T113000
DTSTAMP:20260424T075849
CREATED:20250805T035344Z
LAST-MODIFIED:20250805T035344Z
UID:24727-1756112400-1756121400@sttimothynj.org
SUMMARY:Heart ‘n Hands
DESCRIPTION:
URL:https://sttimothynj.org/event/heart-n-hands-24/
CATEGORIES:St Timothy's
END:VEVENT
BEGIN:VEVENT
DTSTART;TZID=America/New_York:20250826T090000
DTEND;TZID=America/New_York:20250826T113000
DTSTAMP:20260424T075849
CREATED:20250805T035427Z
LAST-MODIFIED:20250805T035427Z
UID:24729-1756198800-1756207800@sttimothynj.org
SUMMARY:Garage Sale In-take
DESCRIPTION:
URL:https://sttimothynj.org/event/garage-sale-in-take-6/
CATEGORIES:St Timothy's
END:VEVENT
BEGIN:VEVENT
DTSTART;TZID=America/New_York:20250826T130000
DTEND;TZID=America/New_York:20250826T140000
DTSTAMP:20260424T075849
CREATED:20250805T035502Z
LAST-MODIFIED:20250805T035502Z
UID:24731-1756213200-1756216800@sttimothynj.org
SUMMARY:Meditation w/Movement
DESCRIPTION:
URL:https://sttimothynj.org/event/meditation-w-movement-26/
CATEGORIES:St Timothy's
END:VEVENT
BEGIN:VEVENT
DTSTART;TZID=America/New_York:20250826T140000
DTEND;TZID=America/New_York:20250826T150000
DTSTAMP:20260424T075849
CREATED:20250805T035538Z
LAST-MODIFIED:20250805T035538Z
UID:24733-1756216800-1756220400@sttimothynj.org
SUMMARY:Bible Study w/ Holy Communion
DESCRIPTION:
URL:https://sttimothynj.org/event/bible-study-w-holy-communion-25/
CATEGORIES:St Timothy's
END:VEVENT
END:VCALENDAR