BEGIN:VCALENDAR
VERSION:2.0
PRODID:-//St Timothy Lutheran Church - ECPv6.15.20//NONSGML v1.0//EN
CALSCALE:GREGORIAN
METHOD:PUBLISH
X-WR-CALNAME:St Timothy Lutheran Church
X-ORIGINAL-URL:https://sttimothynj.org
X-WR-CALDESC:Events for St Timothy Lutheran Church
REFRESH-INTERVAL;VALUE=DURATION:PT1H
X-Robots-Tag:noindex
X-PUBLISHED-TTL:PT1H
BEGIN:VTIMEZONE
TZID:America/New_York
BEGIN:DAYLIGHT
TZOFFSETFROM:-0500
TZOFFSETTO:-0400
TZNAME:EDT
DTSTART:20260308T070000
END:DAYLIGHT
BEGIN:STANDARD
TZOFFSETFROM:-0400
TZOFFSETTO:-0500
TZNAME:EST
DTSTART:20261101T060000
END:STANDARD
BEGIN:DAYLIGHT
TZOFFSETFROM:-0500
TZOFFSETTO:-0400
TZNAME:EDT
DTSTART:20270314T070000
END:DAYLIGHT
BEGIN:STANDARD
TZOFFSETFROM:-0400
TZOFFSETTO:-0500
TZNAME:EST
DTSTART:20271107T060000
END:STANDARD
BEGIN:DAYLIGHT
TZOFFSETFROM:-0500
TZOFFSETTO:-0400
TZNAME:EDT
DTSTART:20280312T070000
END:DAYLIGHT
BEGIN:STANDARD
TZOFFSETFROM:-0400
TZOFFSETTO:-0500
TZNAME:EST
DTSTART:20281105T060000
END:STANDARD
END:VTIMEZONE
BEGIN:VEVENT
DTSTART;VALUE=DATE:20270212
DTEND;VALUE=DATE:20270213
DTSTAMP:20260424T060858
CREATED:20251204T181306Z
LAST-MODIFIED:20260423T213927Z
UID:25957-1802390400-1802476799@sttimothynj.org
SUMMARY:OFFICE CLOSED
DESCRIPTION:
URL:https://sttimothynj.org/event/office-closed-73/
CATEGORIES:St Timothy's
END:VEVENT
BEGIN:VEVENT
DTSTART;TZID=America/New_York:20270212T180000
DTEND;TZID=America/New_York:20270212T193000
DTSTAMP:20260424T060858
CREATED:20251021T151332Z
LAST-MODIFIED:20251028T154251Z
UID:25204-1802455200-1802460600@sttimothynj.org
SUMMARY:AA
DESCRIPTION:
URL:https://sttimothynj.org/event/aa-138/
CATEGORIES:St Timothy's
END:VEVENT
BEGIN:VEVENT
DTSTART;TZID=America/New_York:20270213T103000
DTEND;TZID=America/New_York:20270213T113000
DTSTAMP:20260424T060858
CREATED:20251030T154232Z
LAST-MODIFIED:20260423T213927Z
UID:25696-1802514600-1802518200@sttimothynj.org
SUMMARY:Bookworks Book Club
DESCRIPTION:
URL:https://sttimothynj.org/event/bookworks-book-club-16/
CATEGORIES:St Timothy's
END:VEVENT
BEGIN:VEVENT
DTSTART;TZID=America/New_York:20270218T103000
DTEND;TZID=America/New_York:20270218T113000
DTSTAMP:20260424T060858
CREATED:20251030T154232Z
LAST-MODIFIED:20260423T213927Z
UID:25697-1802946600-1802950200@sttimothynj.org
SUMMARY:Adult Book Group
DESCRIPTION:
URL:https://sttimothynj.org/event/adult-book-group-24/
CATEGORIES:St Timothy's
END:VEVENT
BEGIN:VEVENT
DTSTART;VALUE=DATE:20270219
DTEND;VALUE=DATE:20270220
DTSTAMP:20260424T060858
CREATED:20251204T181306Z
LAST-MODIFIED:20260423T213927Z
UID:25958-1802995200-1803081599@sttimothynj.org
SUMMARY:OFFICE CLOSED
DESCRIPTION:
URL:https://sttimothynj.org/event/office-closed-74/
CATEGORIES:St Timothy's
END:VEVENT
BEGIN:VEVENT
DTSTART;TZID=America/New_York:20270219T180000
DTEND;TZID=America/New_York:20270219T193000
DTSTAMP:20260424T060858
CREATED:20251021T151332Z
LAST-MODIFIED:20251028T154251Z
UID:25206-1803060000-1803065400@sttimothynj.org
SUMMARY:AA
DESCRIPTION:
URL:https://sttimothynj.org/event/aa-139/
CATEGORIES:St Timothy's
END:VEVENT
BEGIN:VEVENT
DTSTART;VALUE=DATE:20270226
DTEND;VALUE=DATE:20270227
DTSTAMP:20260424T060858
CREATED:20251204T181306Z
LAST-MODIFIED:20260423T213927Z
UID:25959-1803600000-1803686399@sttimothynj.org
SUMMARY:OFFICE CLOSED
DESCRIPTION:
URL:https://sttimothynj.org/event/office-closed-75/
CATEGORIES:St Timothy's
END:VEVENT
BEGIN:VEVENT
DTSTART;TZID=America/New_York:20270226T180000
DTEND;TZID=America/New_York:20270226T193000
DTSTAMP:20260424T060858
CREATED:20251021T151332Z
LAST-MODIFIED:20251028T154251Z
UID:25208-1803664800-1803670200@sttimothynj.org
SUMMARY:AA
DESCRIPTION:
URL:https://sttimothynj.org/event/aa-140/
CATEGORIES:St Timothy's
END:VEVENT
BEGIN:VEVENT
DTSTART;VALUE=DATE:20270305
DTEND;VALUE=DATE:20270306
DTSTAMP:20260424T060858
CREATED:20251204T181306Z
LAST-MODIFIED:20260423T213927Z
UID:25960-1804204800-1804291199@sttimothynj.org
SUMMARY:OFFICE CLOSED
DESCRIPTION:
URL:https://sttimothynj.org/event/office-closed-76/
CATEGORIES:St Timothy's
END:VEVENT
BEGIN:VEVENT
DTSTART;TZID=America/New_York:20270305T180000
DTEND;TZID=America/New_York:20270305T193000
DTSTAMP:20260424T060858
CREATED:20251021T151332Z
LAST-MODIFIED:20251028T154251Z
UID:25210-1804269600-1804275000@sttimothynj.org
SUMMARY:AA
DESCRIPTION:
URL:https://sttimothynj.org/event/aa-141/
CATEGORIES:St Timothy's
END:VEVENT
BEGIN:VEVENT
DTSTART;VALUE=DATE:20270308
DTEND;VALUE=DATE:20270309
DTSTAMP:20260424T060858
CREATED:20260227T182344Z
LAST-MODIFIED:20260423T213927Z
UID:26587-1804464000-1804550399@sttimothynj.org
SUMMARY:DEADLINE: TIPS newsletter contributions
DESCRIPTION:
URL:https://sttimothynj.org/event/deadline-tips-newsletter-contributions-13/
CATEGORIES:St Timothy's
END:VEVENT
BEGIN:VEVENT
DTSTART;VALUE=DATE:20270312
DTEND;VALUE=DATE:20270313
DTSTAMP:20260424T060858
CREATED:20251204T181306Z
LAST-MODIFIED:20260423T213927Z
UID:25961-1804809600-1804895999@sttimothynj.org
SUMMARY:OFFICE CLOSED
DESCRIPTION:
URL:https://sttimothynj.org/event/office-closed-77/
CATEGORIES:St Timothy's
END:VEVENT
BEGIN:VEVENT
DTSTART;TZID=America/New_York:20270312T180000
DTEND;TZID=America/New_York:20270312T193000
DTSTAMP:20260424T060858
CREATED:20251021T151332Z
LAST-MODIFIED:20251028T154251Z
UID:25212-1804874400-1804879800@sttimothynj.org
SUMMARY:AA
DESCRIPTION:
URL:https://sttimothynj.org/event/aa-142/
CATEGORIES:St Timothy's
END:VEVENT
BEGIN:VEVENT
DTSTART;TZID=America/New_York:20270313T103000
DTEND;TZID=America/New_York:20270313T113000
DTSTAMP:20260424T060858
CREATED:20251030T154232Z
LAST-MODIFIED:20260423T213927Z
UID:25698-1804933800-1804937400@sttimothynj.org
SUMMARY:Bookworks Book Club
DESCRIPTION:
URL:https://sttimothynj.org/event/bookworks-book-club-17/
CATEGORIES:St Timothy's
END:VEVENT
BEGIN:VEVENT
DTSTART;TZID=America/New_York:20270318T103000
DTEND;TZID=America/New_York:20270318T113000
DTSTAMP:20260424T060858
CREATED:20251030T154232Z
LAST-MODIFIED:20260423T213927Z
UID:25699-1805365800-1805369400@sttimothynj.org
SUMMARY:Adult Book Group
DESCRIPTION:
URL:https://sttimothynj.org/event/adult-book-group-25/
CATEGORIES:St Timothy's
END:VEVENT
BEGIN:VEVENT
DTSTART;VALUE=DATE:20270319
DTEND;VALUE=DATE:20270320
DTSTAMP:20260424T060858
CREATED:20251204T181306Z
LAST-MODIFIED:20260423T213927Z
UID:25962-1805414400-1805500799@sttimothynj.org
SUMMARY:OFFICE CLOSED
DESCRIPTION:
URL:https://sttimothynj.org/event/office-closed-78/
CATEGORIES:St Timothy's
END:VEVENT
BEGIN:VEVENT
DTSTART;TZID=America/New_York:20270319T180000
DTEND;TZID=America/New_York:20270319T193000
DTSTAMP:20260424T060858
CREATED:20251021T151332Z
LAST-MODIFIED:20251028T154251Z
UID:25214-1805479200-1805484600@sttimothynj.org
SUMMARY:AA
DESCRIPTION:
URL:https://sttimothynj.org/event/aa-143/
CATEGORIES:St Timothy's
END:VEVENT
BEGIN:VEVENT
DTSTART;VALUE=DATE:20270326
DTEND;VALUE=DATE:20270327
DTSTAMP:20260424T060858
CREATED:20251204T181306Z
LAST-MODIFIED:20260423T213927Z
UID:25963-1806019200-1806105599@sttimothynj.org
SUMMARY:OFFICE CLOSED
DESCRIPTION:
URL:https://sttimothynj.org/event/office-closed-79/
CATEGORIES:St Timothy's
END:VEVENT
BEGIN:VEVENT
DTSTART;TZID=America/New_York:20270326T180000
DTEND;TZID=America/New_York:20270326T193000
DTSTAMP:20260424T060858
CREATED:20251021T151332Z
LAST-MODIFIED:20251028T154251Z
UID:25216-1806084000-1806089400@sttimothynj.org
SUMMARY:AA
DESCRIPTION:
URL:https://sttimothynj.org/event/aa-144/
CATEGORIES:St Timothy's
END:VEVENT
BEGIN:VEVENT
DTSTART;VALUE=DATE:20270402
DTEND;VALUE=DATE:20270403
DTSTAMP:20260424T060858
CREATED:20251204T181306Z
LAST-MODIFIED:20260423T213927Z
UID:25964-1806624000-1806710399@sttimothynj.org
SUMMARY:OFFICE CLOSED
DESCRIPTION:
URL:https://sttimothynj.org/event/office-closed-80/
CATEGORIES:St Timothy's
END:VEVENT
BEGIN:VEVENT
DTSTART;TZID=America/New_York:20270402T180000
DTEND;TZID=America/New_York:20270402T193000
DTSTAMP:20260424T060858
CREATED:20251021T151332Z
LAST-MODIFIED:20251028T154251Z
UID:25218-1806688800-1806694200@sttimothynj.org
SUMMARY:AA
DESCRIPTION:
URL:https://sttimothynj.org/event/aa-145/
CATEGORIES:St Timothy's
END:VEVENT
BEGIN:VEVENT
DTSTART;VALUE=DATE:20270409
DTEND;VALUE=DATE:20270410
DTSTAMP:20260424T060858
CREATED:20251204T181306Z
LAST-MODIFIED:20260423T213928Z
UID:25965-1807228800-1807315199@sttimothynj.org
SUMMARY:OFFICE CLOSED
DESCRIPTION:
URL:https://sttimothynj.org/event/office-closed-81/
CATEGORIES:St Timothy's
END:VEVENT
BEGIN:VEVENT
DTSTART;TZID=America/New_York:20270410T103000
DTEND;TZID=America/New_York:20270410T113000
DTSTAMP:20260424T060858
CREATED:20251030T154232Z
LAST-MODIFIED:20260423T213928Z
UID:25700-1807353000-1807356600@sttimothynj.org
SUMMARY:Bookworks Book Club
DESCRIPTION:
URL:https://sttimothynj.org/event/bookworks-book-club-18/
CATEGORIES:St Timothy's
END:VEVENT
BEGIN:VEVENT
DTSTART;VALUE=DATE:20270412
DTEND;VALUE=DATE:20270413
DTSTAMP:20260424T060858
CREATED:20260227T182345Z
LAST-MODIFIED:20260423T213928Z
UID:26588-1807488000-1807574399@sttimothynj.org
SUMMARY:DEADLINE: TIPS newsletter contributions
DESCRIPTION:
URL:https://sttimothynj.org/event/deadline-tips-newsletter-contributions-14/
CATEGORIES:St Timothy's
END:VEVENT
BEGIN:VEVENT
DTSTART;TZID=America/New_York:20270415T103000
DTEND;TZID=America/New_York:20270415T113000
DTSTAMP:20260424T060858
CREATED:20251030T154232Z
LAST-MODIFIED:20260423T213928Z
UID:25701-1807785000-1807788600@sttimothynj.org
SUMMARY:Adult Book Group
DESCRIPTION:
URL:https://sttimothynj.org/event/adult-book-group-26/
CATEGORIES:St Timothy's
END:VEVENT
BEGIN:VEVENT
DTSTART;VALUE=DATE:20270416
DTEND;VALUE=DATE:20270417
DTSTAMP:20260424T060858
CREATED:20251204T181306Z
LAST-MODIFIED:20260423T213928Z
UID:25966-1807833600-1807919999@sttimothynj.org
SUMMARY:OFFICE CLOSED
DESCRIPTION:
URL:https://sttimothynj.org/event/office-closed-82/
CATEGORIES:St Timothy's
END:VEVENT
BEGIN:VEVENT
DTSTART;VALUE=DATE:20270423
DTEND;VALUE=DATE:20270424
DTSTAMP:20260424T060858
CREATED:20251204T181306Z
LAST-MODIFIED:20260423T213928Z
UID:25967-1808438400-1808524799@sttimothynj.org
SUMMARY:OFFICE CLOSED
DESCRIPTION:
URL:https://sttimothynj.org/event/office-closed-83/
CATEGORIES:St Timothy's
END:VEVENT
BEGIN:VEVENT
DTSTART;VALUE=DATE:20270430
DTEND;VALUE=DATE:20270501
DTSTAMP:20260424T060858
CREATED:20251204T181306Z
LAST-MODIFIED:20260423T213928Z
UID:25968-1809043200-1809129599@sttimothynj.org
SUMMARY:OFFICE CLOSED
DESCRIPTION:
URL:https://sttimothynj.org/event/office-closed-84/
CATEGORIES:St Timothy's
END:VEVENT
BEGIN:VEVENT
DTSTART;VALUE=DATE:20270507
DTEND;VALUE=DATE:20270508
DTSTAMP:20260424T060858
CREATED:20251204T181306Z
LAST-MODIFIED:20260423T213928Z
UID:25969-1809648000-1809734399@sttimothynj.org
SUMMARY:OFFICE CLOSED
DESCRIPTION:
URL:https://sttimothynj.org/event/office-closed-85/
CATEGORIES:St Timothy's
END:VEVENT
BEGIN:VEVENT
DTSTART;TZID=America/New_York:20270508T103000
DTEND;TZID=America/New_York:20270508T113000
DTSTAMP:20260424T060858
CREATED:20251030T154232Z
LAST-MODIFIED:20260423T213928Z
UID:25702-1809772200-1809775800@sttimothynj.org
SUMMARY:Bookworks Book Club
DESCRIPTION:
URL:https://sttimothynj.org/event/bookworks-book-club-19/
CATEGORIES:St Timothy's
END:VEVENT
END:VCALENDAR