BEGIN:VCALENDAR
VERSION:2.0
PRODID:-//St Timothy Lutheran Church - ECPv6.15.20//NONSGML v1.0//EN
CALSCALE:GREGORIAN
METHOD:PUBLISH
X-ORIGINAL-URL:https://sttimothynj.org
X-WR-CALDESC:Events for St Timothy Lutheran Church
REFRESH-INTERVAL;VALUE=DURATION:PT1H
X-Robots-Tag:noindex
X-PUBLISHED-TTL:PT1H
BEGIN:VTIMEZONE
TZID:UTC
BEGIN:STANDARD
TZOFFSETFROM:+0000
TZOFFSETTO:+0000
TZNAME:UTC
DTSTART:20240101T000000
END:STANDARD
END:VTIMEZONE
BEGIN:VEVENT
DTSTART;TZID=UTC:20250116T103000
DTEND;TZID=UTC:20250116T113000
DTSTAMP:20260425T091040
CREATED:20250112T085616Z
LAST-MODIFIED:20250112T132420Z
UID:23754-1737023400-1737027000@sttimothynj.org
SUMMARY:Adult Book Group
DESCRIPTION:
URL:https://sttimothynj.org/event/adult-book-group/
CATEGORIES:St Timothy's
END:VEVENT
BEGIN:VEVENT
DTSTART;TZID=UTC:20250117T180000
DTEND;TZID=UTC:20250117T193000
DTSTAMP:20260425T091040
CREATED:20250112T085319Z
LAST-MODIFIED:20250112T132420Z
UID:23748-1737136800-1737142200@sttimothynj.org
SUMMARY:AA
DESCRIPTION:
URL:https://sttimothynj.org/event/aa-3/
CATEGORIES:St Timothy's
END:VEVENT
BEGIN:VEVENT
DTSTART;TZID=UTC:20250120T090000
DTEND;TZID=UTC:20250120T113000
DTSTAMP:20260425T091040
CREATED:20250112T093304Z
LAST-MODIFIED:20250112T132420Z
UID:23799-1737363600-1737372600@sttimothynj.org
SUMMARY:Heart ‘n Hands
DESCRIPTION:
URL:https://sttimothynj.org/event/heart-n-hands-2/
CATEGORIES:St Timothy's
END:VEVENT
BEGIN:VEVENT
DTSTART;TZID=UTC:20250120T190000
DTEND;TZID=UTC:20250120T200000
DTSTAMP:20260425T091040
CREATED:20250112T092603Z
LAST-MODIFIED:20250112T132420Z
UID:23795-1737399600-1737403200@sttimothynj.org
SUMMARY:Boy Scouts
DESCRIPTION:
URL:https://sttimothynj.org/event/boy-scouts-2/
CATEGORIES:St Timothy's
END:VEVENT
BEGIN:VEVENT
DTSTART;TZID=UTC:20250121T130000
DTEND;TZID=UTC:20250121T140000
DTSTAMP:20260425T091040
CREATED:20250112T093544Z
LAST-MODIFIED:20250112T132420Z
UID:23807-1737464400-1737468000@sttimothynj.org
SUMMARY:Meditation w/Movement
DESCRIPTION:
URL:https://sttimothynj.org/event/meditation-w-movement-3/
CATEGORIES:St Timothy's
END:VEVENT
BEGIN:VEVENT
DTSTART;TZID=UTC:20250121T140000
DTEND;TZID=UTC:20250121T150000
DTSTAMP:20260425T091040
CREATED:20250112T093858Z
LAST-MODIFIED:20250112T132420Z
UID:23815-1737468000-1737471600@sttimothynj.org
SUMMARY:Bible Study w/ Holy Communion
DESCRIPTION:
URL:https://sttimothynj.org/event/bible-study-w-holy-communion-3/
CATEGORIES:St Timothy's
END:VEVENT
BEGIN:VEVENT
DTSTART;TZID=UTC:20250121T190000
DTEND;TZID=UTC:20250121T200000
DTSTAMP:20260425T091040
CREATED:20250112T094301Z
LAST-MODIFIED:20250112T132420Z
UID:23823-1737486000-1737489600@sttimothynj.org
SUMMARY:Christian Ed Committee
DESCRIPTION:
URL:https://sttimothynj.org/event/christian-ed-committee/
CATEGORIES:St Timothy's
END:VEVENT
BEGIN:VEVENT
DTSTART;TZID=UTC:20250122T093000
DTEND;TZID=UTC:20250122T103000
DTSTAMP:20260425T091040
CREATED:20250112T094418Z
LAST-MODIFIED:20250112T132420Z
UID:23825-1737538200-1737541800@sttimothynj.org
SUMMARY:Angels Circle
DESCRIPTION:
URL:https://sttimothynj.org/event/angels-circle-2/
CATEGORIES:St Timothy's
END:VEVENT
BEGIN:VEVENT
DTSTART;TZID=UTC:20250122T103000
DTEND;TZID=UTC:20250122T113000
DTSTAMP:20260425T091040
CREATED:20250112T094459Z
LAST-MODIFIED:20250112T132420Z
UID:23827-1737541800-1737545400@sttimothynj.org
SUMMARY:Knit & Crochet
DESCRIPTION:
URL:https://sttimothynj.org/event/knit-crochet-2/
CATEGORIES:St Timothy's
END:VEVENT
BEGIN:VEVENT
DTSTART;TZID=UTC:20250122T190000
DTEND;TZID=UTC:20250122T200000
DTSTAMP:20260425T091040
CREATED:20250112T091224Z
LAST-MODIFIED:20250112T132420Z
UID:23772-1737572400-1737576000@sttimothynj.org
SUMMARY:Music rehearsal
DESCRIPTION:
URL:https://sttimothynj.org/event/music-rehearsal-3/
CATEGORIES:St Timothy's
END:VEVENT
BEGIN:VEVENT
DTSTART;TZID=UTC:20250124T180000
DTEND;TZID=UTC:20250124T200000
DTSTAMP:20260425T091040
CREATED:20250112T085451Z
LAST-MODIFIED:20250112T132420Z
UID:23750-1737741600-1737748800@sttimothynj.org
SUMMARY:AA
DESCRIPTION:
URL:https://sttimothynj.org/event/aa-4/
CATEGORIES:St Timothy's
END:VEVENT
BEGIN:VEVENT
DTSTART;TZID=UTC:20250127T090000
DTEND;TZID=UTC:20250127T113000
DTSTAMP:20260425T091040
CREATED:20250112T093343Z
LAST-MODIFIED:20250112T132420Z
UID:23801-1737968400-1737977400@sttimothynj.org
SUMMARY:Heart ‘n Hands
DESCRIPTION:
URL:https://sttimothynj.org/event/heart-n-hands-3/
CATEGORIES:St Timothy's
END:VEVENT
BEGIN:VEVENT
DTSTART;TZID=UTC:20250127T190000
DTEND;TZID=UTC:20250127T200000
DTSTAMP:20260425T091040
CREATED:20250112T092633Z
LAST-MODIFIED:20250112T132420Z
UID:23797-1738004400-1738008000@sttimothynj.org
SUMMARY:Boy Scouts
DESCRIPTION:
URL:https://sttimothynj.org/event/boy-scouts-3/
CATEGORIES:St Timothy's
END:VEVENT
BEGIN:VEVENT
DTSTART;TZID=UTC:20250128T130000
DTEND;TZID=UTC:20250128T140000
DTSTAMP:20260425T091040
CREATED:20250112T093618Z
LAST-MODIFIED:20250112T132420Z
UID:23809-1738069200-1738072800@sttimothynj.org
SUMMARY:Meditation w/Movement
DESCRIPTION:
URL:https://sttimothynj.org/event/meditation-w-movement-4/
CATEGORIES:St Timothy's
END:VEVENT
BEGIN:VEVENT
DTSTART;TZID=UTC:20250128T140000
DTEND;TZID=UTC:20250128T150000
DTSTAMP:20260425T091040
CREATED:20250112T093936Z
LAST-MODIFIED:20250112T132419Z
UID:23817-1738072800-1738076400@sttimothynj.org
SUMMARY:Bible Study w/ Holy Communion
DESCRIPTION:
URL:https://sttimothynj.org/event/bible-study-w-holy-communion-4/
CATEGORIES:St Timothy's
END:VEVENT
BEGIN:VEVENT
DTSTART;TZID=UTC:20250129T190000
DTEND;TZID=UTC:20250129T200000
DTSTAMP:20260425T091040
CREATED:20250112T091252Z
LAST-MODIFIED:20250112T132419Z
UID:23774-1738177200-1738180800@sttimothynj.org
SUMMARY:Music rehearsal
DESCRIPTION:
URL:https://sttimothynj.org/event/music-rehearsal-4/
CATEGORIES:St Timothy's
END:VEVENT
BEGIN:VEVENT
DTSTART;TZID=UTC:20250131T180000
DTEND;TZID=UTC:20250131T200000
DTSTAMP:20260425T091040
CREATED:20250112T085517Z
LAST-MODIFIED:20250112T132419Z
UID:23752-1738346400-1738353600@sttimothynj.org
SUMMARY:AA
DESCRIPTION:
URL:https://sttimothynj.org/event/aa-5/
CATEGORIES:St Timothy's
END:VEVENT
BEGIN:VEVENT
DTSTART;TZID=UTC:20250302T083000
DTEND;TZID=UTC:20250302T103000
DTSTAMP:20260425T091040
CREATED:20250305T122030Z
LAST-MODIFIED:20250305T122030Z
UID:24126-1740904200-1740911400@sttimothynj.org
SUMMARY:Worship
DESCRIPTION:
URL:https://sttimothynj.org/event/worship-4/
CATEGORIES:St Timothy's
END:VEVENT
BEGIN:VEVENT
DTSTART;TZID=UTC:20250302T091500
DTEND;TZID=UTC:20250302T103000
DTSTAMP:20260425T091040
CREATED:20250305T122311Z
LAST-MODIFIED:20250305T122412Z
UID:24128-1740906900-1740911400@sttimothynj.org
SUMMARY:Christian Ed
DESCRIPTION:Sunday Christian Ed programs include: \n\nYouth Sunday School & Confirmation\nAdult Forum in Parlor\nAdult Christian Ed in the Bistro
URL:https://sttimothynj.org/event/christian-ed/
CATEGORIES:St Timothy's
END:VEVENT
BEGIN:VEVENT
DTSTART;TZID=UTC:20250302T113000
DTEND;TZID=UTC:20250302T123000
DTSTAMP:20260425T091040
CREATED:20250305T122353Z
LAST-MODIFIED:20250305T122353Z
UID:24130-1740915000-1740918600@sttimothynj.org
SUMMARY:Coffee Hour
DESCRIPTION:
URL:https://sttimothynj.org/event/coffee-hour-2/
CATEGORIES:St Timothy's
END:VEVENT
BEGIN:VEVENT
DTSTART;TZID=UTC:20250302T130000
DTEND;TZID=UTC:20250302T140000
DTSTAMP:20260425T091040
CREATED:20250305T122455Z
LAST-MODIFIED:20250305T122503Z
UID:24132-1740920400-1740924000@sttimothynj.org
SUMMARY:AA
DESCRIPTION:
URL:https://sttimothynj.org/event/aa-8/
CATEGORIES:St Timothy's
END:VEVENT
BEGIN:VEVENT
DTSTART;TZID=UTC:20250302T150000
DTEND;TZID=UTC:20250302T210000
DTSTAMP:20260425T091040
CREATED:20250305T122602Z
LAST-MODIFIED:20250305T122602Z
UID:24134-1740927600-1740949200@sttimothynj.org
SUMMARY:Rehearsals
DESCRIPTION:
URL:https://sttimothynj.org/event/rehearsals/
CATEGORIES:St Timothy's
END:VEVENT
BEGIN:VEVENT
DTSTART;TZID=UTC:20250303T090000
DTEND;TZID=UTC:20250303T113000
DTSTAMP:20260425T091040
CREATED:20250305T122651Z
LAST-MODIFIED:20250305T122651Z
UID:24136-1740992400-1741001400@sttimothynj.org
SUMMARY:Heart ‘n Hands
DESCRIPTION:
URL:https://sttimothynj.org/event/heart-n-hands-4/
CATEGORIES:St Timothy's
END:VEVENT
BEGIN:VEVENT
DTSTART;TZID=UTC:20250303T190000
DTEND;TZID=UTC:20250303T203000
DTSTAMP:20260425T091040
CREATED:20250305T122729Z
LAST-MODIFIED:20250305T122729Z
UID:24138-1741028400-1741033800@sttimothynj.org
SUMMARY:Boy Scouts
DESCRIPTION:
URL:https://sttimothynj.org/event/boy-scouts-4/
CATEGORIES:St Timothy's
END:VEVENT
BEGIN:VEVENT
DTSTART;TZID=UTC:20250304T130000
DTEND;TZID=UTC:20250304T140000
DTSTAMP:20260425T091040
CREATED:20250305T122803Z
LAST-MODIFIED:20250305T122803Z
UID:24140-1741093200-1741096800@sttimothynj.org
SUMMARY:Meditation w/Movement
DESCRIPTION:
URL:https://sttimothynj.org/event/meditation-w-movement-5/
CATEGORIES:St Timothy's
END:VEVENT
BEGIN:VEVENT
DTSTART;TZID=UTC:20250304T140000
DTEND;TZID=UTC:20250304T150000
DTSTAMP:20260425T091040
CREATED:20250305T122838Z
LAST-MODIFIED:20250305T122838Z
UID:24142-1741096800-1741100400@sttimothynj.org
SUMMARY:Bible Study w/ Holy Communion
DESCRIPTION:
URL:https://sttimothynj.org/event/bible-study-w-holy-communion-5/
CATEGORIES:St Timothy's
END:VEVENT
BEGIN:VEVENT
DTSTART;TZID=UTC:20250304T190000
DTEND;TZID=UTC:20250304T200000
DTSTAMP:20260425T091040
CREATED:20250305T122908Z
LAST-MODIFIED:20250305T122908Z
UID:24144-1741114800-1741118400@sttimothynj.org
SUMMARY:Worship Committee
DESCRIPTION:
URL:https://sttimothynj.org/event/worship-committee/
CATEGORIES:St Timothy's
END:VEVENT
BEGIN:VEVENT
DTSTART;TZID=UTC:20250305T120000
DTEND;TZID=UTC:20250305T140000
DTSTAMP:20260425T091040
CREATED:20250305T122943Z
LAST-MODIFIED:20250305T122943Z
UID:24146-1741176000-1741183200@sttimothynj.org
SUMMARY:Worship
DESCRIPTION:
URL:https://sttimothynj.org/event/worship-5/
CATEGORIES:St Timothy's
END:VEVENT
BEGIN:VEVENT
DTSTART;TZID=UTC:20250305T190000
DTEND;TZID=UTC:20250305T210000
DTSTAMP:20260425T091040
CREATED:20250305T123011Z
LAST-MODIFIED:20250305T123011Z
UID:24148-1741201200-1741208400@sttimothynj.org
SUMMARY:Worship
DESCRIPTION:
URL:https://sttimothynj.org/event/worship-6/
CATEGORIES:St Timothy's
END:VEVENT
BEGIN:VEVENT
DTSTART;TZID=UTC:20250307T163000
DTEND;TZID=UTC:20250307T180000
DTSTAMP:20260425T091040
CREATED:20250305T123104Z
LAST-MODIFIED:20250305T123104Z
UID:24150-1741365000-1741370400@sttimothynj.org
SUMMARY:Rehearsal
DESCRIPTION:
URL:https://sttimothynj.org/event/rehearsal/
CATEGORIES:St Timothy's
END:VEVENT
END:VCALENDAR