BEGIN:VCALENDAR
VERSION:2.0
PRODID:-//St Timothy Lutheran Church - ECPv6.15.20//NONSGML v1.0//EN
CALSCALE:GREGORIAN
METHOD:PUBLISH
X-ORIGINAL-URL:https://sttimothynj.org
X-WR-CALDESC:Events for St Timothy Lutheran Church
REFRESH-INTERVAL;VALUE=DURATION:PT1H
X-Robots-Tag:noindex
X-PUBLISHED-TTL:PT1H
BEGIN:VTIMEZONE
TZID:America/New_York
BEGIN:DAYLIGHT
TZOFFSETFROM:-0500
TZOFFSETTO:-0400
TZNAME:EDT
DTSTART:20240310T070000
END:DAYLIGHT
BEGIN:STANDARD
TZOFFSETFROM:-0400
TZOFFSETTO:-0500
TZNAME:EST
DTSTART:20241103T060000
END:STANDARD
BEGIN:DAYLIGHT
TZOFFSETFROM:-0500
TZOFFSETTO:-0400
TZNAME:EDT
DTSTART:20250309T070000
END:DAYLIGHT
BEGIN:STANDARD
TZOFFSETFROM:-0400
TZOFFSETTO:-0500
TZNAME:EST
DTSTART:20251102T060000
END:STANDARD
BEGIN:DAYLIGHT
TZOFFSETFROM:-0500
TZOFFSETTO:-0400
TZNAME:EDT
DTSTART:20260308T070000
END:DAYLIGHT
BEGIN:STANDARD
TZOFFSETFROM:-0400
TZOFFSETTO:-0500
TZNAME:EST
DTSTART:20261101T060000
END:STANDARD
END:VTIMEZONE
BEGIN:VEVENT
DTSTART;TZID=America/New_York:20250921T093500
DTEND;TZID=America/New_York:20250921T103000
DTSTAMP:20260425T125300
CREATED:20250831T022756Z
LAST-MODIFIED:20250831T022756Z
UID:24836-1758447300-1758450600@sttimothynj.org
SUMMARY:Sunday School
DESCRIPTION:
URL:https://sttimothynj.org/event/sunday-school/
CATEGORIES:St Timothy's
END:VEVENT
BEGIN:VEVENT
DTSTART;TZID=America/New_York:20250921T103000
DTEND;TZID=America/New_York:20250921T113000
DTSTAMP:20260425T125300
CREATED:20250831T022829Z
LAST-MODIFIED:20250831T022829Z
UID:24838-1758450600-1758454200@sttimothynj.org
SUMMARY:Worship
DESCRIPTION:
URL:https://sttimothynj.org/event/worship-22/
CATEGORIES:St Timothy's
END:VEVENT
BEGIN:VEVENT
DTSTART;TZID=America/New_York:20250921T130000
DTEND;TZID=America/New_York:20250921T143000
DTSTAMP:20260425T125300
CREATED:20250831T022857Z
LAST-MODIFIED:20250831T022857Z
UID:24840-1758459600-1758465000@sttimothynj.org
SUMMARY:AA
DESCRIPTION:
URL:https://sttimothynj.org/event/aa-60/
CATEGORIES:St Timothy's
END:VEVENT
BEGIN:VEVENT
DTSTART;TZID=America/New_York:20250922T090000
DTEND;TZID=America/New_York:20250922T113000
DTSTAMP:20260425T125300
CREATED:20250831T022927Z
LAST-MODIFIED:20250831T022927Z
UID:24842-1758531600-1758540600@sttimothynj.org
SUMMARY:Heart ‘n Hands
DESCRIPTION:
URL:https://sttimothynj.org/event/heart-n-hands-27/
CATEGORIES:St Timothy's
END:VEVENT
BEGIN:VEVENT
DTSTART;TZID=America/New_York:20250923T130000
DTEND;TZID=America/New_York:20250923T140000
DTSTAMP:20260425T125300
CREATED:20250831T023024Z
LAST-MODIFIED:20250831T023024Z
UID:24846-1758632400-1758636000@sttimothynj.org
SUMMARY:Meditation w/Movement
DESCRIPTION:
URL:https://sttimothynj.org/event/meditation-w-movement-30/
CATEGORIES:St Timothy's
END:VEVENT
BEGIN:VEVENT
DTSTART;TZID=America/New_York:20250923T140000
DTEND;TZID=America/New_York:20250923T150000
DTSTAMP:20260425T125300
CREATED:20250831T023051Z
LAST-MODIFIED:20250831T023051Z
UID:24848-1758636000-1758639600@sttimothynj.org
SUMMARY:Bible Study w/Holy Communion
DESCRIPTION:
URL:https://sttimothynj.org/event/bible-study-w-holy-communion-29/
CATEGORIES:St Timothy's
END:VEVENT
BEGIN:VEVENT
DTSTART;TZID=America/New_York:20250924T093000
DTEND;TZID=America/New_York:20250924T103000
DTSTAMP:20260425T125300
CREATED:20250831T023121Z
LAST-MODIFIED:20250831T023121Z
UID:24850-1758706200-1758709800@sttimothynj.org
SUMMARY:Needleworks
DESCRIPTION:
URL:https://sttimothynj.org/event/needleworks-2/
CATEGORIES:St Timothy's
END:VEVENT
BEGIN:VEVENT
DTSTART;TZID=America/New_York:20250924T190000
DTEND;TZID=America/New_York:20250924T200000
DTSTAMP:20260425T125300
CREATED:20250831T023153Z
LAST-MODIFIED:20250831T023153Z
UID:24852-1758740400-1758744000@sttimothynj.org
SUMMARY:Jubilate Bells Rehearsal
DESCRIPTION:
URL:https://sttimothynj.org/event/jubilate-bells-rehearsal-2/
CATEGORIES:St Timothy's
END:VEVENT
BEGIN:VEVENT
DTSTART;TZID=America/New_York:20250926T180000
DTEND;TZID=America/New_York:20250926T193000
DTSTAMP:20260425T125300
CREATED:20250831T023227Z
LAST-MODIFIED:20250831T023227Z
UID:24854-1758909600-1758915000@sttimothynj.org
SUMMARY:AA
DESCRIPTION:
URL:https://sttimothynj.org/event/aa-61/
CATEGORIES:St Timothy's
END:VEVENT
BEGIN:VEVENT
DTSTART;VALUE=DATE:20250927
DTEND;VALUE=DATE:20250928
DTSTAMP:20260425T125300
CREATED:20250831T023318Z
LAST-MODIFIED:20250831T023318Z
UID:24856-1758931200-1759017599@sttimothynj.org
SUMMARY:Oktoberfest
DESCRIPTION:
URL:https://sttimothynj.org/event/oktoberfest/
CATEGORIES:St Timothy's
END:VEVENT
BEGIN:VEVENT
DTSTART;TZID=America/New_York:20250928T090000
DTEND;TZID=America/New_York:20250928T100000
DTSTAMP:20260425T125300
CREATED:20250831T023348Z
LAST-MODIFIED:20250831T023348Z
UID:24858-1759050000-1759053600@sttimothynj.org
SUMMARY:Worship
DESCRIPTION:
URL:https://sttimothynj.org/event/worship-23/
CATEGORIES:St Timothy's
END:VEVENT
BEGIN:VEVENT
DTSTART;TZID=America/New_York:20250928T093500
DTEND;TZID=America/New_York:20250928T103000
DTSTAMP:20260425T125300
CREATED:20250831T023423Z
LAST-MODIFIED:20250831T023423Z
UID:24860-1759052100-1759055400@sttimothynj.org
SUMMARY:Sunday School
DESCRIPTION:
URL:https://sttimothynj.org/event/sunday-school-2/
CATEGORIES:St Timothy's
END:VEVENT
BEGIN:VEVENT
DTSTART;TZID=America/New_York:20250928T103000
DTEND;TZID=America/New_York:20250928T113000
DTSTAMP:20260425T125300
CREATED:20250831T023453Z
LAST-MODIFIED:20250831T023453Z
UID:24862-1759055400-1759059000@sttimothynj.org
SUMMARY:Worship
DESCRIPTION:
URL:https://sttimothynj.org/event/worship-24/
CATEGORIES:St Timothy's
END:VEVENT
BEGIN:VEVENT
DTSTART;TZID=America/New_York:20250928T130000
DTEND;TZID=America/New_York:20250928T143000
DTSTAMP:20260425T125300
CREATED:20250831T023522Z
LAST-MODIFIED:20250831T023522Z
UID:24864-1759064400-1759069800@sttimothynj.org
SUMMARY:AA
DESCRIPTION:
URL:https://sttimothynj.org/event/aa-62/
CATEGORIES:St Timothy's
END:VEVENT
BEGIN:VEVENT
DTSTART;TZID=America/New_York:20250929T090000
DTEND;TZID=America/New_York:20250929T113000
DTSTAMP:20260425T125300
CREATED:20250831T023552Z
LAST-MODIFIED:20250831T023552Z
UID:24866-1759136400-1759145400@sttimothynj.org
SUMMARY:Heart ‘n Hands
DESCRIPTION:
URL:https://sttimothynj.org/event/heart-n-hands-28/
CATEGORIES:St Timothy's
END:VEVENT
BEGIN:VEVENT
DTSTART;TZID=America/New_York:20250930T130000
DTEND;TZID=America/New_York:20250930T140000
DTSTAMP:20260425T125300
CREATED:20250831T023651Z
LAST-MODIFIED:20250831T023651Z
UID:24870-1759237200-1759240800@sttimothynj.org
SUMMARY:Meditation w/Movement
DESCRIPTION:
URL:https://sttimothynj.org/event/meditation-w-movement-31/
CATEGORIES:St Timothy's
END:VEVENT
BEGIN:VEVENT
DTSTART;TZID=America/New_York:20250930T140000
DTEND;TZID=America/New_York:20250930T150000
DTSTAMP:20260425T125300
CREATED:20250831T023723Z
LAST-MODIFIED:20250831T023723Z
UID:24872-1759240800-1759244400@sttimothynj.org
SUMMARY:Bible Study w/Holy Communion
DESCRIPTION:
URL:https://sttimothynj.org/event/bible-study-w-holy-communion-30/
CATEGORIES:St Timothy's
END:VEVENT
BEGIN:VEVENT
DTSTART;TZID=America/New_York:20251001T190000
DTEND;TZID=America/New_York:20251001T200000
DTSTAMP:20260425T125300
CREATED:20251002T024553Z
LAST-MODIFIED:20251002T024553Z
UID:24919-1759345200-1759348800@sttimothynj.org
SUMMARY:Alleluia Choir Rehearsal
DESCRIPTION:
URL:https://sttimothynj.org/event/alleluia-choir-rehearsal-3/
CATEGORIES:St Timothy's
END:VEVENT
BEGIN:VEVENT
DTSTART;TZID=America/New_York:20251003T180000
DTEND;TZID=America/New_York:20251003T200000
DTSTAMP:20260425T125300
CREATED:20251002T024636Z
LAST-MODIFIED:20251002T024636Z
UID:24921-1759514400-1759521600@sttimothynj.org
SUMMARY:AA
DESCRIPTION:
URL:https://sttimothynj.org/event/aa-63/
CATEGORIES:St Timothy's
END:VEVENT
BEGIN:VEVENT
DTSTART;TZID=America/New_York:20251005T090000
DTEND;TZID=America/New_York:20251005T100000
DTSTAMP:20260425T125300
CREATED:20251002T024720Z
LAST-MODIFIED:20251002T024720Z
UID:24923-1759654800-1759658400@sttimothynj.org
SUMMARY:Worship
DESCRIPTION:
URL:https://sttimothynj.org/event/worship-25/
CATEGORIES:St Timothy's
END:VEVENT
BEGIN:VEVENT
DTSTART;TZID=America/New_York:20251005T093500
DTEND;TZID=America/New_York:20251005T103000
DTSTAMP:20260425T125300
CREATED:20251002T024812Z
LAST-MODIFIED:20251002T024812Z
UID:24925-1759656900-1759660200@sttimothynj.org
SUMMARY:Sunday School
DESCRIPTION:
URL:https://sttimothynj.org/event/sunday-school-3/
CATEGORIES:St Timothy's
END:VEVENT
BEGIN:VEVENT
DTSTART;TZID=America/New_York:20251005T103000
DTEND;TZID=America/New_York:20251005T113000
DTSTAMP:20260425T125300
CREATED:20251002T024856Z
LAST-MODIFIED:20251002T024856Z
UID:24927-1759660200-1759663800@sttimothynj.org
SUMMARY:Worship
DESCRIPTION:
URL:https://sttimothynj.org/event/worship-26/
CATEGORIES:St Timothy's
END:VEVENT
BEGIN:VEVENT
DTSTART;TZID=America/New_York:20251005T130000
DTEND;TZID=America/New_York:20251005T150000
DTSTAMP:20260425T125300
CREATED:20251002T024933Z
LAST-MODIFIED:20251002T024933Z
UID:24929-1759669200-1759676400@sttimothynj.org
SUMMARY:AA
DESCRIPTION:
URL:https://sttimothynj.org/event/aa-64/
CATEGORIES:St Timothy's
END:VEVENT
BEGIN:VEVENT
DTSTART;TZID=America/New_York:20251006T090000
DTEND;TZID=America/New_York:20251006T113000
DTSTAMP:20260425T125300
CREATED:20251002T025019Z
LAST-MODIFIED:20251002T025019Z
UID:24933-1759741200-1759750200@sttimothynj.org
SUMMARY:Heart ‘n Hands
DESCRIPTION:
URL:https://sttimothynj.org/event/heart-n-hands-29/
CATEGORIES:St Timothy's
END:VEVENT
BEGIN:VEVENT
DTSTART;TZID=America/New_York:20251007T130000
DTEND;TZID=America/New_York:20251007T140000
DTSTAMP:20260425T125300
CREATED:20251002T025138Z
LAST-MODIFIED:20251002T025138Z
UID:24937-1759842000-1759845600@sttimothynj.org
SUMMARY:Meditation w/Movement
DESCRIPTION:
URL:https://sttimothynj.org/event/meditation-w-movement-32/
CATEGORIES:St Timothy's
END:VEVENT
BEGIN:VEVENT
DTSTART;TZID=America/New_York:20251007T140000
DTEND;TZID=America/New_York:20251007T150000
DTSTAMP:20260425T125300
CREATED:20251002T025233Z
LAST-MODIFIED:20251002T025233Z
UID:24939-1759845600-1759849200@sttimothynj.org
SUMMARY:Bible Study w/Holy Communion
DESCRIPTION:
URL:https://sttimothynj.org/event/bible-study-w-holy-communion-31/
CATEGORIES:St Timothy's
END:VEVENT
BEGIN:VEVENT
DTSTART;TZID=America/New_York:20251007T190000
DTEND;TZID=America/New_York:20251007T200000
DTSTAMP:20260425T125300
CREATED:20251002T025326Z
LAST-MODIFIED:20251002T025326Z
UID:24941-1759863600-1759867200@sttimothynj.org
SUMMARY:Worship Committee Meeting
DESCRIPTION:
URL:https://sttimothynj.org/event/worship-committee-meeting/
CATEGORIES:St Timothy's
END:VEVENT
BEGIN:VEVENT
DTSTART;TZID=America/New_York:20251008T093000
DTEND;TZID=America/New_York:20251008T103000
DTSTAMP:20260425T125300
CREATED:20251002T025404Z
LAST-MODIFIED:20251002T025404Z
UID:24943-1759915800-1759919400@sttimothynj.org
SUMMARY:Needleworks
DESCRIPTION:
URL:https://sttimothynj.org/event/needleworks-3/
CATEGORIES:St Timothy's
END:VEVENT
BEGIN:VEVENT
DTSTART;TZID=America/New_York:20251008T190000
DTEND;TZID=America/New_York:20251008T200000
DTSTAMP:20260425T125300
CREATED:20251002T025446Z
LAST-MODIFIED:20251002T025446Z
UID:24945-1759950000-1759953600@sttimothynj.org
SUMMARY:Jubilate Bells Rehearsal
DESCRIPTION:
URL:https://sttimothynj.org/event/jubilate-bells-rehearsal-3/
CATEGORIES:St Timothy's
END:VEVENT
BEGIN:VEVENT
DTSTART;TZID=America/New_York:20251010T180000
DTEND;TZID=America/New_York:20251010T200000
DTSTAMP:20260425T125300
CREATED:20251002T025524Z
LAST-MODIFIED:20251002T025524Z
UID:24947-1760119200-1760126400@sttimothynj.org
SUMMARY:AA
DESCRIPTION:
URL:https://sttimothynj.org/event/aa-65/
CATEGORIES:St Timothy's
END:VEVENT
END:VCALENDAR