BEGIN:VCALENDAR
VERSION:2.0
PRODID:-//St Timothy Lutheran Church - ECPv6.15.20//NONSGML v1.0//EN
CALSCALE:GREGORIAN
METHOD:PUBLISH
X-ORIGINAL-URL:https://sttimothynj.org
X-WR-CALDESC:Events for St Timothy Lutheran Church
REFRESH-INTERVAL;VALUE=DURATION:PT1H
X-Robots-Tag:noindex
X-PUBLISHED-TTL:PT1H
BEGIN:VTIMEZONE
TZID:America/New_York
BEGIN:DAYLIGHT
TZOFFSETFROM:-0500
TZOFFSETTO:-0400
TZNAME:EDT
DTSTART:20240310T070000
END:DAYLIGHT
BEGIN:STANDARD
TZOFFSETFROM:-0400
TZOFFSETTO:-0500
TZNAME:EST
DTSTART:20241103T060000
END:STANDARD
BEGIN:DAYLIGHT
TZOFFSETFROM:-0500
TZOFFSETTO:-0400
TZNAME:EDT
DTSTART:20250309T070000
END:DAYLIGHT
BEGIN:STANDARD
TZOFFSETFROM:-0400
TZOFFSETTO:-0500
TZNAME:EST
DTSTART:20251102T060000
END:STANDARD
BEGIN:DAYLIGHT
TZOFFSETFROM:-0500
TZOFFSETTO:-0400
TZNAME:EDT
DTSTART:20260308T070000
END:DAYLIGHT
BEGIN:STANDARD
TZOFFSETFROM:-0400
TZOFFSETTO:-0500
TZNAME:EST
DTSTART:20261101T060000
END:STANDARD
END:VTIMEZONE
BEGIN:VEVENT
DTSTART;TZID=America/New_York:20251208T090000
DTEND;TZID=America/New_York:20251208T113000
DTSTAMP:20260425T091919
CREATED:20251030T154231Z
LAST-MODIFIED:20251207T181844Z
UID:25632-1765184400-1765193400@sttimothynj.org
SUMMARY:Heart n' Hands Mission
DESCRIPTION:Volunteers are available to help with donations.  Please pull around to the rear parking lot and enter through first set of doors (where the railings are!).  Go down the half-flight of stairs to the rooms on the right.\nThis is a collection site only.\nFor donation intake at other times\, call the office 973.694.8316 for arrangements.
URL:https://sttimothynj.org/event/heart-n-hands-mission-6/
CATEGORIES:St Timothy's
END:VEVENT
BEGIN:VEVENT
DTSTART;TZID=America/New_York:20251208T190000
DTEND;TZID=America/New_York:20251208T200000
DTSTAMP:20260425T091919
CREATED:20251030T154231Z
LAST-MODIFIED:20251203T181344Z
UID:25633-1765220400-1765224000@sttimothynj.org
SUMMARY:Boy Scouts Troop 107
DESCRIPTION:
URL:https://sttimothynj.org/event/boy-scouts-troop-107-6/
CATEGORIES:St Timothy's
END:VEVENT
BEGIN:VEVENT
DTSTART;TZID=America/New_York:20251208T190000
DTEND;TZID=America/New_York:20251208T200000
DTSTAMP:20260425T091919
CREATED:20251204T181303Z
LAST-MODIFIED:20251208T183032Z
UID:25867-1765220400-1765224000@sttimothynj.org
SUMMARY:Boy Scout Troop 107
DESCRIPTION:
URL:https://sttimothynj.org/event/boy-scout-troop-107/
CATEGORIES:St Timothy's
END:VEVENT
BEGIN:VEVENT
DTSTART;TZID=America/New_York:20251209T130000
DTEND;TZID=America/New_York:20251209T140000
DTSTAMP:20260425T091919
CREATED:20251030T154231Z
LAST-MODIFIED:20251209T183630Z
UID:25635-1765285200-1765288800@sttimothynj.org
SUMMARY:Meditation with Movement
DESCRIPTION:
URL:https://sttimothynj.org/event/meditation-with-movement-7/
CATEGORIES:St Timothy's
END:VEVENT
BEGIN:VEVENT
DTSTART;TZID=America/New_York:20251209T140000
DTEND;TZID=America/New_York:20251209T150000
DTSTAMP:20260425T091919
CREATED:20251030T154231Z
LAST-MODIFIED:20251209T183630Z
UID:25634-1765288800-1765292400@sttimothynj.org
SUMMARY:Bible Study w/Communion
DESCRIPTION:
URL:https://sttimothynj.org/event/bible-study-w-communion-6/
CATEGORIES:St Timothy's
END:VEVENT
BEGIN:VEVENT
DTSTART;TZID=America/New_York:20251210T093000
DTEND;TZID=America/New_York:20251210T110000
DTSTAMP:20260425T091919
CREATED:20251204T181304Z
LAST-MODIFIED:20251209T183630Z
UID:25869-1765359000-1765364400@sttimothynj.org
SUMMARY:Angels Circle
DESCRIPTION:
URL:https://sttimothynj.org/event/angels-circle-11/
CATEGORIES:St Timothy's
END:VEVENT
BEGIN:VEVENT
DTSTART;TZID=America/New_York:20251210T103000
DTEND;TZID=America/New_York:20251210T120000
DTSTAMP:20260425T091919
CREATED:20251204T181304Z
LAST-MODIFIED:20251209T183630Z
UID:25868-1765362600-1765368000@sttimothynj.org
SUMMARY:Knitters & Crocheters
DESCRIPTION:
URL:https://sttimothynj.org/event/knitters-crocheters/
CATEGORIES:St Timothy's
END:VEVENT
BEGIN:VEVENT
DTSTART;VALUE=DATE:20251212
DTEND;VALUE=DATE:20251213
DTSTAMP:20260425T091919
CREATED:20251204T181304Z
LAST-MODIFIED:20251212T232925Z
UID:25870-1765497600-1765583999@sttimothynj.org
SUMMARY:OFFICE CLOSED
DESCRIPTION:
URL:https://sttimothynj.org/event/office-closed-6/
CATEGORIES:St Timothy's
END:VEVENT
BEGIN:VEVENT
DTSTART;TZID=America/New_York:20251212T180000
DTEND;TZID=America/New_York:20251212T193000
DTSTAMP:20260425T091919
CREATED:20251021T151329Z
LAST-MODIFIED:20251028T154249Z
UID:25082-1765562400-1765567800@sttimothynj.org
SUMMARY:AA
DESCRIPTION:
URL:https://sttimothynj.org/event/aa-77/
CATEGORIES:St Timothy's
END:VEVENT
BEGIN:VEVENT
DTSTART;TZID=America/New_York:20251212T180000
DTEND;TZID=America/New_York:20251212T193000
DTSTAMP:20260425T091919
CREATED:20251030T154231Z
LAST-MODIFIED:20251212T232925Z
UID:25636-1765562400-1765567800@sttimothynj.org
SUMMARY:AA Wayne Valley group
DESCRIPTION:
URL:https://sttimothynj.org/event/aa-wayne-valley-group-6/
CATEGORIES:St Timothy's
END:VEVENT
BEGIN:VEVENT
DTSTART;TZID=America/New_York:20251213T103000
DTEND;TZID=America/New_York:20251213T113000
DTSTAMP:20260425T091919
CREATED:20251030T154231Z
LAST-MODIFIED:20251212T232925Z
UID:25637-1765621800-1765625400@sttimothynj.org
SUMMARY:Bookworks Book Club
DESCRIPTION:
URL:https://sttimothynj.org/event/bookworks-book-club-2/
CATEGORIES:St Timothy's
END:VEVENT
BEGIN:VEVENT
DTSTART;TZID=America/New_York:20251214T090000
DTEND;TZID=America/New_York:20251214T093000
DTSTAMP:20260425T091919
CREATED:20251029T154442Z
LAST-MODIFIED:20251213T232917Z
UID:25531-1765702800-1765704600@sttimothynj.org
SUMMARY:Worship
DESCRIPTION:
URL:https://sttimothynj.org/event/worship-38/
CATEGORIES:St Timothy's
END:VEVENT
BEGIN:VEVENT
DTSTART;TZID=America/New_York:20251214T093500
DTEND;TZID=America/New_York:20251214T102000
DTSTAMP:20260425T091919
CREATED:20251029T154442Z
LAST-MODIFIED:20251029T154443Z
UID:25532-1765704900-1765707600@sttimothynj.org
SUMMARY:Christian Ed Programs
DESCRIPTION:Programs include: \nSunday School classes for grades Pre-K through 6\nConfirmation classes for grades 7-8\nAdult Discussion Forum\nAdult Christian Education classes
URL:https://sttimothynj.org/event/christian-ed-programs-14/
CATEGORIES:St Timothy's
END:VEVENT
BEGIN:VEVENT
DTSTART;TZID=America/New_York:20251214T103000
DTEND;TZID=America/New_York:20251214T113000
DTSTAMP:20260425T091919
CREATED:20251030T154231Z
LAST-MODIFIED:20251213T232917Z
UID:25638-1765708200-1765711800@sttimothynj.org
SUMMARY:Worship & livestream
DESCRIPTION:
URL:https://sttimothynj.org/event/worship-livestream-13/
CATEGORIES:St Timothy's
END:VEVENT
BEGIN:VEVENT
DTSTART;TZID=America/New_York:20251214T103000
DTEND;TZID=America/New_York:20251214T113000
DTSTAMP:20260425T091919
CREATED:20251204T181304Z
LAST-MODIFIED:20251213T232917Z
UID:25871-1765708200-1765711800@sttimothynj.org
SUMMARY:Angel Gifts DUE
DESCRIPTION:
URL:https://sttimothynj.org/event/angel-gifts-due/
CATEGORIES:St Timothy's
END:VEVENT
BEGIN:VEVENT
DTSTART;TZID=America/New_York:20251214T130000
DTEND;TZID=America/New_York:20251214T143000
DTSTAMP:20260425T091919
CREATED:20251030T154231Z
LAST-MODIFIED:20251213T232917Z
UID:25639-1765717200-1765722600@sttimothynj.org
SUMMARY:AA Keep It Real group
DESCRIPTION:
URL:https://sttimothynj.org/event/aa-keep-it-real-group-7/
CATEGORIES:St Timothy's
END:VEVENT
BEGIN:VEVENT
DTSTART;TZID=America/New_York:20251215T090000
DTEND;TZID=America/New_York:20251215T113000
DTSTAMP:20260425T091919
CREATED:20251030T154231Z
LAST-MODIFIED:20251214T232837Z
UID:25640-1765789200-1765798200@sttimothynj.org
SUMMARY:Heart n' Hands Mission
DESCRIPTION:Volunteers are available to help with donations.  Please pull around to the rear parking lot and enter through first set of doors (where the railings are!).  Go down the half-flight of stairs to the rooms on the right.\nThis is a collection site only.\nFor donation intake at other times\, call the office 973.694.8316 for arrangements.
URL:https://sttimothynj.org/event/heart-n-hands-mission-7/
CATEGORIES:St Timothy's
END:VEVENT
BEGIN:VEVENT
DTSTART;TZID=America/New_York:20251215T100000
DTEND;TZID=America/New_York:20251215T100000
DTSTAMP:20260425T091919
CREATED:20251204T181304Z
LAST-MODIFIED:20251214T232837Z
UID:25872-1765792800-1765792800@sttimothynj.org
SUMMARY:Poinsettia orders DUE
DESCRIPTION:
URL:https://sttimothynj.org/event/poinsettia-orders-due/
CATEGORIES:St Timothy's
END:VEVENT
BEGIN:VEVENT
DTSTART;TZID=America/New_York:20251215T190000
DTEND;TZID=America/New_York:20251215T200000
DTSTAMP:20260425T091919
CREATED:20251030T154231Z
LAST-MODIFIED:20251203T181345Z
UID:25641-1765825200-1765828800@sttimothynj.org
SUMMARY:Boy Scouts Troop 107
DESCRIPTION:
URL:https://sttimothynj.org/event/boy-scouts-troop-107-7/
CATEGORIES:St Timothy's
END:VEVENT
BEGIN:VEVENT
DTSTART;TZID=America/New_York:20251215T190000
DTEND;TZID=America/New_York:20251215T200000
DTSTAMP:20260425T091919
CREATED:20251204T181304Z
LAST-MODIFIED:20251215T232731Z
UID:25873-1765825200-1765828800@sttimothynj.org
SUMMARY:Boy Scout Troop 107
DESCRIPTION:
URL:https://sttimothynj.org/event/boy-scout-troop-107-2/
CATEGORIES:St Timothy's
END:VEVENT
BEGIN:VEVENT
DTSTART;TZID=America/New_York:20251216T130000
DTEND;TZID=America/New_York:20251216T140000
DTSTAMP:20260425T091919
CREATED:20251030T154231Z
LAST-MODIFIED:20251215T232731Z
UID:25643-1765890000-1765893600@sttimothynj.org
SUMMARY:Meditation with Movement
DESCRIPTION:
URL:https://sttimothynj.org/event/meditation-with-movement-8/
CATEGORIES:St Timothy's
END:VEVENT
BEGIN:VEVENT
DTSTART;TZID=America/New_York:20251216T140000
DTEND;TZID=America/New_York:20251216T150000
DTSTAMP:20260425T091919
CREATED:20251030T154231Z
LAST-MODIFIED:20251215T232731Z
UID:25642-1765893600-1765897200@sttimothynj.org
SUMMARY:Bible Study w/Communion
DESCRIPTION:
URL:https://sttimothynj.org/event/bible-study-w-communion-7/
CATEGORIES:St Timothy's
END:VEVENT
BEGIN:VEVENT
DTSTART;TZID=America/New_York:20251217T100000
DTEND;TZID=America/New_York:20251217T110000
DTSTAMP:20260425T091919
CREATED:20251030T154231Z
LAST-MODIFIED:20251216T232755Z
UID:25644-1765965600-1765969200@sttimothynj.org
SUMMARY:Hymn Sing @ Alps of Wayne
DESCRIPTION:
URL:https://sttimothynj.org/event/hymn-sing-alps-of-wayne-2/
CATEGORIES:St Timothy's
END:VEVENT
BEGIN:VEVENT
DTSTART;TZID=America/New_York:20251218T103000
DTEND;TZID=America/New_York:20251218T113000
DTSTAMP:20260425T091919
CREATED:20251030T154231Z
LAST-MODIFIED:20251216T232755Z
UID:25645-1766053800-1766057400@sttimothynj.org
SUMMARY:Adult Book Group
DESCRIPTION:
URL:https://sttimothynj.org/event/adult-book-group-10/
CATEGORIES:St Timothy's
END:VEVENT
BEGIN:VEVENT
DTSTART;VALUE=DATE:20251219
DTEND;VALUE=DATE:20251220
DTSTAMP:20260425T091919
CREATED:20251204T181304Z
LAST-MODIFIED:20251216T232755Z
UID:25874-1766102400-1766188799@sttimothynj.org
SUMMARY:OFFICE CLOSED
DESCRIPTION:
URL:https://sttimothynj.org/event/office-closed-7/
CATEGORIES:St Timothy's
END:VEVENT
BEGIN:VEVENT
DTSTART;TZID=America/New_York:20251219T180000
DTEND;TZID=America/New_York:20251219T193000
DTSTAMP:20260425T091919
CREATED:20251021T151329Z
LAST-MODIFIED:20251028T154249Z
UID:25084-1766167200-1766172600@sttimothynj.org
SUMMARY:AA
DESCRIPTION:
URL:https://sttimothynj.org/event/aa-78/
CATEGORIES:St Timothy's
END:VEVENT
BEGIN:VEVENT
DTSTART;TZID=America/New_York:20251219T180000
DTEND;TZID=America/New_York:20251219T193000
DTSTAMP:20260425T091919
CREATED:20251030T154231Z
LAST-MODIFIED:20251216T232755Z
UID:25646-1766167200-1766172600@sttimothynj.org
SUMMARY:AA Wayne Valley group
DESCRIPTION:
URL:https://sttimothynj.org/event/aa-wayne-valley-group-7/
CATEGORIES:St Timothy's
END:VEVENT
BEGIN:VEVENT
DTSTART;TZID=America/New_York:20251221T093000
DTEND;TZID=America/New_York:20251221T110000
DTSTAMP:20260425T091919
CREATED:20251204T181304Z
LAST-MODIFIED:20251221T105259Z
UID:25875-1766309400-1766314800@sttimothynj.org
SUMMARY:Worship & Christmas Pageant
DESCRIPTION:
URL:https://sttimothynj.org/event/worship-christmas-pageant/
CATEGORIES:St Timothy's
END:VEVENT
BEGIN:VEVENT
DTSTART;TZID=America/New_York:20251221T130000
DTEND;TZID=America/New_York:20251221T143000
DTSTAMP:20260425T091919
CREATED:20251030T154231Z
LAST-MODIFIED:20251221T105259Z
UID:25647-1766322000-1766327400@sttimothynj.org
SUMMARY:AA Keep It Real group
DESCRIPTION:
URL:https://sttimothynj.org/event/aa-keep-it-real-group-8/
CATEGORIES:St Timothy's
END:VEVENT
BEGIN:VEVENT
DTSTART;TZID=America/New_York:20251222T090000
DTEND;TZID=America/New_York:20251222T113000
DTSTAMP:20260425T091919
CREATED:20251030T154231Z
LAST-MODIFIED:20251203T181345Z
UID:25648-1766394000-1766403000@sttimothynj.org
SUMMARY:Heart n' Hands Mission
DESCRIPTION:Volunteers are available to help with donations.  Please pull around to the rear parking lot and enter through first set of doors (where the railings are!).  Go down the half-flight of stairs to the rooms on the right.\nThis is a collection site only.\nFor donation intake at other times\, call the office 973.694.8316 for arrangements.
URL:https://sttimothynj.org/event/heart-n-hands-mission-8/
CATEGORIES:St Timothy's
END:VEVENT
END:VCALENDAR