BEGIN:VCALENDAR
VERSION:2.0
PRODID:-//St Timothy Lutheran Church - ECPv6.15.20//NONSGML v1.0//EN
CALSCALE:GREGORIAN
METHOD:PUBLISH
X-WR-CALNAME:St Timothy Lutheran Church
X-ORIGINAL-URL:https://sttimothynj.org
X-WR-CALDESC:Events for St Timothy Lutheran Church
REFRESH-INTERVAL;VALUE=DURATION:PT1H
X-Robots-Tag:noindex
X-PUBLISHED-TTL:PT1H
BEGIN:VTIMEZONE
TZID:America/New_York
BEGIN:DAYLIGHT
TZOFFSETFROM:-0500
TZOFFSETTO:-0400
TZNAME:EDT
DTSTART:20240310T070000
END:DAYLIGHT
BEGIN:STANDARD
TZOFFSETFROM:-0400
TZOFFSETTO:-0500
TZNAME:EST
DTSTART:20241103T060000
END:STANDARD
BEGIN:DAYLIGHT
TZOFFSETFROM:-0500
TZOFFSETTO:-0400
TZNAME:EDT
DTSTART:20250309T070000
END:DAYLIGHT
BEGIN:STANDARD
TZOFFSETFROM:-0400
TZOFFSETTO:-0500
TZNAME:EST
DTSTART:20251102T060000
END:STANDARD
BEGIN:DAYLIGHT
TZOFFSETFROM:-0500
TZOFFSETTO:-0400
TZNAME:EDT
DTSTART:20260308T070000
END:DAYLIGHT
BEGIN:STANDARD
TZOFFSETFROM:-0400
TZOFFSETTO:-0500
TZNAME:EST
DTSTART:20261101T060000
END:STANDARD
END:VTIMEZONE
BEGIN:VEVENT
DTSTART;TZID=America/New_York:20251112T103000
DTEND;TZID=America/New_York:20251112T120000
DTSTAMP:20260425T120118
CREATED:20251030T154230Z
LAST-MODIFIED:20251112T164611Z
UID:25600-1762943400-1762948800@sttimothynj.org
SUMMARY:Nellie's Needleworks group
DESCRIPTION:This group of knitting & crocheting hobbyists bring their own projects and supplies to work side-by-side their fellow crafters.  Seasoned yarnworkers are willing to teach those inexperienced or to lend a hand with a tricky pattern.
URL:https://sttimothynj.org/event/nellies-needleworks-group/
CATEGORIES:St Timothy's
END:VEVENT
BEGIN:VEVENT
DTSTART;TZID=America/New_York:20251112T191500
DTEND;TZID=America/New_York:20251112T201500
DTSTAMP:20260425T120118
CREATED:20251030T154230Z
LAST-MODIFIED:20251112T164611Z
UID:25602-1762974900-1762978500@sttimothynj.org
SUMMARY:Alleluia Choir rehearsal
DESCRIPTION:
URL:https://sttimothynj.org/event/alleluia-choir-rehearsal-6/
CATEGORIES:St Timothy's
END:VEVENT
BEGIN:VEVENT
DTSTART;TZID=America/New_York:20251114T180000
DTEND;TZID=America/New_York:20251114T193000
DTSTAMP:20260425T120118
CREATED:20251021T150942Z
LAST-MODIFIED:20251029T154443Z
UID:25065-1763143200-1763148600@sttimothynj.org
SUMMARY:AA
DESCRIPTION:
URL:https://sttimothynj.org/event/aa-73/
CATEGORIES:St Timothy's
END:VEVENT
BEGIN:VEVENT
DTSTART;TZID=America/New_York:20251114T180000
DTEND;TZID=America/New_York:20251114T193000
DTSTAMP:20260425T120118
CREATED:20251030T154230Z
LAST-MODIFIED:20251114T170020Z
UID:25603-1763143200-1763148600@sttimothynj.org
SUMMARY:AA Wayne Valley group
DESCRIPTION:
URL:https://sttimothynj.org/event/aa-wayne-valley-group-2/
CATEGORIES:St Timothy's
END:VEVENT
BEGIN:VEVENT
DTSTART;TZID=America/New_York:20251114T190000
DTEND;TZID=America/New_York:20251114T210000
DTSTAMP:20260425T120118
CREATED:20251030T154230Z
LAST-MODIFIED:20251114T170020Z
UID:25604-1763146800-1763154000@sttimothynj.org
SUMMARY:Line Dancing
DESCRIPTION:
URL:https://sttimothynj.org/event/line-dancing-2/
CATEGORIES:St Timothy's
END:VEVENT
BEGIN:VEVENT
DTSTART;TZID=America/New_York:20251116T090000
DTEND;TZID=America/New_York:20251116T093000
DTSTAMP:20260425T120118
CREATED:20251029T154442Z
LAST-MODIFIED:20251115T165857Z
UID:25509-1763283600-1763285400@sttimothynj.org
SUMMARY:Worship
DESCRIPTION:
URL:https://sttimothynj.org/event/worship-34/
CATEGORIES:St Timothy's
END:VEVENT
BEGIN:VEVENT
DTSTART;TZID=America/New_York:20251116T093500
DTEND;TZID=America/New_York:20251116T102000
DTSTAMP:20260425T120118
CREATED:20251029T154442Z
LAST-MODIFIED:20251029T154443Z
UID:25510-1763285700-1763288400@sttimothynj.org
SUMMARY:Christian Ed Programs
DESCRIPTION:Programs include: \nSunday School classes for grades Pre-K through 6\nConfirmation classes for grades 7-8\nAdult Discussion Forum\nAdult Christian Education classes
URL:https://sttimothynj.org/event/christian-ed-programs-6/
CATEGORIES:St Timothy's
END:VEVENT
BEGIN:VEVENT
DTSTART;TZID=America/New_York:20251116T103000
DTEND;TZID=America/New_York:20251116T113000
DTSTAMP:20260425T120118
CREATED:20251030T154230Z
LAST-MODIFIED:20251115T165857Z
UID:25605-1763289000-1763292600@sttimothynj.org
SUMMARY:Worship & livestream
DESCRIPTION:
URL:https://sttimothynj.org/event/worship-livestream-9/
CATEGORIES:St Timothy's
END:VEVENT
BEGIN:VEVENT
DTSTART;TZID=America/New_York:20251116T130000
DTEND;TZID=America/New_York:20251116T143000
DTSTAMP:20260425T120118
CREATED:20251030T154230Z
LAST-MODIFIED:20251116T170120Z
UID:25606-1763298000-1763303400@sttimothynj.org
SUMMARY:AA Keep It Real group
DESCRIPTION:
URL:https://sttimothynj.org/event/aa-keep-it-real-group-3/
CATEGORIES:St Timothy's
END:VEVENT
BEGIN:VEVENT
DTSTART;TZID=America/New_York:20251117T090000
DTEND;TZID=America/New_York:20251117T113000
DTSTAMP:20260425T120118
CREATED:20251030T154230Z
LAST-MODIFIED:20251116T170120Z
UID:25607-1763370000-1763379000@sttimothynj.org
SUMMARY:Heart n' Hands Mission
DESCRIPTION:Volunteers are available to help with donations.  Please pull around to the rear parking lot and enter through first set of doors (where the railings are!).  Go down the half-flight of stairs to the rooms on the right.\nThis is a collection site only.\nFor donation intake at other times\, call the office 973.694.8316 for arrangements.
URL:https://sttimothynj.org/event/heart-n-hands-mission-3/
CATEGORIES:St Timothy's
END:VEVENT
BEGIN:VEVENT
DTSTART;TZID=America/New_York:20251117T190000
DTEND;TZID=America/New_York:20251117T200000
DTSTAMP:20260425T120118
CREATED:20251030T154230Z
LAST-MODIFIED:20251117T165935Z
UID:25608-1763406000-1763409600@sttimothynj.org
SUMMARY:Boy Scouts Troop 107
DESCRIPTION:
URL:https://sttimothynj.org/event/boy-scouts-troop-107-3/
CATEGORIES:St Timothy's
END:VEVENT
BEGIN:VEVENT
DTSTART;TZID=America/New_York:20251118T130000
DTEND;TZID=America/New_York:20251118T140000
DTSTAMP:20260425T120118
CREATED:20251030T154230Z
LAST-MODIFIED:20251118T171228Z
UID:25609-1763470800-1763474400@sttimothynj.org
SUMMARY:Meditation with Movement
DESCRIPTION:
URL:https://sttimothynj.org/event/meditation-with-movement-4/
CATEGORIES:St Timothy's
END:VEVENT
BEGIN:VEVENT
DTSTART;TZID=America/New_York:20251118T140000
DTEND;TZID=America/New_York:20251118T150000
DTSTAMP:20260425T120118
CREATED:20251030T154230Z
LAST-MODIFIED:20251118T171228Z
UID:25610-1763474400-1763478000@sttimothynj.org
SUMMARY:Bible Study w/Communion
DESCRIPTION:
URL:https://sttimothynj.org/event/bible-study-w-communion-3/
CATEGORIES:St Timothy's
END:VEVENT
BEGIN:VEVENT
DTSTART;TZID=America/New_York:20251119T100000
DTEND;TZID=America/New_York:20251119T110000
DTSTAMP:20260425T120118
CREATED:20251030T154230Z
LAST-MODIFIED:20251118T171228Z
UID:25611-1763546400-1763550000@sttimothynj.org
SUMMARY:Hymn Sing @ Alps of Wayne
DESCRIPTION:
URL:https://sttimothynj.org/event/hymn-sing-alps-of-wayne/
CATEGORIES:St Timothy's
END:VEVENT
BEGIN:VEVENT
DTSTART;TZID=America/New_York:20251119T191500
DTEND;TZID=America/New_York:20251119T201500
DTSTAMP:20260425T120118
CREATED:20251030T154230Z
LAST-MODIFIED:20251119T172018Z
UID:25612-1763579700-1763583300@sttimothynj.org
SUMMARY:Jubilate Bell Choir rehearsal
DESCRIPTION:
URL:https://sttimothynj.org/event/jubilate-bell-choir-rehearsal-2/
CATEGORIES:St Timothy's
END:VEVENT
BEGIN:VEVENT
DTSTART;TZID=America/New_York:20251120T103000
DTEND;TZID=America/New_York:20251120T113000
DTSTAMP:20260425T120118
CREATED:20251030T154230Z
LAST-MODIFIED:20251119T172018Z
UID:25613-1763634600-1763638200@sttimothynj.org
SUMMARY:Adult Book Group
DESCRIPTION:
URL:https://sttimothynj.org/event/adult-book-group-9/
CATEGORIES:St Timothy's
END:VEVENT
BEGIN:VEVENT
DTSTART;TZID=America/New_York:20251120T103000
DTEND;TZID=America/New_York:20251120T113000
DTSTAMP:20260425T120118
CREATED:20251104T160049Z
LAST-MODIFIED:20251119T172018Z
UID:25828-1763634600-1763638200@sttimothynj.org
SUMMARY:Adult Book Group
DESCRIPTION:The group is currently reading and discussing Conquering Fear by Rabbi Harold S. Kushner.  Each session is stand-alone\, so come if you can anytime.
URL:https://sttimothynj.org/event/adult-book-group-28/
CATEGORIES:St Timothy's
END:VEVENT
BEGIN:VEVENT
DTSTART;TZID=America/New_York:20251121T180000
DTEND;TZID=America/New_York:20251121T193000
DTSTAMP:20260425T120118
CREATED:20251021T151329Z
LAST-MODIFIED:20251029T154443Z
UID:25076-1763748000-1763753400@sttimothynj.org
SUMMARY:AA
DESCRIPTION:
URL:https://sttimothynj.org/event/aa-74/
CATEGORIES:St Timothy's
END:VEVENT
BEGIN:VEVENT
DTSTART;TZID=America/New_York:20251121T180000
DTEND;TZID=America/New_York:20251121T193000
DTSTAMP:20260425T120118
CREATED:20251030T154230Z
LAST-MODIFIED:20251121T173232Z
UID:25614-1763748000-1763753400@sttimothynj.org
SUMMARY:AA Wayne Valley group
DESCRIPTION:
URL:https://sttimothynj.org/event/aa-wayne-valley-group-3/
CATEGORIES:St Timothy's
END:VEVENT
BEGIN:VEVENT
DTSTART;TZID=America/New_York:20251123T090000
DTEND;TZID=America/New_York:20251123T093000
DTSTAMP:20260425T120118
CREATED:20251029T154442Z
LAST-MODIFIED:20251122T173613Z
UID:25514-1763888400-1763890200@sttimothynj.org
SUMMARY:Worship
DESCRIPTION:
URL:https://sttimothynj.org/event/worship-35/
CATEGORIES:St Timothy's
END:VEVENT
BEGIN:VEVENT
DTSTART;TZID=America/New_York:20251123T093500
DTEND;TZID=America/New_York:20251123T102000
DTSTAMP:20260425T120118
CREATED:20251029T154442Z
LAST-MODIFIED:20251029T154443Z
UID:25515-1763890500-1763893200@sttimothynj.org
SUMMARY:Christian Ed Programs
DESCRIPTION:Programs include: \nSunday School classes for grades Pre-K through 6\nConfirmation classes for grades 7-8\nAdult Discussion Forum\nAdult Christian Education classes
URL:https://sttimothynj.org/event/christian-ed-programs-8/
CATEGORIES:St Timothy's
END:VEVENT
BEGIN:VEVENT
DTSTART;TZID=America/New_York:20251123T103000
DTEND;TZID=America/New_York:20251123T113000
DTSTAMP:20260425T120118
CREATED:20251030T154230Z
LAST-MODIFIED:20251122T173613Z
UID:25615-1763893800-1763897400@sttimothynj.org
SUMMARY:Worship & livestream
DESCRIPTION:
URL:https://sttimothynj.org/event/worship-livestream-10/
CATEGORIES:St Timothy's
END:VEVENT
BEGIN:VEVENT
DTSTART;TZID=America/New_York:20251123T130000
DTEND;TZID=America/New_York:20251123T143000
DTSTAMP:20260425T120118
CREATED:20251030T154230Z
LAST-MODIFIED:20251123T174319Z
UID:25616-1763902800-1763908200@sttimothynj.org
SUMMARY:AA Keep It Real group
DESCRIPTION:
URL:https://sttimothynj.org/event/aa-keep-it-real-group-4/
CATEGORIES:St Timothy's
END:VEVENT
BEGIN:VEVENT
DTSTART;TZID=America/New_York:20251124T090000
DTEND;TZID=America/New_York:20251124T113000
DTSTAMP:20260425T120118
CREATED:20251030T154230Z
LAST-MODIFIED:20251123T174319Z
UID:25617-1763974800-1763983800@sttimothynj.org
SUMMARY:Heart n' Hands Mission
DESCRIPTION:Volunteers are available to help with donations.  Please pull around to the rear parking lot and enter through first set of doors (where the railings are!).  Go down the half-flight of stairs to the rooms on the right.\nThis is a collection site only.\nFor donation intake at other times\, call the office 973.694.8316 for arrangements.
URL:https://sttimothynj.org/event/heart-n-hands-mission-4/
CATEGORIES:St Timothy's
END:VEVENT
BEGIN:VEVENT
DTSTART;TZID=America/New_York:20251124T190000
DTEND;TZID=America/New_York:20251124T200000
DTSTAMP:20260425T120118
CREATED:20251030T154230Z
LAST-MODIFIED:20251124T174607Z
UID:25618-1764010800-1764014400@sttimothynj.org
SUMMARY:Boy Scouts Troop 107
DESCRIPTION:
URL:https://sttimothynj.org/event/boy-scouts-troop-107-4/
CATEGORIES:St Timothy's
END:VEVENT
BEGIN:VEVENT
DTSTART;TZID=America/New_York:20251125T130000
DTEND;TZID=America/New_York:20251125T140000
DTSTAMP:20260425T120118
CREATED:20251030T154230Z
LAST-MODIFIED:20251125T174618Z
UID:25619-1764075600-1764079200@sttimothynj.org
SUMMARY:Meditation with Movement
DESCRIPTION:
URL:https://sttimothynj.org/event/meditation-with-movement-5/
CATEGORIES:St Timothy's
END:VEVENT
BEGIN:VEVENT
DTSTART;TZID=America/New_York:20251125T140000
DTEND;TZID=America/New_York:20251125T150000
DTSTAMP:20260425T120118
CREATED:20251030T154230Z
LAST-MODIFIED:20251125T174618Z
UID:25620-1764079200-1764082800@sttimothynj.org
SUMMARY:Bible Study w/Communion
DESCRIPTION:
URL:https://sttimothynj.org/event/bible-study-w-communion-4/
CATEGORIES:St Timothy's
END:VEVENT
BEGIN:VEVENT
DTSTART;VALUE=DATE:20251127
DTEND;VALUE=DATE:20251128
DTSTAMP:20260425T120118
CREATED:20251030T154230Z
LAST-MODIFIED:20251127T180427Z
UID:25621-1764201600-1764287999@sttimothynj.org
SUMMARY:Office Closed: Happy Thanksgiving
DESCRIPTION:
URL:https://sttimothynj.org/event/office-closed-happy-thanksgiving/
CATEGORIES:St Timothy's
END:VEVENT
BEGIN:VEVENT
DTSTART;TZID=America/New_York:20251128T180000
DTEND;TZID=America/New_York:20251128T193000
DTSTAMP:20260425T120118
CREATED:20251021T151329Z
LAST-MODIFIED:20251029T154443Z
UID:25078-1764352800-1764358200@sttimothynj.org
SUMMARY:AA
DESCRIPTION:
URL:https://sttimothynj.org/event/aa-75/
CATEGORIES:St Timothy's
END:VEVENT
BEGIN:VEVENT
DTSTART;TZID=America/New_York:20251128T180000
DTEND;TZID=America/New_York:20251128T193000
DTSTAMP:20260425T120118
CREATED:20251030T154231Z
LAST-MODIFIED:20251128T181718Z
UID:25622-1764352800-1764358200@sttimothynj.org
SUMMARY:AA Wayne Valley group
DESCRIPTION:
URL:https://sttimothynj.org/event/aa-wayne-valley-group-4/
CATEGORIES:St Timothy's
END:VEVENT
END:VCALENDAR