BEGIN:VCALENDAR
VERSION:2.0
PRODID:-//St Timothy Lutheran Church - ECPv6.15.20//NONSGML v1.0//EN
CALSCALE:GREGORIAN
METHOD:PUBLISH
X-WR-CALNAME:St Timothy Lutheran Church
X-ORIGINAL-URL:https://sttimothynj.org
X-WR-CALDESC:Events for St Timothy Lutheran Church
REFRESH-INTERVAL;VALUE=DURATION:PT1H
X-Robots-Tag:noindex
X-PUBLISHED-TTL:PT1H
BEGIN:VTIMEZONE
TZID:UTC
BEGIN:STANDARD
TZOFFSETFROM:+0000
TZOFFSETTO:+0000
TZNAME:UTC
DTSTART:20240101T000000
END:STANDARD
END:VTIMEZONE
BEGIN:VTIMEZONE
TZID:America/New_York
BEGIN:DAYLIGHT
TZOFFSETFROM:-0500
TZOFFSETTO:-0400
TZNAME:EDT
DTSTART:20240310T070000
END:DAYLIGHT
BEGIN:STANDARD
TZOFFSETFROM:-0400
TZOFFSETTO:-0500
TZNAME:EST
DTSTART:20241103T060000
END:STANDARD
BEGIN:DAYLIGHT
TZOFFSETFROM:-0500
TZOFFSETTO:-0400
TZNAME:EDT
DTSTART:20250309T070000
END:DAYLIGHT
BEGIN:STANDARD
TZOFFSETFROM:-0400
TZOFFSETTO:-0500
TZNAME:EST
DTSTART:20251102T060000
END:STANDARD
BEGIN:DAYLIGHT
TZOFFSETFROM:-0500
TZOFFSETTO:-0400
TZNAME:EDT
DTSTART:20260308T070000
END:DAYLIGHT
BEGIN:STANDARD
TZOFFSETFROM:-0400
TZOFFSETTO:-0500
TZNAME:EST
DTSTART:20261101T060000
END:STANDARD
END:VTIMEZONE
BEGIN:VEVENT
DTSTART;TZID=UTC:20250515T103000
DTEND;TZID=UTC:20250515T113000
DTSTAMP:20260426T001442
CREATED:20250504T072530Z
LAST-MODIFIED:20250504T072530Z
UID:24445-1747305000-1747308600@sttimothynj.org
SUMMARY:Adult Book Group
DESCRIPTION:
URL:https://sttimothynj.org/event/adult-book-group-3/
CATEGORIES:St Timothy's
END:VEVENT
BEGIN:VEVENT
DTSTART;TZID=UTC:20250516T180000
DTEND;TZID=UTC:20250516T193000
DTSTAMP:20260426T001442
CREATED:20250504T072611Z
LAST-MODIFIED:20250504T072611Z
UID:24447-1747418400-1747423800@sttimothynj.org
SUMMARY:AA
DESCRIPTION:
URL:https://sttimothynj.org/event/aa-24/
CATEGORIES:St Timothy's
END:VEVENT
BEGIN:VEVENT
DTSTART;TZID=UTC:20250518T083000
DTEND;TZID=UTC:20250518T091500
DTSTAMP:20260426T001442
CREATED:20250504T072738Z
LAST-MODIFIED:20250504T072738Z
UID:24449-1747557000-1747559700@sttimothynj.org
SUMMARY:Worship Service
DESCRIPTION:
URL:https://sttimothynj.org/event/worship-service-5/
CATEGORIES:St Timothy's
END:VEVENT
BEGIN:VEVENT
DTSTART;TZID=UTC:20250518T091500
DTEND;TZID=UTC:20250518T101500
DTSTAMP:20260426T001442
CREATED:20250504T073235Z
LAST-MODIFIED:20250504T073235Z
UID:24453-1747559700-1747563300@sttimothynj.org
SUMMARY:Christin Ed
DESCRIPTION:
URL:https://sttimothynj.org/event/christin-ed/
CATEGORIES:St Timothy's
END:VEVENT
BEGIN:VEVENT
DTSTART;TZID=UTC:20250518T103000
DTEND;TZID=UTC:20250518T113000
DTSTAMP:20260426T001442
CREATED:20250504T072810Z
LAST-MODIFIED:20250504T072810Z
UID:24451-1747564200-1747567800@sttimothynj.org
SUMMARY:Worship Service
DESCRIPTION:
URL:https://sttimothynj.org/event/worship-service-6/
CATEGORIES:St Timothy's
END:VEVENT
BEGIN:VEVENT
DTSTART;TZID=UTC:20250518T113000
DTEND;TZID=UTC:20250518T123000
DTSTAMP:20260426T001442
CREATED:20250504T073313Z
LAST-MODIFIED:20250504T073313Z
UID:24455-1747567800-1747571400@sttimothynj.org
SUMMARY:Coffee Hour
DESCRIPTION:
URL:https://sttimothynj.org/event/coffee-hour-8/
CATEGORIES:St Timothy's
END:VEVENT
BEGIN:VEVENT
DTSTART;TZID=UTC:20250518T130000
DTEND;TZID=UTC:20250518T143000
DTSTAMP:20260426T001442
CREATED:20250504T073344Z
LAST-MODIFIED:20250504T073344Z
UID:24457-1747573200-1747578600@sttimothynj.org
SUMMARY:AA
DESCRIPTION:
URL:https://sttimothynj.org/event/aa-25/
CATEGORIES:St Timothy's
END:VEVENT
BEGIN:VEVENT
DTSTART;TZID=UTC:20250519T090000
DTEND;TZID=UTC:20250519T103000
DTSTAMP:20260426T001442
CREATED:20250504T073422Z
LAST-MODIFIED:20250504T073422Z
UID:24459-1747645200-1747650600@sttimothynj.org
SUMMARY:Heart ‘n Hands
DESCRIPTION:
URL:https://sttimothynj.org/event/heart-n-hands-11/
CATEGORIES:St Timothy's
END:VEVENT
BEGIN:VEVENT
DTSTART;TZID=UTC:20250520T130000
DTEND;TZID=UTC:20250520T140000
DTSTAMP:20260426T001442
CREATED:20250504T073532Z
LAST-MODIFIED:20250504T073532Z
UID:24463-1747746000-1747749600@sttimothynj.org
SUMMARY:Meditation w/Movement
DESCRIPTION:
URL:https://sttimothynj.org/event/meditation-w-movement-13/
CATEGORIES:St Timothy's
END:VEVENT
BEGIN:VEVENT
DTSTART;TZID=UTC:20250520T140000
DTEND;TZID=UTC:20250520T150000
DTSTAMP:20260426T001442
CREATED:20250504T073611Z
LAST-MODIFIED:20250504T073611Z
UID:24465-1747749600-1747753200@sttimothynj.org
SUMMARY:Bible Study w/ Holy Communion
DESCRIPTION:
URL:https://sttimothynj.org/event/bible-study-w-holy-communion-13/
CATEGORIES:St Timothy's
END:VEVENT
BEGIN:VEVENT
DTSTART;TZID=UTC:20250520T190000
DTEND;TZID=UTC:20250520T200000
DTSTAMP:20260426T001442
CREATED:20250504T073639Z
LAST-MODIFIED:20250504T073639Z
UID:24467-1747767600-1747771200@sttimothynj.org
SUMMARY:Christian Ed Committee
DESCRIPTION:
URL:https://sttimothynj.org/event/christian-ed-committee-3/
CATEGORIES:St Timothy's
END:VEVENT
BEGIN:VEVENT
DTSTART;TZID=UTC:20250521T100000
DTEND;TZID=UTC:20250521T110000
DTSTAMP:20260426T001442
CREATED:20250504T073915Z
LAST-MODIFIED:20250504T073915Z
UID:24469-1747821600-1747825200@sttimothynj.org
SUMMARY:Hymn Sing
DESCRIPTION:
URL:https://sttimothynj.org/event/hymn-sing/
CATEGORIES:St Timothy's
END:VEVENT
BEGIN:VEVENT
DTSTART;TZID=UTC:20250521T190000
DTEND;TZID=UTC:20250521T200000
DTSTAMP:20260426T001442
CREATED:20250504T073952Z
LAST-MODIFIED:20250504T073952Z
UID:24471-1747854000-1747857600@sttimothynj.org
SUMMARY:Bells Rehearsal
DESCRIPTION:
URL:https://sttimothynj.org/event/bells-rehearsal-2/
CATEGORIES:St Timothy's
END:VEVENT
BEGIN:VEVENT
DTSTART;TZID=UTC:20250523T180000
DTEND;TZID=UTC:20250523T193000
DTSTAMP:20260426T001442
CREATED:20250504T074028Z
LAST-MODIFIED:20250504T074028Z
UID:24473-1748023200-1748028600@sttimothynj.org
SUMMARY:AA
DESCRIPTION:
URL:https://sttimothynj.org/event/aa-26/
CATEGORIES:St Timothy's
END:VEVENT
BEGIN:VEVENT
DTSTART;TZID=UTC:20250525T093000
DTEND;TZID=UTC:20250525T103000
DTSTAMP:20260426T001442
CREATED:20250504T074115Z
LAST-MODIFIED:20250504T074115Z
UID:24475-1748165400-1748169000@sttimothynj.org
SUMMARY:Worship Service
DESCRIPTION:
URL:https://sttimothynj.org/event/worship-service-7/
CATEGORIES:St Timothy's
END:VEVENT
BEGIN:VEVENT
DTSTART;TZID=UTC:20250525T130000
DTEND;TZID=UTC:20250525T143000
DTSTAMP:20260426T001442
CREATED:20250504T074229Z
LAST-MODIFIED:20250504T074229Z
UID:24477-1748178000-1748183400@sttimothynj.org
SUMMARY:AA
DESCRIPTION:
URL:https://sttimothynj.org/event/aa-27/
CATEGORIES:St Timothy's
END:VEVENT
BEGIN:VEVENT
DTSTART;TZID=UTC:20250527T130000
DTEND;TZID=UTC:20250527T140000
DTSTAMP:20260426T001442
CREATED:20250504T074320Z
LAST-MODIFIED:20250504T074320Z
UID:24479-1748350800-1748354400@sttimothynj.org
SUMMARY:Meditation w/Movement
DESCRIPTION:
URL:https://sttimothynj.org/event/meditation-w-movement-14/
CATEGORIES:St Timothy's
END:VEVENT
BEGIN:VEVENT
DTSTART;TZID=UTC:20250527T140000
DTEND;TZID=UTC:20250527T150000
DTSTAMP:20260426T001442
CREATED:20250504T074352Z
LAST-MODIFIED:20250504T074352Z
UID:24481-1748354400-1748358000@sttimothynj.org
SUMMARY:Bible Study w/ Holy Communion
DESCRIPTION:
URL:https://sttimothynj.org/event/bible-study-w-holy-communion-14/
CATEGORIES:St Timothy's
END:VEVENT
BEGIN:VEVENT
DTSTART;TZID=UTC:20250528T093000
DTEND;TZID=UTC:20250528T103000
DTSTAMP:20260426T001442
CREATED:20250504T074423Z
LAST-MODIFIED:20250504T074423Z
UID:24483-1748424600-1748428200@sttimothynj.org
SUMMARY:Angels Circle
DESCRIPTION:
URL:https://sttimothynj.org/event/angels-circle-7/
CATEGORIES:St Timothy's
END:VEVENT
BEGIN:VEVENT
DTSTART;TZID=UTC:20250528T103000
DTEND;TZID=UTC:20250528T113000
DTSTAMP:20260426T001442
CREATED:20250504T074454Z
LAST-MODIFIED:20250504T074454Z
UID:24485-1748428200-1748431800@sttimothynj.org
SUMMARY:Knit & Crochet
DESCRIPTION:
URL:https://sttimothynj.org/event/knit-crochet-7/
CATEGORIES:St Timothy's
END:VEVENT
BEGIN:VEVENT
DTSTART;TZID=UTC:20250528T190000
DTEND;TZID=UTC:20250528T200000
DTSTAMP:20260426T001442
CREATED:20250504T074527Z
LAST-MODIFIED:20250504T074527Z
UID:24487-1748458800-1748462400@sttimothynj.org
SUMMARY:Choir Rehearsal
DESCRIPTION:
URL:https://sttimothynj.org/event/choir-rehearsal-3/
CATEGORIES:St Timothy's
END:VEVENT
BEGIN:VEVENT
DTSTART;TZID=UTC:20250529T190000
DTEND;TZID=UTC:20250529T200000
DTSTAMP:20260426T001442
CREATED:20250504T074629Z
LAST-MODIFIED:20250504T074629Z
UID:24489-1748545200-1748548800@sttimothynj.org
SUMMARY:Ascension Day Special Worship
DESCRIPTION:
URL:https://sttimothynj.org/event/ascension-day-special-worship/
CATEGORIES:St Timothy's
END:VEVENT
BEGIN:VEVENT
DTSTART;TZID=UTC:20250530T180000
DTEND;TZID=UTC:20250530T193000
DTSTAMP:20260426T001442
CREATED:20250504T074700Z
LAST-MODIFIED:20250504T074700Z
UID:24491-1748628000-1748633400@sttimothynj.org
SUMMARY:AA
DESCRIPTION:
URL:https://sttimothynj.org/event/aa-28/
CATEGORIES:St Timothy's
END:VEVENT
BEGIN:VEVENT
DTSTART;VALUE=DATE:20250531
DTEND;VALUE=DATE:20250601
DTSTAMP:20260426T001442
CREATED:20250504T074812Z
LAST-MODIFIED:20250504T074812Z
UID:24493-1748649600-1748735999@sttimothynj.org
SUMMARY:Endowment Ballots Deadline
DESCRIPTION:
URL:https://sttimothynj.org/event/endowment-ballots-deadline/
CATEGORIES:St Timothy's
END:VEVENT
BEGIN:VEVENT
DTSTART;TZID=America/New_York:20250601T093000
DTEND;TZID=America/New_York:20250601T103000
DTSTAMP:20260426T001442
CREATED:20250531T223337Z
LAST-MODIFIED:20250531T223337Z
UID:24522-1748770200-1748773800@sttimothynj.org
SUMMARY:Worship - End of Year Program
DESCRIPTION:
URL:https://sttimothynj.org/event/worship-end-of-year-program/
CATEGORIES:St Timothy's
END:VEVENT
BEGIN:VEVENT
DTSTART;TZID=America/New_York:20250602T090000
DTEND;TZID=America/New_York:20250602T113000
DTSTAMP:20260426T001442
CREATED:20250531T223557Z
LAST-MODIFIED:20250531T223856Z
UID:24526-1748854800-1748863800@sttimothynj.org
SUMMARY:Heart ‘n Hands
DESCRIPTION:
URL:https://sttimothynj.org/event/heart-n-hands-12/
CATEGORIES:St Timothy's
END:VEVENT
BEGIN:VEVENT
DTSTART;TZID=America/New_York:20250603T130000
DTEND;TZID=America/New_York:20250603T140000
DTSTAMP:20260426T001442
CREATED:20250531T223941Z
LAST-MODIFIED:20250531T223941Z
UID:24530-1748955600-1748959200@sttimothynj.org
SUMMARY:Meditation w/Movement
DESCRIPTION:
URL:https://sttimothynj.org/event/meditation-w-movement-15/
CATEGORIES:St Timothy's
END:VEVENT
BEGIN:VEVENT
DTSTART;TZID=America/New_York:20250603T140000
DTEND;TZID=America/New_York:20250603T150000
DTSTAMP:20260426T001442
CREATED:20250531T224014Z
LAST-MODIFIED:20250531T224014Z
UID:24532-1748959200-1748962800@sttimothynj.org
SUMMARY:Bible Study w/ Holy Communion
DESCRIPTION:
URL:https://sttimothynj.org/event/bible-study-w-holy-communion-15/
CATEGORIES:St Timothy's
END:VEVENT
BEGIN:VEVENT
DTSTART;TZID=America/New_York:20250604T190000
DTEND;TZID=America/New_York:20250604T200000
DTSTAMP:20260426T001442
CREATED:20250531T224055Z
LAST-MODIFIED:20250531T224055Z
UID:24534-1749063600-1749067200@sttimothynj.org
SUMMARY:Bell Rehearsal
DESCRIPTION:
URL:https://sttimothynj.org/event/bell-rehearsal/
CATEGORIES:St Timothy's
END:VEVENT
BEGIN:VEVENT
DTSTART;TZID=America/New_York:20250606T180000
DTEND;TZID=America/New_York:20250606T203000
DTSTAMP:20260426T001442
CREATED:20250531T224224Z
LAST-MODIFIED:20250531T224224Z
UID:24540-1749232800-1749241800@sttimothynj.org
SUMMARY:AA
DESCRIPTION:
URL:https://sttimothynj.org/event/aa-30/
CATEGORIES:St Timothy's
END:VEVENT
END:VCALENDAR