BEGIN:VCALENDAR
VERSION:2.0
PRODID:-//St Timothy Lutheran Church - ECPv6.15.20//NONSGML v1.0//EN
CALSCALE:GREGORIAN
METHOD:PUBLISH
X-ORIGINAL-URL:https://sttimothynj.org
X-WR-CALDESC:Events for St Timothy Lutheran Church
REFRESH-INTERVAL;VALUE=DURATION:PT1H
X-Robots-Tag:noindex
X-PUBLISHED-TTL:PT1H
BEGIN:VTIMEZONE
TZID:America/New_York
BEGIN:DAYLIGHT
TZOFFSETFROM:-0500
TZOFFSETTO:-0400
TZNAME:EDT
DTSTART:20240310T070000
END:DAYLIGHT
BEGIN:STANDARD
TZOFFSETFROM:-0400
TZOFFSETTO:-0500
TZNAME:EST
DTSTART:20241103T060000
END:STANDARD
BEGIN:DAYLIGHT
TZOFFSETFROM:-0500
TZOFFSETTO:-0400
TZNAME:EDT
DTSTART:20250309T070000
END:DAYLIGHT
BEGIN:STANDARD
TZOFFSETFROM:-0400
TZOFFSETTO:-0500
TZNAME:EST
DTSTART:20251102T060000
END:STANDARD
BEGIN:DAYLIGHT
TZOFFSETFROM:-0500
TZOFFSETTO:-0400
TZNAME:EDT
DTSTART:20260308T070000
END:DAYLIGHT
BEGIN:STANDARD
TZOFFSETFROM:-0400
TZOFFSETTO:-0500
TZNAME:EST
DTSTART:20261101T060000
END:STANDARD
END:VTIMEZONE
BEGIN:VEVENT
DTSTART;TZID=America/New_York:20251026T103000
DTEND;TZID=America/New_York:20251026T110000
DTSTAMP:20260425T202642
CREATED:20251002T031438Z
LAST-MODIFIED:20251002T031438Z
UID:25007-1761474600-1761476400@sttimothynj.org
SUMMARY:Annual Budget Meeting
DESCRIPTION:
URL:https://sttimothynj.org/event/annual-budget-meeting/
CATEGORIES:St Timothy's
END:VEVENT
BEGIN:VEVENT
DTSTART;TZID=America/New_York:20251027T090000
DTEND;TZID=America/New_York:20251027T113000
DTSTAMP:20260425T202642
CREATED:20251002T031504Z
LAST-MODIFIED:20251002T031504Z
UID:25009-1761555600-1761564600@sttimothynj.org
SUMMARY:Heart ‘n Hands
DESCRIPTION:
URL:https://sttimothynj.org/event/heart-n-hands-32/
CATEGORIES:St Timothy's
END:VEVENT
BEGIN:VEVENT
DTSTART;TZID=America/New_York:20251028T130000
DTEND;TZID=America/New_York:20251028T140000
DTSTAMP:20260425T202642
CREATED:20251002T031601Z
LAST-MODIFIED:20251002T031601Z
UID:25013-1761656400-1761660000@sttimothynj.org
SUMMARY:Meditation w/Movement
DESCRIPTION:
URL:https://sttimothynj.org/event/meditation-w-movement-35/
CATEGORIES:St Timothy's
END:VEVENT
BEGIN:VEVENT
DTSTART;TZID=America/New_York:20251028T140000
DTEND;TZID=America/New_York:20251028T150000
DTSTAMP:20260425T202642
CREATED:20251002T031628Z
LAST-MODIFIED:20251002T031628Z
UID:25015-1761660000-1761663600@sttimothynj.org
SUMMARY:Bible Study w/Holy Communion
DESCRIPTION:
URL:https://sttimothynj.org/event/bible-study-w-holy-communion-34/
CATEGORIES:St Timothy's
END:VEVENT
BEGIN:VEVENT
DTSTART;TZID=America/New_York:20251029T190000
DTEND;TZID=America/New_York:20251029T200000
DTSTAMP:20260425T202642
CREATED:20251002T031702Z
LAST-MODIFIED:20251002T031702Z
UID:25017-1761764400-1761768000@sttimothynj.org
SUMMARY:Alleluia Choir Rehearsal
DESCRIPTION:
URL:https://sttimothynj.org/event/alleluia-choir-rehearsal-5/
CATEGORIES:St Timothy's
END:VEVENT
BEGIN:VEVENT
DTSTART;VALUE=DATE:20251031
DTEND;VALUE=DATE:20251101
DTSTAMP:20260425T202642
CREATED:20251002T031746Z
LAST-MODIFIED:20251002T031746Z
UID:25019-1761868800-1761955199@sttimothynj.org
SUMMARY:Happy Reformation Day
DESCRIPTION:
URL:https://sttimothynj.org/event/happy-reformation-day/
CATEGORIES:St Timothy's
END:VEVENT
BEGIN:VEVENT
DTSTART;TZID=America/New_York:20251031T180000
DTEND;TZID=America/New_York:20251031T193000
DTSTAMP:20260425T202642
CREATED:20251021T150942Z
LAST-MODIFIED:20251031T154245Z
UID:25061-1761933600-1761939000@sttimothynj.org
SUMMARY:AA
DESCRIPTION:
URL:https://sttimothynj.org/event/aa-71/
CATEGORIES:St Timothy's
END:VEVENT
BEGIN:VEVENT
DTSTART;TZID=America/New_York:20251102T090000
DTEND;TZID=America/New_York:20251102T093000
DTSTAMP:20260425T202642
CREATED:20251029T154442Z
LAST-MODIFIED:20251101T155725Z
UID:25499-1762074000-1762075800@sttimothynj.org
SUMMARY:Worship
DESCRIPTION:
URL:https://sttimothynj.org/event/worship-32/
CATEGORIES:St Timothy's
END:VEVENT
BEGIN:VEVENT
DTSTART;TZID=America/New_York:20251102T093500
DTEND;TZID=America/New_York:20251102T102000
DTSTAMP:20260425T202642
CREATED:20251029T154442Z
LAST-MODIFIED:20251101T155725Z
UID:25500-1762076100-1762078800@sttimothynj.org
SUMMARY:Christian Ed Programs
DESCRIPTION:Programs include: \nSunday School classes for grades Pre-K through 6\nConfirmation classes for grades 7-8\nAdult Discussion Forum\nAdult Christian Education classes
URL:https://sttimothynj.org/event/christian-ed-programs-2/
CATEGORIES:St Timothy's
END:VEVENT
BEGIN:VEVENT
DTSTART;TZID=America/New_York:20251102T103000
DTEND;TZID=America/New_York:20251102T113000
DTSTAMP:20260425T202642
CREATED:20251029T154442Z
LAST-MODIFIED:20251102T155746Z
UID:25501-1762079400-1762083000@sttimothynj.org
SUMMARY:Worship & livestream
DESCRIPTION:
URL:https://sttimothynj.org/event/worship-livestream/
CATEGORIES:St Timothy's
END:VEVENT
BEGIN:VEVENT
DTSTART;TZID=America/New_York:20251102T130000
DTEND;TZID=America/New_York:20251102T143000
DTSTAMP:20260425T202642
CREATED:20251030T154230Z
LAST-MODIFIED:20251102T155746Z
UID:25586-1762088400-1762093800@sttimothynj.org
SUMMARY:AA Keep It Real group
DESCRIPTION:
URL:https://sttimothynj.org/event/aa-keep-it-real-group/
CATEGORIES:St Timothy's
END:VEVENT
BEGIN:VEVENT
DTSTART;TZID=America/New_York:20251103T090000
DTEND;TZID=America/New_York:20251103T113000
DTSTAMP:20260425T202642
CREATED:20251030T154230Z
LAST-MODIFIED:20251103T160128Z
UID:25587-1762160400-1762169400@sttimothynj.org
SUMMARY:Heart n' Hands Mission
DESCRIPTION:Volunteers are available to help with donations.  Please pull around to the rear parking lot and enter through first set of doors (where the railings are!).  Go down the half-flight of stairs to the rooms on the right.\nThis is a collection site only.\nFor donation intake at other times\, call the office 973.694.8316 for arrangements.
URL:https://sttimothynj.org/event/heart-n-hands-mission/
CATEGORIES:St Timothy's
END:VEVENT
BEGIN:VEVENT
DTSTART;TZID=America/New_York:20251103T190000
DTEND;TZID=America/New_York:20251103T200000
DTSTAMP:20260425T202642
CREATED:20251030T154230Z
LAST-MODIFIED:20251103T160128Z
UID:25588-1762196400-1762200000@sttimothynj.org
SUMMARY:Boy Scouts Troop 107
DESCRIPTION:
URL:https://sttimothynj.org/event/boy-scouts-troop-107/
CATEGORIES:St Timothy's
END:VEVENT
BEGIN:VEVENT
DTSTART;TZID=America/New_York:20251104T130000
DTEND;TZID=America/New_York:20251104T140000
DTSTAMP:20260425T202642
CREATED:20251030T154230Z
LAST-MODIFIED:20251104T160050Z
UID:25589-1762261200-1762264800@sttimothynj.org
SUMMARY:Meditation with Movement
DESCRIPTION:
URL:https://sttimothynj.org/event/meditation-with-movement-2/
CATEGORIES:St Timothy's
END:VEVENT
BEGIN:VEVENT
DTSTART;TZID=America/New_York:20251104T140000
DTEND;TZID=America/New_York:20251104T150000
DTSTAMP:20260425T202642
CREATED:20251030T154230Z
LAST-MODIFIED:20251104T160050Z
UID:25590-1762264800-1762268400@sttimothynj.org
SUMMARY:Bible Study w/Communion
DESCRIPTION:
URL:https://sttimothynj.org/event/bible-study-w-communion/
CATEGORIES:St Timothy's
END:VEVENT
BEGIN:VEVENT
DTSTART;TZID=America/New_York:20251105T191500
DTEND;TZID=America/New_York:20251105T201500
DTSTAMP:20260425T202642
CREATED:20251030T154230Z
LAST-MODIFIED:20251105T160221Z
UID:25591-1762370100-1762373700@sttimothynj.org
SUMMARY:Jubilate Bell Choir rehearsal
DESCRIPTION:
URL:https://sttimothynj.org/event/jubilate-bell-choir-rehearsal/
CATEGORIES:St Timothy's
END:VEVENT
BEGIN:VEVENT
DTSTART;TZID=America/New_York:20251107T180000
DTEND;TZID=America/New_York:20251107T193000
DTSTAMP:20260425T202642
CREATED:20251021T150942Z
LAST-MODIFIED:20251029T154442Z
UID:25063-1762538400-1762543800@sttimothynj.org
SUMMARY:AA
DESCRIPTION:
URL:https://sttimothynj.org/event/aa-72/
CATEGORIES:St Timothy's
END:VEVENT
BEGIN:VEVENT
DTSTART;TZID=America/New_York:20251107T180000
DTEND;TZID=America/New_York:20251107T193000
DTSTAMP:20260425T202642
CREATED:20251030T154230Z
LAST-MODIFIED:20251107T161225Z
UID:25592-1762538400-1762543800@sttimothynj.org
SUMMARY:AA Wayne Valley group
DESCRIPTION:
URL:https://sttimothynj.org/event/aa-wayne-valley-group/
CATEGORIES:St Timothy's
END:VEVENT
BEGIN:VEVENT
DTSTART;TZID=America/New_York:20251108T103000
DTEND;TZID=America/New_York:20251108T113000
DTSTAMP:20260425T202642
CREATED:20251030T154230Z
LAST-MODIFIED:20251108T161240Z
UID:25593-1762597800-1762601400@sttimothynj.org
SUMMARY:Bookworks Book Club
DESCRIPTION:
URL:https://sttimothynj.org/event/bookworks-book-club/
CATEGORIES:St Timothy's
END:VEVENT
BEGIN:VEVENT
DTSTART;TZID=America/New_York:20251109T090000
DTEND;TZID=America/New_York:20251109T093000
DTSTAMP:20260425T202642
CREATED:20251029T154442Z
LAST-MODIFIED:20251108T161240Z
UID:25504-1762678800-1762680600@sttimothynj.org
SUMMARY:Worship
DESCRIPTION:
URL:https://sttimothynj.org/event/worship-33/
CATEGORIES:St Timothy's
END:VEVENT
BEGIN:VEVENT
DTSTART;TZID=America/New_York:20251109T093500
DTEND;TZID=America/New_York:20251109T102000
DTSTAMP:20260425T202642
CREATED:20251029T154442Z
LAST-MODIFIED:20251029T154442Z
UID:25505-1762680900-1762683600@sttimothynj.org
SUMMARY:Christian Ed Programs
DESCRIPTION:Programs include: \nSunday School classes for grades Pre-K through 6\nConfirmation classes for grades 7-8\nAdult Discussion Forum\nAdult Christian Education classes
URL:https://sttimothynj.org/event/christian-ed-programs-4/
CATEGORIES:St Timothy's
END:VEVENT
BEGIN:VEVENT
DTSTART;TZID=America/New_York:20251109T103000
DTEND;TZID=America/New_York:20251109T113000
DTSTAMP:20260425T202642
CREATED:20251030T154230Z
LAST-MODIFIED:20251109T161513Z
UID:25594-1762684200-1762687800@sttimothynj.org
SUMMARY:Worship & livestream
DESCRIPTION:
URL:https://sttimothynj.org/event/worship-livestream-8/
CATEGORIES:St Timothy's
END:VEVENT
BEGIN:VEVENT
DTSTART;TZID=America/New_York:20251109T130000
DTEND;TZID=America/New_York:20251109T143000
DTSTAMP:20260425T202642
CREATED:20251030T154230Z
LAST-MODIFIED:20251109T161513Z
UID:25595-1762693200-1762698600@sttimothynj.org
SUMMARY:AA Keep It Real group
DESCRIPTION:
URL:https://sttimothynj.org/event/aa-keep-it-real-group-2/
CATEGORIES:St Timothy's
END:VEVENT
BEGIN:VEVENT
DTSTART;TZID=America/New_York:20251110T090000
DTEND;TZID=America/New_York:20251110T113000
DTSTAMP:20260425T202642
CREATED:20251030T154230Z
LAST-MODIFIED:20251109T161513Z
UID:25596-1762765200-1762774200@sttimothynj.org
SUMMARY:Heart n' Hands Mission
DESCRIPTION:Volunteers are available to help with donations.  Please pull around to the rear parking lot and enter through first set of doors (where the railings are!).  Go down the half-flight of stairs to the rooms on the right.\nThis is a collection site only.\nFor donation intake at other times\, call the office 973.694.8316 for arrangements.
URL:https://sttimothynj.org/event/heart-n-hands-mission-2/
CATEGORIES:St Timothy's
END:VEVENT
BEGIN:VEVENT
DTSTART;TZID=America/New_York:20251110T190000
DTEND;TZID=America/New_York:20251110T200000
DTSTAMP:20260425T202642
CREATED:20251030T154230Z
LAST-MODIFIED:20251110T163213Z
UID:25597-1762801200-1762804800@sttimothynj.org
SUMMARY:Boy Scouts Troop 107
DESCRIPTION:
URL:https://sttimothynj.org/event/boy-scouts-troop-107-2/
CATEGORIES:St Timothy's
END:VEVENT
BEGIN:VEVENT
DTSTART;TZID=America/New_York:20251111T130000
DTEND;TZID=America/New_York:20251111T140000
DTSTAMP:20260425T202642
CREATED:20251030T154230Z
LAST-MODIFIED:20251111T164323Z
UID:25598-1762866000-1762869600@sttimothynj.org
SUMMARY:Meditation with Movement
DESCRIPTION:
URL:https://sttimothynj.org/event/meditation-with-movement-3/
CATEGORIES:St Timothy's
END:VEVENT
BEGIN:VEVENT
DTSTART;TZID=America/New_York:20251111T140000
DTEND;TZID=America/New_York:20251111T150000
DTSTAMP:20260425T202642
CREATED:20251030T154230Z
LAST-MODIFIED:20251111T164323Z
UID:25599-1762869600-1762873200@sttimothynj.org
SUMMARY:Bible Study w/Communion
DESCRIPTION:
URL:https://sttimothynj.org/event/bible-study-w-communion-2/
CATEGORIES:St Timothy's
END:VEVENT
BEGIN:VEVENT
DTSTART;TZID=America/New_York:20251112T093000
DTEND;TZID=America/New_York:20251112T110000
DTSTAMP:20260425T202642
CREATED:20251030T154230Z
LAST-MODIFIED:20251111T164323Z
UID:25601-1762939800-1762945200@sttimothynj.org
SUMMARY:Angels Circle
DESCRIPTION:This dedicated group volunteers sew & tuft lap quilts to be given to charities\, nursing homes\, etc.\nKits can be picked up so work can be done at home or join the group each 2nd and 4th Wednesday morning in Fellowship Hall.
URL:https://sttimothynj.org/event/angels-circle-10/
CATEGORIES:St Timothy's
END:VEVENT
BEGIN:VEVENT
DTSTART;TZID=America/New_York:20251112T103000
DTEND;TZID=America/New_York:20251112T120000
DTSTAMP:20260425T202642
CREATED:20251030T154230Z
LAST-MODIFIED:20251112T164611Z
UID:25600-1762943400-1762948800@sttimothynj.org
SUMMARY:Nellie's Needleworks group
DESCRIPTION:This group of knitting & crocheting hobbyists bring their own projects and supplies to work side-by-side their fellow crafters.  Seasoned yarnworkers are willing to teach those inexperienced or to lend a hand with a tricky pattern.
URL:https://sttimothynj.org/event/nellies-needleworks-group/
CATEGORIES:St Timothy's
END:VEVENT
BEGIN:VEVENT
DTSTART;TZID=America/New_York:20251112T191500
DTEND;TZID=America/New_York:20251112T201500
DTSTAMP:20260425T202642
CREATED:20251030T154230Z
LAST-MODIFIED:20251112T164611Z
UID:25602-1762974900-1762978500@sttimothynj.org
SUMMARY:Alleluia Choir rehearsal
DESCRIPTION:
URL:https://sttimothynj.org/event/alleluia-choir-rehearsal-6/
CATEGORIES:St Timothy's
END:VEVENT
END:VCALENDAR