BEGIN:VCALENDAR
VERSION:2.0
PRODID:-//St Timothy Lutheran Church - ECPv6.15.20//NONSGML v1.0//EN
CALSCALE:GREGORIAN
METHOD:PUBLISH
X-ORIGINAL-URL:https://sttimothynj.org
X-WR-CALDESC:Events for St Timothy Lutheran Church
REFRESH-INTERVAL;VALUE=DURATION:PT1H
X-Robots-Tag:noindex
X-PUBLISHED-TTL:PT1H
BEGIN:VTIMEZONE
TZID:America/New_York
BEGIN:DAYLIGHT
TZOFFSETFROM:-0500
TZOFFSETTO:-0400
TZNAME:EDT
DTSTART:20240310T070000
END:DAYLIGHT
BEGIN:STANDARD
TZOFFSETFROM:-0400
TZOFFSETTO:-0500
TZNAME:EST
DTSTART:20241103T060000
END:STANDARD
BEGIN:DAYLIGHT
TZOFFSETFROM:-0500
TZOFFSETTO:-0400
TZNAME:EDT
DTSTART:20250309T070000
END:DAYLIGHT
BEGIN:STANDARD
TZOFFSETFROM:-0400
TZOFFSETTO:-0500
TZNAME:EST
DTSTART:20251102T060000
END:STANDARD
BEGIN:DAYLIGHT
TZOFFSETFROM:-0500
TZOFFSETTO:-0400
TZNAME:EDT
DTSTART:20260308T070000
END:DAYLIGHT
BEGIN:STANDARD
TZOFFSETFROM:-0400
TZOFFSETTO:-0500
TZNAME:EST
DTSTART:20261101T060000
END:STANDARD
END:VTIMEZONE
BEGIN:VEVENT
DTSTART;TZID=America/New_York:20250708T130000
DTEND;TZID=America/New_York:20250708T140000
DTSTAMP:20260424T111608
CREATED:20250702T025713Z
LAST-MODIFIED:20250702T025713Z
UID:24620-1751979600-1751983200@sttimothynj.org
SUMMARY:Meditation w/ Movement
DESCRIPTION:
URL:https://sttimothynj.org/event/meditation-w-movement-19/
CATEGORIES:St Timothy's
END:VEVENT
BEGIN:VEVENT
DTSTART;TZID=America/New_York:20250708T140000
DTEND;TZID=America/New_York:20250708T150000
DTSTAMP:20260424T111608
CREATED:20250702T025752Z
LAST-MODIFIED:20250702T025752Z
UID:24622-1751983200-1751986800@sttimothynj.org
SUMMARY:Bible Study w/ Holy Communion
DESCRIPTION:
URL:https://sttimothynj.org/event/bible-study-w-holy-communion-19/
CATEGORIES:St Timothy's
END:VEVENT
BEGIN:VEVENT
DTSTART;TZID=America/New_York:20250711T180000
DTEND;TZID=America/New_York:20250711T193000
DTSTAMP:20260424T111608
CREATED:20250702T025854Z
LAST-MODIFIED:20250702T025854Z
UID:24624-1752256800-1752262200@sttimothynj.org
SUMMARY:AA
DESCRIPTION:
URL:https://sttimothynj.org/event/aa-40/
CATEGORIES:St Timothy's
END:VEVENT
BEGIN:VEVENT
DTSTART;TZID=America/New_York:20250712T103000
DTEND;TZID=America/New_York:20250712T113000
DTSTAMP:20260424T111608
CREATED:20250702T025927Z
LAST-MODIFIED:20250702T025927Z
UID:24626-1752316200-1752319800@sttimothynj.org
SUMMARY:Bookworms Book Club
DESCRIPTION:
URL:https://sttimothynj.org/event/bookworms-book-club-6/
CATEGORIES:St Timothy's
END:VEVENT
BEGIN:VEVENT
DTSTART;TZID=America/New_York:20250713T093000
DTEND;TZID=America/New_York:20250713T103000
DTSTAMP:20260424T111608
CREATED:20250702T030000Z
LAST-MODIFIED:20250702T030000Z
UID:24628-1752399000-1752402600@sttimothynj.org
SUMMARY:Worship
DESCRIPTION:
URL:https://sttimothynj.org/event/worship-15/
CATEGORIES:St Timothy's
END:VEVENT
BEGIN:VEVENT
DTSTART;TZID=America/New_York:20250713T130000
DTEND;TZID=America/New_York:20250713T143000
DTSTAMP:20260424T111608
CREATED:20250702T030031Z
LAST-MODIFIED:20250702T030031Z
UID:24630-1752411600-1752417000@sttimothynj.org
SUMMARY:AA
DESCRIPTION:
URL:https://sttimothynj.org/event/aa-41/
CATEGORIES:St Timothy's
END:VEVENT
BEGIN:VEVENT
DTSTART;TZID=America/New_York:20250714T090000
DTEND;TZID=America/New_York:20250714T113000
DTSTAMP:20260424T111608
CREATED:20250702T030111Z
LAST-MODIFIED:20250702T030111Z
UID:24632-1752483600-1752492600@sttimothynj.org
SUMMARY:Heart 'n Hands
DESCRIPTION:
URL:https://sttimothynj.org/event/heart-n-hands-18/
CATEGORIES:St Timothy's
END:VEVENT
BEGIN:VEVENT
DTSTART;TZID=America/New_York:20250715T130000
DTEND;TZID=America/New_York:20250715T140000
DTSTAMP:20260424T111608
CREATED:20250702T030149Z
LAST-MODIFIED:20250702T030149Z
UID:24634-1752584400-1752588000@sttimothynj.org
SUMMARY:Meditation w/ Movement
DESCRIPTION:
URL:https://sttimothynj.org/event/meditation-w-movement-20/
CATEGORIES:St Timothy's
END:VEVENT
BEGIN:VEVENT
DTSTART;TZID=America/New_York:20250715T140000
DTEND;TZID=America/New_York:20250715T150000
DTSTAMP:20260424T111608
CREATED:20250702T030235Z
LAST-MODIFIED:20250702T030235Z
UID:24636-1752588000-1752591600@sttimothynj.org
SUMMARY:Bible Study w/ Holy Communion
DESCRIPTION:
URL:https://sttimothynj.org/event/bible-study-w-holy-communion-20/
CATEGORIES:St Timothy's
END:VEVENT
BEGIN:VEVENT
DTSTART;TZID=America/New_York:20250716T100000
DTEND;TZID=America/New_York:20250716T110000
DTSTAMP:20260424T111608
CREATED:20250702T030349Z
LAST-MODIFIED:20250702T030349Z
UID:24638-1752660000-1752663600@sttimothynj.org
SUMMARY:Hymn Sing
DESCRIPTION:
URL:https://sttimothynj.org/event/hymn-sing-3/
CATEGORIES:St Timothy's
END:VEVENT
BEGIN:VEVENT
DTSTART;TZID=America/New_York:20250717T100000
DTEND;TZID=America/New_York:20250717T110000
DTSTAMP:20260424T111608
CREATED:20250702T030432Z
LAST-MODIFIED:20250702T030432Z
UID:24640-1752746400-1752750000@sttimothynj.org
SUMMARY:Adult Book Group
DESCRIPTION:
URL:https://sttimothynj.org/event/adult-book-group-5/
CATEGORIES:St Timothy's
END:VEVENT
BEGIN:VEVENT
DTSTART;TZID=America/New_York:20250718T180000
DTEND;TZID=America/New_York:20250718T193000
DTSTAMP:20260424T111608
CREATED:20250702T030503Z
LAST-MODIFIED:20250702T030503Z
UID:24642-1752861600-1752867000@sttimothynj.org
SUMMARY:AA
DESCRIPTION:
URL:https://sttimothynj.org/event/aa-42/
CATEGORIES:St Timothy's
END:VEVENT
BEGIN:VEVENT
DTSTART;TZID=America/New_York:20250720T093000
DTEND;TZID=America/New_York:20250720T103000
DTSTAMP:20260424T111608
CREATED:20250702T030613Z
LAST-MODIFIED:20250702T030613Z
UID:24644-1753003800-1753007400@sttimothynj.org
SUMMARY:Worship w/ Bible Study Following
DESCRIPTION:
URL:https://sttimothynj.org/event/worship-w-bible-study-following/
CATEGORIES:St Timothy's
END:VEVENT
BEGIN:VEVENT
DTSTART;TZID=America/New_York:20250720T130000
DTEND;TZID=America/New_York:20250720T143000
DTSTAMP:20260424T111608
CREATED:20250702T030649Z
LAST-MODIFIED:20250702T030649Z
UID:24646-1753016400-1753021800@sttimothynj.org
SUMMARY:AA
DESCRIPTION:
URL:https://sttimothynj.org/event/aa-43/
CATEGORIES:St Timothy's
END:VEVENT
BEGIN:VEVENT
DTSTART;TZID=America/New_York:20250721T090000
DTEND;TZID=America/New_York:20250721T113000
DTSTAMP:20260424T111608
CREATED:20250702T030728Z
LAST-MODIFIED:20250702T030728Z
UID:24648-1753088400-1753097400@sttimothynj.org
SUMMARY:Heart 'n Hands
DESCRIPTION:
URL:https://sttimothynj.org/event/heart-n-hands-19/
CATEGORIES:St Timothy's
END:VEVENT
BEGIN:VEVENT
DTSTART;TZID=America/New_York:20250722T130000
DTEND;TZID=America/New_York:20250722T140000
DTSTAMP:20260424T111608
CREATED:20250702T030809Z
LAST-MODIFIED:20250702T030809Z
UID:24650-1753189200-1753192800@sttimothynj.org
SUMMARY:Meditation w/ Movement
DESCRIPTION:
URL:https://sttimothynj.org/event/meditation-w-movement-21/
CATEGORIES:St Timothy's
END:VEVENT
BEGIN:VEVENT
DTSTART;TZID=America/New_York:20250722T140000
DTEND;TZID=America/New_York:20250722T150000
DTSTAMP:20260424T111608
CREATED:20250702T030850Z
LAST-MODIFIED:20250702T030850Z
UID:24652-1753192800-1753196400@sttimothynj.org
SUMMARY:Bible Study w/ Holy Communion
DESCRIPTION:
URL:https://sttimothynj.org/event/bible-study-w-holy-communion-21/
CATEGORIES:St Timothy's
END:VEVENT
BEGIN:VEVENT
DTSTART;TZID=America/New_York:20250725T180000
DTEND;TZID=America/New_York:20250725T193000
DTSTAMP:20260424T111608
CREATED:20250702T030934Z
LAST-MODIFIED:20250702T030934Z
UID:24654-1753466400-1753471800@sttimothynj.org
SUMMARY:AA
DESCRIPTION:
URL:https://sttimothynj.org/event/aa-44/
CATEGORIES:St Timothy's
END:VEVENT
BEGIN:VEVENT
DTSTART;TZID=America/New_York:20250727T093000
DTEND;TZID=America/New_York:20250727T103000
DTSTAMP:20260424T111608
CREATED:20250702T031010Z
LAST-MODIFIED:20250702T031010Z
UID:24656-1753608600-1753612200@sttimothynj.org
SUMMARY:Worship w/ Bible Study Following
DESCRIPTION:
URL:https://sttimothynj.org/event/worship-w-bible-study-following-2/
CATEGORIES:St Timothy's
END:VEVENT
BEGIN:VEVENT
DTSTART;TZID=America/New_York:20250727T130000
DTEND;TZID=America/New_York:20250727T143000
DTSTAMP:20260424T111608
CREATED:20250702T031038Z
LAST-MODIFIED:20250702T031038Z
UID:24658-1753621200-1753626600@sttimothynj.org
SUMMARY:AA
DESCRIPTION:
URL:https://sttimothynj.org/event/aa-45/
CATEGORIES:St Timothy's
END:VEVENT
BEGIN:VEVENT
DTSTART;TZID=America/New_York:20250728T090000
DTEND;TZID=America/New_York:20250728T113000
DTSTAMP:20260424T111608
CREATED:20250702T031114Z
LAST-MODIFIED:20250702T031114Z
UID:24660-1753693200-1753702200@sttimothynj.org
SUMMARY:Heart 'n Hands
DESCRIPTION:
URL:https://sttimothynj.org/event/heart-n-hands-20/
CATEGORIES:St Timothy's
END:VEVENT
BEGIN:VEVENT
DTSTART;TZID=America/New_York:20250729T130000
DTEND;TZID=America/New_York:20250729T140000
DTSTAMP:20260424T111608
CREATED:20250702T031201Z
LAST-MODIFIED:20250702T031201Z
UID:24662-1753794000-1753797600@sttimothynj.org
SUMMARY:Meditation w/ Movement
DESCRIPTION:
URL:https://sttimothynj.org/event/meditation-w-movement-22/
CATEGORIES:St Timothy's
END:VEVENT
BEGIN:VEVENT
DTSTART;TZID=America/New_York:20250729T140000
DTEND;TZID=America/New_York:20250729T150000
DTSTAMP:20260424T111608
CREATED:20250702T031246Z
LAST-MODIFIED:20250702T031246Z
UID:24664-1753797600-1753801200@sttimothynj.org
SUMMARY:Bible Study w/ Holy Communion
DESCRIPTION:
URL:https://sttimothynj.org/event/bible-study-w-holy-communion-22/
CATEGORIES:St Timothy's
END:VEVENT
BEGIN:VEVENT
DTSTART;TZID=America/New_York:20250801T180000
DTEND;TZID=America/New_York:20250801T193000
DTSTAMP:20260424T111608
CREATED:20250805T033235Z
LAST-MODIFIED:20250805T033235Z
UID:24669-1754071200-1754076600@sttimothynj.org
SUMMARY:AA
DESCRIPTION:
URL:https://sttimothynj.org/event/aa-46/
CATEGORIES:St Timothy's
END:VEVENT
BEGIN:VEVENT
DTSTART;TZID=America/New_York:20250803T093000
DTEND;TZID=America/New_York:20250803T103000
DTSTAMP:20260424T111608
CREATED:20250805T033317Z
LAST-MODIFIED:20250805T033317Z
UID:24671-1754213400-1754217000@sttimothynj.org
SUMMARY:Worship
DESCRIPTION:
URL:https://sttimothynj.org/event/worship-16/
CATEGORIES:St Timothy's
END:VEVENT
BEGIN:VEVENT
DTSTART;TZID=America/New_York:20250803T130000
DTEND;TZID=America/New_York:20250803T143000
DTSTAMP:20260424T111608
CREATED:20250805T033409Z
LAST-MODIFIED:20250805T033409Z
UID:24673-1754226000-1754231400@sttimothynj.org
SUMMARY:AA
DESCRIPTION:
URL:https://sttimothynj.org/event/aa-47/
CATEGORIES:St Timothy's
END:VEVENT
BEGIN:VEVENT
DTSTART;TZID=America/New_York:20250804T090000
DTEND;TZID=America/New_York:20250804T113000
DTSTAMP:20260424T111608
CREATED:20250805T033448Z
LAST-MODIFIED:20250805T033448Z
UID:24675-1754298000-1754307000@sttimothynj.org
SUMMARY:Heart n' Hands
DESCRIPTION:
URL:https://sttimothynj.org/event/heart-n-hands-21/
CATEGORIES:St Timothy's
END:VEVENT
BEGIN:VEVENT
DTSTART;TZID=America/New_York:20250805T130000
DTEND;TZID=America/New_York:20250805T140000
DTSTAMP:20260424T111608
CREATED:20250805T033535Z
LAST-MODIFIED:20250805T033535Z
UID:24677-1754398800-1754402400@sttimothynj.org
SUMMARY:Meditation w/Movement
DESCRIPTION:
URL:https://sttimothynj.org/event/meditation-w-movement-23/
CATEGORIES:St Timothy's
END:VEVENT
BEGIN:VEVENT
DTSTART;TZID=America/New_York:20250805T140000
DTEND;TZID=America/New_York:20250805T150000
DTSTAMP:20260424T111608
CREATED:20250805T033611Z
LAST-MODIFIED:20250805T033611Z
UID:24679-1754402400-1754406000@sttimothynj.org
SUMMARY:Bible Study
DESCRIPTION:
URL:https://sttimothynj.org/event/bible-study/
CATEGORIES:St Timothy's
END:VEVENT
BEGIN:VEVENT
DTSTART;TZID=America/New_York:20250807T190000
DTEND;TZID=America/New_York:20250807T210000
DTSTAMP:20260424T111608
CREATED:20250805T033742Z
LAST-MODIFIED:20250805T033742Z
UID:24681-1754593200-1754600400@sttimothynj.org
SUMMARY:Garage Sale In-take
DESCRIPTION:
URL:https://sttimothynj.org/event/garage-sale-in-take/
CATEGORIES:St Timothy's
END:VEVENT
END:VCALENDAR