BEGIN:VCALENDAR
VERSION:2.0
PRODID:-//St Timothy Lutheran Church - ECPv6.15.20//NONSGML v1.0//EN
CALSCALE:GREGORIAN
METHOD:PUBLISH
X-WR-CALNAME:St Timothy Lutheran Church
X-ORIGINAL-URL:https://sttimothynj.org
X-WR-CALDESC:Events for St Timothy Lutheran Church
REFRESH-INTERVAL;VALUE=DURATION:PT1H
X-Robots-Tag:noindex
X-PUBLISHED-TTL:PT1H
BEGIN:VTIMEZONE
TZID:UTC
BEGIN:STANDARD
TZOFFSETFROM:+0000
TZOFFSETTO:+0000
TZNAME:UTC
DTSTART:20240101T000000
END:STANDARD
END:VTIMEZONE
BEGIN:VEVENT
DTSTART;TZID=UTC:20250302T150000
DTEND;TZID=UTC:20250302T210000
DTSTAMP:20260425T120059
CREATED:20250305T122602Z
LAST-MODIFIED:20250305T122602Z
UID:24134-1740927600-1740949200@sttimothynj.org
SUMMARY:Rehearsals
DESCRIPTION:
URL:https://sttimothynj.org/event/rehearsals/
CATEGORIES:St Timothy's
END:VEVENT
BEGIN:VEVENT
DTSTART;TZID=UTC:20250303T090000
DTEND;TZID=UTC:20250303T113000
DTSTAMP:20260425T120059
CREATED:20250305T122651Z
LAST-MODIFIED:20250305T122651Z
UID:24136-1740992400-1741001400@sttimothynj.org
SUMMARY:Heart ‘n Hands
DESCRIPTION:
URL:https://sttimothynj.org/event/heart-n-hands-4/
CATEGORIES:St Timothy's
END:VEVENT
BEGIN:VEVENT
DTSTART;TZID=UTC:20250303T190000
DTEND;TZID=UTC:20250303T203000
DTSTAMP:20260425T120059
CREATED:20250305T122729Z
LAST-MODIFIED:20250305T122729Z
UID:24138-1741028400-1741033800@sttimothynj.org
SUMMARY:Boy Scouts
DESCRIPTION:
URL:https://sttimothynj.org/event/boy-scouts-4/
CATEGORIES:St Timothy's
END:VEVENT
BEGIN:VEVENT
DTSTART;TZID=UTC:20250304T130000
DTEND;TZID=UTC:20250304T140000
DTSTAMP:20260425T120059
CREATED:20250305T122803Z
LAST-MODIFIED:20250305T122803Z
UID:24140-1741093200-1741096800@sttimothynj.org
SUMMARY:Meditation w/Movement
DESCRIPTION:
URL:https://sttimothynj.org/event/meditation-w-movement-5/
CATEGORIES:St Timothy's
END:VEVENT
BEGIN:VEVENT
DTSTART;TZID=UTC:20250304T140000
DTEND;TZID=UTC:20250304T150000
DTSTAMP:20260425T120059
CREATED:20250305T122838Z
LAST-MODIFIED:20250305T122838Z
UID:24142-1741096800-1741100400@sttimothynj.org
SUMMARY:Bible Study w/ Holy Communion
DESCRIPTION:
URL:https://sttimothynj.org/event/bible-study-w-holy-communion-5/
CATEGORIES:St Timothy's
END:VEVENT
BEGIN:VEVENT
DTSTART;TZID=UTC:20250304T190000
DTEND;TZID=UTC:20250304T200000
DTSTAMP:20260425T120059
CREATED:20250305T122908Z
LAST-MODIFIED:20250305T122908Z
UID:24144-1741114800-1741118400@sttimothynj.org
SUMMARY:Worship Committee
DESCRIPTION:
URL:https://sttimothynj.org/event/worship-committee/
CATEGORIES:St Timothy's
END:VEVENT
BEGIN:VEVENT
DTSTART;TZID=UTC:20250305T120000
DTEND;TZID=UTC:20250305T140000
DTSTAMP:20260425T120059
CREATED:20250305T122943Z
LAST-MODIFIED:20250305T122943Z
UID:24146-1741176000-1741183200@sttimothynj.org
SUMMARY:Worship
DESCRIPTION:
URL:https://sttimothynj.org/event/worship-5/
CATEGORIES:St Timothy's
END:VEVENT
BEGIN:VEVENT
DTSTART;TZID=UTC:20250305T190000
DTEND;TZID=UTC:20250305T210000
DTSTAMP:20260425T120059
CREATED:20250305T123011Z
LAST-MODIFIED:20250305T123011Z
UID:24148-1741201200-1741208400@sttimothynj.org
SUMMARY:Worship
DESCRIPTION:
URL:https://sttimothynj.org/event/worship-6/
CATEGORIES:St Timothy's
END:VEVENT
BEGIN:VEVENT
DTSTART;TZID=UTC:20250307T163000
DTEND;TZID=UTC:20250307T180000
DTSTAMP:20260425T120059
CREATED:20250305T123104Z
LAST-MODIFIED:20250305T123104Z
UID:24150-1741365000-1741370400@sttimothynj.org
SUMMARY:Rehearsal
DESCRIPTION:
URL:https://sttimothynj.org/event/rehearsal/
CATEGORIES:St Timothy's
END:VEVENT
BEGIN:VEVENT
DTSTART;TZID=UTC:20250307T180000
DTEND;TZID=UTC:20250307T190000
DTSTAMP:20260425T120059
CREATED:20250305T123136Z
LAST-MODIFIED:20250305T123136Z
UID:24152-1741370400-1741374000@sttimothynj.org
SUMMARY:AA
DESCRIPTION:
URL:https://sttimothynj.org/event/aa-9/
CATEGORIES:St Timothy's
END:VEVENT
BEGIN:VEVENT
DTSTART;TZID=UTC:20250308T103000
DTEND;TZID=UTC:20250308T120000
DTSTAMP:20260425T120059
CREATED:20250305T123241Z
LAST-MODIFIED:20250324T002755Z
UID:24154-1741429800-1741435200@sttimothynj.org
SUMMARY:Bookworms Book Club
DESCRIPTION:
URL:https://sttimothynj.org/event/bookworms-book-club-2/
CATEGORIES:St Timothy's
END:VEVENT
BEGIN:VEVENT
DTSTART;TZID=UTC:20250324T190000
DTEND;TZID=UTC:20250324T200000
DTSTAMP:20260425T120059
CREATED:20250324T222227Z
LAST-MODIFIED:20250324T222227Z
UID:24215-1742842800-1742846400@sttimothynj.org
SUMMARY:Boy Scouts
DESCRIPTION:
URL:https://sttimothynj.org/event/boy-scouts-5/
CATEGORIES:St Timothy's
END:VEVENT
BEGIN:VEVENT
DTSTART;TZID=UTC:20250326T093000
DTEND;TZID=UTC:20250326T103000
DTSTAMP:20260425T120059
CREATED:20250326T024709Z
LAST-MODIFIED:20250326T024709Z
UID:24222-1742981400-1742985000@sttimothynj.org
SUMMARY:Angels Circle
DESCRIPTION:
URL:https://sttimothynj.org/event/angels-circle-3/
CATEGORIES:St Timothy's
END:VEVENT
BEGIN:VEVENT
DTSTART;TZID=UTC:20250326T103000
DTEND;TZID=UTC:20250326T113000
DTSTAMP:20260425T120059
CREATED:20250326T024813Z
LAST-MODIFIED:20250326T024813Z
UID:24224-1742985000-1742988600@sttimothynj.org
SUMMARY:Knit & Crochet
DESCRIPTION:
URL:https://sttimothynj.org/event/knit-crochet-3/
CATEGORIES:St Timothy's
END:VEVENT
BEGIN:VEVENT
DTSTART;TZID=UTC:20250326T183000
DTEND;TZID=UTC:20250326T200000
DTSTAMP:20260425T120059
CREATED:20250326T024900Z
LAST-MODIFIED:20250326T024900Z
UID:24226-1743013800-1743019200@sttimothynj.org
SUMMARY:Soup Supper followed by Bells Rehearsal
DESCRIPTION:
URL:https://sttimothynj.org/event/soup-supper-followed-by-bells-rehearsal/
CATEGORIES:St Timothy's
END:VEVENT
BEGIN:VEVENT
DTSTART;TZID=UTC:20250328T163000
DTEND;TZID=UTC:20250328T173000
DTSTAMP:20260425T120059
CREATED:20250326T024951Z
LAST-MODIFIED:20250326T024951Z
UID:24228-1743179400-1743183000@sttimothynj.org
SUMMARY:Rehearsal
DESCRIPTION:
URL:https://sttimothynj.org/event/rehearsal-2/
CATEGORIES:St Timothy's
END:VEVENT
BEGIN:VEVENT
DTSTART;TZID=UTC:20250328T180000
DTEND;TZID=UTC:20250328T193000
DTSTAMP:20260425T120059
CREATED:20250326T025026Z
LAST-MODIFIED:20250326T025026Z
UID:24230-1743184800-1743190200@sttimothynj.org
SUMMARY:AA
DESCRIPTION:
URL:https://sttimothynj.org/event/aa-10/
CATEGORIES:St Timothy's
END:VEVENT
BEGIN:VEVENT
DTSTART;TZID=UTC:20250331T083000
DTEND;TZID=UTC:20250331T091500
DTSTAMP:20260425T120059
CREATED:20250326T025121Z
LAST-MODIFIED:20250326T025121Z
UID:24232-1743409800-1743412500@sttimothynj.org
SUMMARY:Worship
DESCRIPTION:
URL:https://sttimothynj.org/event/worship-7/
CATEGORIES:St Timothy's
END:VEVENT
BEGIN:VEVENT
DTSTART;TZID=UTC:20250331T091500
DTEND;TZID=UTC:20250331T101500
DTSTAMP:20260425T120059
CREATED:20250326T025258Z
LAST-MODIFIED:20250326T025258Z
UID:24236-1743412500-1743416100@sttimothynj.org
SUMMARY:Christian Ed
DESCRIPTION:
URL:https://sttimothynj.org/event/christian-ed-2/
CATEGORIES:St Timothy's
END:VEVENT
BEGIN:VEVENT
DTSTART;TZID=UTC:20250331T103000
DTEND;TZID=UTC:20250331T113000
DTSTAMP:20260425T120059
CREATED:20250326T025204Z
LAST-MODIFIED:20250326T025204Z
UID:24234-1743417000-1743420600@sttimothynj.org
SUMMARY:Worship
DESCRIPTION:
URL:https://sttimothynj.org/event/worship-8/
CATEGORIES:St Timothy's
END:VEVENT
BEGIN:VEVENT
DTSTART;TZID=UTC:20250331T113000
DTEND;TZID=UTC:20250331T123000
DTSTAMP:20260425T120059
CREATED:20250326T025330Z
LAST-MODIFIED:20250326T025330Z
UID:24238-1743420600-1743424200@sttimothynj.org
SUMMARY:Coffee Hour
DESCRIPTION:
URL:https://sttimothynj.org/event/coffee-hour-3/
CATEGORIES:St Timothy's
END:VEVENT
BEGIN:VEVENT
DTSTART;TZID=UTC:20250331T130000
DTEND;TZID=UTC:20250331T143000
DTSTAMP:20260425T120059
CREATED:20250326T025425Z
LAST-MODIFIED:20250326T025425Z
UID:24240-1743426000-1743431400@sttimothynj.org
SUMMARY:AA
DESCRIPTION:
URL:https://sttimothynj.org/event/aa-11/
CATEGORIES:St Timothy's
END:VEVENT
BEGIN:VEVENT
DTSTART;TZID=UTC:20250331T150000
DTEND;TZID=UTC:20250331T170000
DTSTAMP:20260425T120059
CREATED:20250326T025507Z
LAST-MODIFIED:20250326T025507Z
UID:24242-1743433200-1743440400@sttimothynj.org
SUMMARY:Rehearsal
DESCRIPTION:
URL:https://sttimothynj.org/event/rehearsal-3/
CATEGORIES:St Timothy's
END:VEVENT
BEGIN:VEVENT
DTSTART;TZID=UTC:20250401T130000
DTEND;TZID=UTC:20250401T140000
DTSTAMP:20260425T120059
CREATED:20250326T025857Z
LAST-MODIFIED:20250326T025857Z
UID:24244-1743512400-1743516000@sttimothynj.org
SUMMARY:Meditation w/Movement
DESCRIPTION:
URL:https://sttimothynj.org/event/meditation-w-movement-6/
CATEGORIES:St Timothy's
END:VEVENT
BEGIN:VEVENT
DTSTART;TZID=UTC:20250401T140000
DTEND;TZID=UTC:20250401T150000
DTSTAMP:20260425T120059
CREATED:20250326T025930Z
LAST-MODIFIED:20250326T025930Z
UID:24246-1743516000-1743519600@sttimothynj.org
SUMMARY:Bible Study w/ Holy Communion
DESCRIPTION:
URL:https://sttimothynj.org/event/bible-study-w-holy-communion-6/
CATEGORIES:St Timothy's
END:VEVENT
BEGIN:VEVENT
DTSTART;TZID=UTC:20250401T190000
DTEND;TZID=UTC:20250401T200000
DTSTAMP:20260425T120059
CREATED:20250326T030010Z
LAST-MODIFIED:20250326T030010Z
UID:24248-1743534000-1743537600@sttimothynj.org
SUMMARY:Worship
DESCRIPTION:
URL:https://sttimothynj.org/event/worship-9/
CATEGORIES:St Timothy's
END:VEVENT
BEGIN:VEVENT
DTSTART;TZID=UTC:20250402T183000
DTEND;TZID=UTC:20250402T200000
DTSTAMP:20260425T120059
CREATED:20250326T030103Z
LAST-MODIFIED:20250326T030103Z
UID:24250-1743618600-1743624000@sttimothynj.org
SUMMARY:Lenten Soup Supper followed by Choir Rehearsal
DESCRIPTION:
URL:https://sttimothynj.org/event/lenten-soup-supper-followed-by-choir-rehearsal/
CATEGORIES:St Timothy's
END:VEVENT
BEGIN:VEVENT
DTSTART;TZID=UTC:20250404T180000
DTEND;TZID=UTC:20250404T193000
DTSTAMP:20260425T120059
CREATED:20250326T030142Z
LAST-MODIFIED:20250326T030142Z
UID:24252-1743789600-1743795000@sttimothynj.org
SUMMARY:AA
DESCRIPTION:
URL:https://sttimothynj.org/event/aa-12/
CATEGORIES:St Timothy's
END:VEVENT
BEGIN:VEVENT
DTSTART;TZID=UTC:20250406T083000
DTEND;TZID=UTC:20250406T091500
DTSTAMP:20260425T120059
CREATED:20250326T030245Z
LAST-MODIFIED:20250326T030245Z
UID:24254-1743928200-1743930900@sttimothynj.org
SUMMARY:Worship
DESCRIPTION:
URL:https://sttimothynj.org/event/worship-10/
CATEGORIES:St Timothy's
END:VEVENT
BEGIN:VEVENT
DTSTART;TZID=UTC:20250406T103000
DTEND;TZID=UTC:20250406T113000
DTSTAMP:20260425T120059
CREATED:20250326T030317Z
LAST-MODIFIED:20250326T030317Z
UID:24256-1743935400-1743939000@sttimothynj.org
SUMMARY:Worship
DESCRIPTION:
URL:https://sttimothynj.org/event/worship-11/
CATEGORIES:St Timothy's
END:VEVENT
END:VCALENDAR