BEGIN:VCALENDAR
VERSION:2.0
PRODID:-//St Timothy Lutheran Church - ECPv6.15.20//NONSGML v1.0//EN
CALSCALE:GREGORIAN
METHOD:PUBLISH
X-WR-CALNAME:St Timothy Lutheran Church
X-ORIGINAL-URL:https://sttimothynj.org
X-WR-CALDESC:Events for St Timothy Lutheran Church
REFRESH-INTERVAL;VALUE=DURATION:PT1H
X-Robots-Tag:noindex
X-PUBLISHED-TTL:PT1H
BEGIN:VTIMEZONE
TZID:America/New_York
BEGIN:DAYLIGHT
TZOFFSETFROM:-0500
TZOFFSETTO:-0400
TZNAME:EDT
DTSTART:20250309T070000
END:DAYLIGHT
BEGIN:STANDARD
TZOFFSETFROM:-0400
TZOFFSETTO:-0500
TZNAME:EST
DTSTART:20251102T060000
END:STANDARD
BEGIN:DAYLIGHT
TZOFFSETFROM:-0500
TZOFFSETTO:-0400
TZNAME:EDT
DTSTART:20260308T070000
END:DAYLIGHT
BEGIN:STANDARD
TZOFFSETFROM:-0400
TZOFFSETTO:-0500
TZNAME:EST
DTSTART:20261101T060000
END:STANDARD
BEGIN:DAYLIGHT
TZOFFSETFROM:-0500
TZOFFSETTO:-0400
TZNAME:EDT
DTSTART:20270314T070000
END:DAYLIGHT
BEGIN:STANDARD
TZOFFSETFROM:-0400
TZOFFSETTO:-0500
TZNAME:EST
DTSTART:20271107T060000
END:STANDARD
END:VTIMEZONE
BEGIN:VEVENT
DTSTART;TZID=America/New_York:20260531T130000
DTEND;TZID=America/New_York:20260531T143000
DTSTAMP:20260423T151622
CREATED:20260206T154233Z
LAST-MODIFIED:20260422T213714Z
UID:26303-1780232400-1780237800@sttimothynj.org
SUMMARY:AA Keep It Real group
DESCRIPTION:
URL:https://sttimothynj.org/event/aa-keep-it-real-group-30/
CATEGORIES:St Timothy's
END:VEVENT
BEGIN:VEVENT
DTSTART;TZID=America/New_York:20260531T093000
DTEND;TZID=America/New_York:20260531T103000
DTSTAMP:20260423T151622
CREATED:20260422T213714Z
LAST-MODIFIED:20260422T213714Z
UID:26733-1780219800-1780223400@sttimothynj.org
SUMMARY:Worship
DESCRIPTION:
URL:https://sttimothynj.org/event/worship-51/
CATEGORIES:St Timothy's
END:VEVENT
BEGIN:VEVENT
DTSTART;VALUE=DATE:20260531
DTEND;VALUE=DATE:20260601
DTSTAMP:20260423T151622
CREATED:20260422T213714Z
LAST-MODIFIED:20260422T213714Z
UID:26732-1780185600-1780271999@sttimothynj.org
SUMMARY:DEADLINE: Endowment ballots
DESCRIPTION:
URL:https://sttimothynj.org/event/deadline-endowment-ballots/
CATEGORIES:St Timothy's
END:VEVENT
BEGIN:VEVENT
DTSTART;TZID=America/New_York:20260529T180000
DTEND;TZID=America/New_York:20260529T193000
DTSTAMP:20260423T151622
CREATED:20260206T154233Z
LAST-MODIFIED:20260422T213714Z
UID:26302-1780077600-1780083000@sttimothynj.org
SUMMARY:AA Wayne Valley group
DESCRIPTION:
URL:https://sttimothynj.org/event/aa-wayne-valley-group-30/
CATEGORIES:St Timothy's
END:VEVENT
BEGIN:VEVENT
DTSTART;VALUE=DATE:20260529
DTEND;VALUE=DATE:20260530
DTSTAMP:20260423T151622
CREATED:20251204T181305Z
LAST-MODIFIED:20260422T213714Z
UID:25920-1780012800-1780099199@sttimothynj.org
SUMMARY:OFFICE CLOSED
DESCRIPTION:
URL:https://sttimothynj.org/event/office-closed-36/
CATEGORIES:St Timothy's
END:VEVENT
BEGIN:VEVENT
DTSTART;TZID=America/New_York:20260527T103000
DTEND;TZID=America/New_York:20260527T120000
DTSTAMP:20260423T151622
CREATED:20260226T182157Z
LAST-MODIFIED:20260422T213714Z
UID:26475-1779877800-1779883200@sttimothynj.org
SUMMARY:Knitters & Crocheters
DESCRIPTION:
URL:https://sttimothynj.org/event/knitters-crocheters-9/
CATEGORIES:St Timothy's
END:VEVENT
BEGIN:VEVENT
DTSTART;TZID=America/New_York:20260527T093000
DTEND;TZID=America/New_York:20260527T103000
DTSTAMP:20260423T151622
CREATED:20260226T182157Z
LAST-MODIFIED:20260422T213714Z
UID:26474-1779874200-1779877800@sttimothynj.org
SUMMARY:Angels Circle
DESCRIPTION:
URL:https://sttimothynj.org/event/angels-circle-19/
CATEGORIES:St Timothy's
END:VEVENT
BEGIN:VEVENT
DTSTART;TZID=America/New_York:20260526T140000
DTEND;TZID=America/New_York:20260526T150000
DTSTAMP:20260423T151622
CREATED:20260226T182157Z
LAST-MODIFIED:20260422T213714Z
UID:26473-1779804000-1779807600@sttimothynj.org
SUMMARY:Bible Study w/Communion
DESCRIPTION:
URL:https://sttimothynj.org/event/bible-study-w-communion-20/
CATEGORIES:St Timothy's
END:VEVENT
BEGIN:VEVENT
DTSTART;TZID=America/New_York:20260526T130000
DTEND;TZID=America/New_York:20260526T140000
DTSTAMP:20260423T151622
CREATED:20260226T182157Z
LAST-MODIFIED:20260422T213714Z
UID:26472-1779800400-1779804000@sttimothynj.org
SUMMARY:Meditation with Movement
DESCRIPTION:
URL:https://sttimothynj.org/event/meditation-with-movement-22/
CATEGORIES:St Timothy's
END:VEVENT
BEGIN:VEVENT
DTSTART;VALUE=DATE:20260525
DTEND;VALUE=DATE:20260526
DTSTAMP:20260423T151622
CREATED:20260422T213714Z
LAST-MODIFIED:20260422T213714Z
UID:26731-1779667200-1779753599@sttimothynj.org
SUMMARY:OFFICE CLOSED
DESCRIPTION:
URL:https://sttimothynj.org/event/office-closed-137/
CATEGORIES:St Timothy's
END:VEVENT
BEGIN:VEVENT
DTSTART;TZID=America/New_York:20260524T130000
DTEND;TZID=America/New_York:20260524T143000
DTSTAMP:20260423T151622
CREATED:20260206T154233Z
LAST-MODIFIED:20260422T213714Z
UID:26301-1779627600-1779633000@sttimothynj.org
SUMMARY:AA Keep It Real group
DESCRIPTION:
URL:https://sttimothynj.org/event/aa-keep-it-real-group-29/
CATEGORIES:St Timothy's
END:VEVENT
BEGIN:VEVENT
DTSTART;TZID=America/New_York:20260524T093000
DTEND;TZID=America/New_York:20260524T120000
DTSTAMP:20260423T151622
CREATED:20260227T182343Z
LAST-MODIFIED:20260422T213714Z
UID:26573-1779615000-1779624000@sttimothynj.org
SUMMARY:Worship & Pentecost Sunday Brunch
DESCRIPTION:
URL:https://sttimothynj.org/event/worship-pentecost-sunday-brunch/
CATEGORIES:St Timothy's
END:VEVENT
BEGIN:VEVENT
DTSTART;TZID=America/New_York:20260522T180000
DTEND;TZID=America/New_York:20260522T193000
DTSTAMP:20260423T151622
CREATED:20260206T154233Z
LAST-MODIFIED:20260422T213714Z
UID:26300-1779472800-1779478200@sttimothynj.org
SUMMARY:AA Wayne Valley group
DESCRIPTION:
URL:https://sttimothynj.org/event/aa-wayne-valley-group-29/
CATEGORIES:St Timothy's
END:VEVENT
BEGIN:VEVENT
DTSTART;VALUE=DATE:20260522
DTEND;VALUE=DATE:20260523
DTSTAMP:20260423T151622
CREATED:20251204T181305Z
LAST-MODIFIED:20260422T213714Z
UID:25919-1779408000-1779494399@sttimothynj.org
SUMMARY:OFFICE CLOSED
DESCRIPTION:
URL:https://sttimothynj.org/event/office-closed-35/
CATEGORIES:St Timothy's
END:VEVENT
BEGIN:VEVENT
DTSTART;TZID=America/New_York:20260521T103000
DTEND;TZID=America/New_York:20260521T113000
DTSTAMP:20260423T151622
CREATED:20251030T154232Z
LAST-MODIFIED:20260422T213714Z
UID:25679-1779359400-1779363000@sttimothynj.org
SUMMARY:Adult Book Group
DESCRIPTION:
URL:https://sttimothynj.org/event/adult-book-group-15/
CATEGORIES:St Timothy's
END:VEVENT
BEGIN:VEVENT
DTSTART;TZID=America/New_York:20260520T100000
DTEND;TZID=America/New_York:20260520T110000
DTSTAMP:20260423T151622
CREATED:20251030T154232Z
LAST-MODIFIED:20260422T213714Z
UID:25678-1779271200-1779274800@sttimothynj.org
SUMMARY:Hymn Sing @ Alps of Wayne
DESCRIPTION:
URL:https://sttimothynj.org/event/hymn-sing-alps-of-wayne-7/
CATEGORIES:St Timothy's
END:VEVENT
BEGIN:VEVENT
DTSTART;TZID=America/New_York:20260519T140000
DTEND;TZID=America/New_York:20260519T150000
DTSTAMP:20260423T151622
CREATED:20260226T182157Z
LAST-MODIFIED:20260422T213714Z
UID:26470-1779199200-1779202800@sttimothynj.org
SUMMARY:Bible Study w/Communion
DESCRIPTION:
URL:https://sttimothynj.org/event/bible-study-w-communion-19/
CATEGORIES:St Timothy's
END:VEVENT
BEGIN:VEVENT
DTSTART;TZID=America/New_York:20260519T130000
DTEND;TZID=America/New_York:20260519T140000
DTSTAMP:20260423T151622
CREATED:20260226T182157Z
LAST-MODIFIED:20260422T213714Z
UID:26471-1779195600-1779199200@sttimothynj.org
SUMMARY:Meditation with Movement
DESCRIPTION:
URL:https://sttimothynj.org/event/meditation-with-movement-21/
CATEGORIES:St Timothy's
END:VEVENT
BEGIN:VEVENT
DTSTART;TZID=America/New_York:20260518T190000
DTEND;TZID=America/New_York:20260518T200000
DTSTAMP:20260423T151622
CREATED:20260206T154233Z
LAST-MODIFIED:20260422T213714Z
UID:26299-1779130800-1779134400@sttimothynj.org
SUMMARY:Boy Scout Troop 107
DESCRIPTION:
URL:https://sttimothynj.org/event/boy-scout-troop-107-18/
CATEGORIES:St Timothy's
END:VEVENT
BEGIN:VEVENT
DTSTART;TZID=America/New_York:20260518T090000
DTEND;TZID=America/New_York:20260518T113000
DTSTAMP:20260423T151622
CREATED:20260226T182157Z
LAST-MODIFIED:20260422T213714Z
UID:26469-1779094800-1779103800@sttimothynj.org
SUMMARY:Heart n' Hands Mission
DESCRIPTION:Volunteers are available to help with donations.  Please pull around to the rear parking lot and enter through first set of doors (where the railings are!).  Go down the half-flight of stairs to the rooms on the right.\nThis is a collection site only.\nFor donation intake at other times\, call the office 973.694.8316 for arrangements.
URL:https://sttimothynj.org/event/heart-n-hands-mission-20/
CATEGORIES:St Timothy's
END:VEVENT
BEGIN:VEVENT
DTSTART;TZID=America/New_York:20260517T130000
DTEND;TZID=America/New_York:20260517T143000
DTSTAMP:20260423T151622
CREATED:20260206T154233Z
LAST-MODIFIED:20260422T213714Z
UID:26298-1779022800-1779028200@sttimothynj.org
SUMMARY:AA Keep It Real group
DESCRIPTION:
URL:https://sttimothynj.org/event/aa-keep-it-real-group-28/
CATEGORIES:St Timothy's
END:VEVENT
BEGIN:VEVENT
DTSTART;TZID=America/New_York:20260517T103000
DTEND;TZID=America/New_York:20260517T113000
DTSTAMP:20260423T151622
CREATED:20260226T182157Z
LAST-MODIFIED:20260422T213714Z
UID:26468-1779013800-1779017400@sttimothynj.org
SUMMARY:Worship & livestream
DESCRIPTION:
URL:https://sttimothynj.org/event/worship-livestream-23/
CATEGORIES:St Timothy's
END:VEVENT
BEGIN:VEVENT
DTSTART;TZID=America/New_York:20260517T093500
DTEND;TZID=America/New_York:20260517T102000
DTSTAMP:20260423T151622
CREATED:20260227T182343Z
LAST-MODIFIED:20260422T213714Z
UID:26568-1779010500-1779013200@sttimothynj.org
SUMMARY:Christian Ed Programs
DESCRIPTION:Programs include: \nSunday School classes for grades Pre-K through 6\nConfirmation classes for grades 7-8\nAdult Discussion Forum\nAdult Christian Education classes
URL:https://sttimothynj.org/event/christian-ed-programs-33/
CATEGORIES:St Timothy's
END:VEVENT
BEGIN:VEVENT
DTSTART;TZID=America/New_York:20260517T090000
DTEND;TZID=America/New_York:20260517T093000
DTSTAMP:20260423T151622
CREATED:20260226T182157Z
LAST-MODIFIED:20260422T213714Z
UID:26467-1779008400-1779010200@sttimothynj.org
SUMMARY:Worship
DESCRIPTION:
URL:https://sttimothynj.org/event/worship-50/
CATEGORIES:St Timothy's
END:VEVENT
BEGIN:VEVENT
DTSTART;TZID=America/New_York:20260516T093500
DTEND;TZID=America/New_York:20260516T102000
DTSTAMP:20260423T151622
CREATED:20260227T182343Z
LAST-MODIFIED:20260422T213714Z
UID:26566-1778924100-1778926800@sttimothynj.org
SUMMARY:Christian Ed Programs
DESCRIPTION:Programs include: \nSunday School classes for grades Pre-K through 6\nConfirmation classes for grades 7-8\nAdult Discussion Forum\nAdult Christian Education classes
URL:https://sttimothynj.org/event/christian-ed-programs-32/
CATEGORIES:St Timothy's
END:VEVENT
BEGIN:VEVENT
DTSTART;TZID=America/New_York:20260515T180000
DTEND;TZID=America/New_York:20260515T193000
DTSTAMP:20260423T151622
CREATED:20260206T154233Z
LAST-MODIFIED:20260422T213714Z
UID:26297-1778868000-1778873400@sttimothynj.org
SUMMARY:AA Wayne Valley group
DESCRIPTION:
URL:https://sttimothynj.org/event/aa-wayne-valley-group-28/
CATEGORIES:St Timothy's
END:VEVENT
BEGIN:VEVENT
DTSTART;VALUE=DATE:20260515
DTEND;VALUE=DATE:20260516
DTSTAMP:20260423T151622
CREATED:20251204T181305Z
LAST-MODIFIED:20260422T213714Z
UID:25918-1778803200-1778889599@sttimothynj.org
SUMMARY:OFFICE CLOSED
DESCRIPTION:
URL:https://sttimothynj.org/event/office-closed-34/
CATEGORIES:St Timothy's
END:VEVENT
BEGIN:VEVENT
DTSTART;TZID=America/New_York:20260514T190000
DTEND;TZID=America/New_York:20260514T200000
DTSTAMP:20260423T151622
CREATED:20260422T213714Z
LAST-MODIFIED:20260422T213714Z
UID:26730-1778785200-1778788800@sttimothynj.org
SUMMARY:Ascension Day Special Service
DESCRIPTION:
URL:https://sttimothynj.org/event/ascension-day-special-service/
CATEGORIES:St Timothy's
END:VEVENT
BEGIN:VEVENT
DTSTART;TZID=America/New_York:20260513T103000
DTEND;TZID=America/New_York:20260513T120000
DTSTAMP:20260423T151622
CREATED:20251204T181305Z
LAST-MODIFIED:20260422T213714Z
UID:25917-1778668200-1778673600@sttimothynj.org
SUMMARY:Knitters & Crocheters
DESCRIPTION:
URL:https://sttimothynj.org/event/knitters-crocheters-6/
CATEGORIES:St Timothy's
END:VEVENT
BEGIN:VEVENT
DTSTART;TZID=America/New_York:20260513T093000
DTEND;TZID=America/New_York:20260513T110000
DTSTAMP:20260423T151622
CREATED:20251204T181305Z
LAST-MODIFIED:20260422T213714Z
UID:25916-1778664600-1778670000@sttimothynj.org
SUMMARY:Angels Circle
DESCRIPTION:
URL:https://sttimothynj.org/event/angels-circle-16/
CATEGORIES:St Timothy's
END:VEVENT
END:VCALENDAR