BEGIN:VCALENDAR
VERSION:2.0
PRODID:-//St Timothy Lutheran Church - ECPv6.15.20//NONSGML v1.0//EN
CALSCALE:GREGORIAN
METHOD:PUBLISH
X-ORIGINAL-URL:https://sttimothynj.org
X-WR-CALDESC:Events for St Timothy Lutheran Church
REFRESH-INTERVAL;VALUE=DURATION:PT1H
X-Robots-Tag:noindex
X-PUBLISHED-TTL:PT1H
BEGIN:VTIMEZONE
TZID:America/New_York
BEGIN:DAYLIGHT
TZOFFSETFROM:-0500
TZOFFSETTO:-0400
TZNAME:EDT
DTSTART:20250309T070000
END:DAYLIGHT
BEGIN:STANDARD
TZOFFSETFROM:-0400
TZOFFSETTO:-0500
TZNAME:EST
DTSTART:20251102T060000
END:STANDARD
BEGIN:DAYLIGHT
TZOFFSETFROM:-0500
TZOFFSETTO:-0400
TZNAME:EDT
DTSTART:20260308T070000
END:DAYLIGHT
BEGIN:STANDARD
TZOFFSETFROM:-0400
TZOFFSETTO:-0500
TZNAME:EST
DTSTART:20261101T060000
END:STANDARD
BEGIN:DAYLIGHT
TZOFFSETFROM:-0500
TZOFFSETTO:-0400
TZNAME:EDT
DTSTART:20270314T070000
END:DAYLIGHT
BEGIN:STANDARD
TZOFFSETFROM:-0400
TZOFFSETTO:-0500
TZNAME:EST
DTSTART:20271107T060000
END:STANDARD
END:VTIMEZONE
BEGIN:VEVENT
DTSTART;TZID=America/New_York:20260407T130000
DTEND;TZID=America/New_York:20260407T140000
DTSTAMP:20260424T043501
CREATED:20260226T182156Z
LAST-MODIFIED:20260406T202249Z
UID:26439-1775566800-1775570400@sttimothynj.org
SUMMARY:Meditation with Movement
DESCRIPTION:
URL:https://sttimothynj.org/event/meditation-with-movement-15/
CATEGORIES:St Timothy's
END:VEVENT
BEGIN:VEVENT
DTSTART;VALUE=DATE:20260407
DTEND;VALUE=DATE:20260408
DTSTAMP:20260424T043501
CREATED:20260227T182342Z
LAST-MODIFIED:20260407T202048Z
UID:26527-1775520000-1775606399@sttimothynj.org
SUMMARY:DEADLINE: TIPS newsletter contributions
DESCRIPTION:
URL:https://sttimothynj.org/event/deadline-tips-newsletter-contributions-2/
CATEGORIES:St Timothy's
END:VEVENT
BEGIN:VEVENT
DTSTART;TZID=America/New_York:20260406T190000
DTEND;TZID=America/New_York:20260406T200000
DTSTAMP:20260424T043501
CREATED:20260206T154232Z
LAST-MODIFIED:20260406T202249Z
UID:26281-1775502000-1775505600@sttimothynj.org
SUMMARY:Boy Scout Troop 107
DESCRIPTION:
URL:https://sttimothynj.org/event/boy-scout-troop-107-12/
CATEGORIES:St Timothy's
END:VEVENT
BEGIN:VEVENT
DTSTART;TZID=America/New_York:20260406T090000
DTEND;TZID=America/New_York:20260406T113000
DTSTAMP:20260424T043501
CREATED:20260226T182156Z
LAST-MODIFIED:20260405T201959Z
UID:26437-1775466000-1775475000@sttimothynj.org
SUMMARY:Heart n' Hands Mission
DESCRIPTION:Volunteers are available to help with donations.  Please pull around to the rear parking lot and enter through first set of doors (where the railings are!).  Go down the half-flight of stairs to the rooms on the right.\nThis is a collection site only.\nFor donation intake at other times\, call the office 973.694.8316 for arrangements.
URL:https://sttimothynj.org/event/heart-n-hands-mission-14/
CATEGORIES:St Timothy's
END:VEVENT
BEGIN:VEVENT
DTSTART;VALUE=DATE:20260406
DTEND;VALUE=DATE:20260407
DTSTAMP:20260424T043501
CREATED:20260331T201951Z
LAST-MODIFIED:20260406T202249Z
UID:26687-1775433600-1775519999@sttimothynj.org
SUMMARY:H'nH CLOSED
DESCRIPTION:
URL:https://sttimothynj.org/event/hnh-closed/
CATEGORIES:St Timothy's
END:VEVENT
BEGIN:VEVENT
DTSTART;VALUE=DATE:20260406
DTEND;VALUE=DATE:20260407
DTSTAMP:20260424T043501
CREATED:20260227T182342Z
LAST-MODIFIED:20260406T202249Z
UID:26524-1775433600-1775519999@sttimothynj.org
SUMMARY:OFFICE CLOSED
DESCRIPTION:
URL:https://sttimothynj.org/event/office-closed-128/
CATEGORIES:St Timothy's
END:VEVENT
BEGIN:VEVENT
DTSTART;TZID=America/New_York:20260405T130000
DTEND;TZID=America/New_York:20260405T143000
DTSTAMP:20260424T043501
CREATED:20260206T154232Z
LAST-MODIFIED:20260404T201939Z
UID:26280-1775394000-1775399400@sttimothynj.org
SUMMARY:AA Keep It Real group
DESCRIPTION:
URL:https://sttimothynj.org/event/aa-keep-it-real-group-22/
CATEGORIES:St Timothy's
END:VEVENT
BEGIN:VEVENT
DTSTART;TZID=America/New_York:20260405T103000
DTEND;TZID=America/New_York:20260405T113000
DTSTAMP:20260424T043501
CREATED:20260227T182342Z
LAST-MODIFIED:20260404T201939Z
UID:26523-1775385000-1775388600@sttimothynj.org
SUMMARY:Easter Worship & livestream
DESCRIPTION:
URL:https://sttimothynj.org/event/easter-worship-livestream/
CATEGORIES:St Timothy's
END:VEVENT
BEGIN:VEVENT
DTSTART;TZID=America/New_York:20260405T090000
DTEND;TZID=America/New_York:20260405T093000
DTSTAMP:20260424T043501
CREATED:20260227T182342Z
LAST-MODIFIED:20260404T201939Z
UID:26521-1775379600-1775381400@sttimothynj.org
SUMMARY:Easter Worship
DESCRIPTION:
URL:https://sttimothynj.org/event/easter-worship-3/
CATEGORIES:St Timothy's
END:VEVENT
BEGIN:VEVENT
DTSTART;VALUE=DATE:20260405
DTEND;VALUE=DATE:20260406
DTSTAMP:20260424T043501
CREATED:20260227T182342Z
LAST-MODIFIED:20260405T201959Z
UID:26522-1775347200-1775433599@sttimothynj.org
SUMMARY:NOTE: NO Christian Ed programs
DESCRIPTION:
URL:https://sttimothynj.org/event/note-no-christian-ed-programs/
CATEGORIES:St Timothy's
END:VEVENT
BEGIN:VEVENT
DTSTART;TZID=America/New_York:20260403T190000
DTEND;TZID=America/New_York:20260403T200000
DTSTAMP:20260424T043501
CREATED:20260227T182342Z
LAST-MODIFIED:20260403T201952Z
UID:26520-1775242800-1775246400@sttimothynj.org
SUMMARY:Worship: Seven Last Words of Christ
DESCRIPTION:
URL:https://sttimothynj.org/event/worship-last-7-words-of-christ/
CATEGORIES:St Timothy's
END:VEVENT
BEGIN:VEVENT
DTSTART;TZID=America/New_York:20260403T180000
DTEND;TZID=America/New_York:20260403T193000
DTSTAMP:20260424T043501
CREATED:20260206T154232Z
LAST-MODIFIED:20260403T201952Z
UID:26279-1775239200-1775244600@sttimothynj.org
SUMMARY:AA Wayne Valley group
DESCRIPTION:
URL:https://sttimothynj.org/event/aa-wayne-valley-group-22/
CATEGORIES:St Timothy's
END:VEVENT
BEGIN:VEVENT
DTSTART;TZID=America/New_York:20260403T120000
DTEND;TZID=America/New_York:20260403T130000
DTSTAMP:20260424T043501
CREATED:20260227T182342Z
LAST-MODIFIED:20260402T201954Z
UID:26519-1775217600-1775221200@sttimothynj.org
SUMMARY:Stations of the Cross
DESCRIPTION:
URL:https://sttimothynj.org/event/stations-of-the-cross-2/
CATEGORIES:St Timothy's
END:VEVENT
BEGIN:VEVENT
DTSTART;VALUE=DATE:20260403
DTEND;VALUE=DATE:20260404
DTSTAMP:20260424T043501
CREATED:20260227T182342Z
LAST-MODIFIED:20260403T201952Z
UID:26516-1775174400-1775260799@sttimothynj.org
SUMMARY:Good Friday
DESCRIPTION:
URL:https://sttimothynj.org/event/good-friday/
CATEGORIES:St Timothy's
END:VEVENT
BEGIN:VEVENT
DTSTART;VALUE=DATE:20260403
DTEND;VALUE=DATE:20260404
DTSTAMP:20260424T043501
CREATED:20251204T181305Z
LAST-MODIFIED:20260403T201952Z
UID:25908-1775174400-1775260799@sttimothynj.org
SUMMARY:OFFICE CLOSED
DESCRIPTION:
URL:https://sttimothynj.org/event/office-closed-28/
CATEGORIES:St Timothy's
END:VEVENT
BEGIN:VEVENT
DTSTART;TZID=America/New_York:20260402T183000
DTEND;TZID=America/New_York:20260402T193000
DTSTAMP:20260424T043501
CREATED:20260227T182342Z
LAST-MODIFIED:20260402T201954Z
UID:26518-1775154600-1775158200@sttimothynj.org
SUMMARY:Dinner Church
DESCRIPTION:
URL:https://sttimothynj.org/event/dinner-church/
CATEGORIES:St Timothy's
END:VEVENT
BEGIN:VEVENT
DTSTART;VALUE=DATE:20260402
DTEND;VALUE=DATE:20260403
DTSTAMP:20260424T043501
CREATED:20260227T182342Z
LAST-MODIFIED:20260402T201954Z
UID:26517-1775088000-1775174399@sttimothynj.org
SUMMARY:Maundy Thursday
DESCRIPTION:
URL:https://sttimothynj.org/event/maundy-thursday/
CATEGORIES:St Timothy's
END:VEVENT
BEGIN:VEVENT
DTSTART;TZID=America/New_York:20260331T140000
DTEND;TZID=America/New_York:20260331T150000
DTSTAMP:20260424T043501
CREATED:20260226T182156Z
LAST-MODIFIED:20260330T201938Z
UID:26436-1774965600-1774969200@sttimothynj.org
SUMMARY:Bible Study w/Communion
DESCRIPTION:
URL:https://sttimothynj.org/event/bible-study-w-communion-12/
CATEGORIES:St Timothy's
END:VEVENT
BEGIN:VEVENT
DTSTART;TZID=America/New_York:20260331T130000
DTEND;TZID=America/New_York:20260331T140000
DTSTAMP:20260424T043501
CREATED:20260226T182156Z
LAST-MODIFIED:20260330T201938Z
UID:26435-1774962000-1774965600@sttimothynj.org
SUMMARY:Meditation with Movement
DESCRIPTION:
URL:https://sttimothynj.org/event/meditation-with-movement-14/
CATEGORIES:St Timothy's
END:VEVENT
BEGIN:VEVENT
DTSTART;VALUE=DATE:20260331
DTEND;VALUE=DATE:20260401
DTSTAMP:20260424T043501
CREATED:20260331T201950Z
LAST-MODIFIED:20260331T201950Z
UID:26685-1774915200-1775001599@sttimothynj.org
SUMMARY:CANCELLED Afternoon activities
DESCRIPTION:
URL:https://sttimothynj.org/event/cancelled-afternoon-activities/
CATEGORIES:St Timothy's
END:VEVENT
BEGIN:VEVENT
DTSTART;TZID=America/New_York:20260330T190000
DTEND;TZID=America/New_York:20260330T200000
DTSTAMP:20260424T043501
CREATED:20260206T154232Z
LAST-MODIFIED:20260330T201938Z
UID:26278-1774897200-1774900800@sttimothynj.org
SUMMARY:Boy Scout Troop 107
DESCRIPTION:
URL:https://sttimothynj.org/event/boy-scout-troop-107-11/
CATEGORIES:St Timothy's
END:VEVENT
BEGIN:VEVENT
DTSTART;TZID=America/New_York:20260330T090000
DTEND;TZID=America/New_York:20260330T113000
DTSTAMP:20260424T043501
CREATED:20260226T182156Z
LAST-MODIFIED:20260329T202003Z
UID:26434-1774861200-1774870200@sttimothynj.org
SUMMARY:Heart n' Hands Mission
DESCRIPTION:Volunteers are available to help with donations.  Please pull around to the rear parking lot and enter through first set of doors (where the railings are!).  Go down the half-flight of stairs to the rooms on the right.\nThis is a collection site only.\nFor donation intake at other times\, call the office 973.694.8316 for arrangements.
URL:https://sttimothynj.org/event/heart-n-hands-mission-13/
CATEGORIES:St Timothy's
END:VEVENT
BEGIN:VEVENT
DTSTART;TZID=America/New_York:20260329T130000
DTEND;TZID=America/New_York:20260329T143000
DTSTAMP:20260424T043501
CREATED:20260206T154232Z
LAST-MODIFIED:20260328T200553Z
UID:26277-1774789200-1774794600@sttimothynj.org
SUMMARY:AA Keep It Real group
DESCRIPTION:
URL:https://sttimothynj.org/event/aa-keep-it-real-group-21/
CATEGORIES:St Timothy's
END:VEVENT
BEGIN:VEVENT
DTSTART;TZID=America/New_York:20260329T093000
DTEND;TZID=America/New_York:20260329T120000
DTSTAMP:20260424T043501
CREATED:20260226T182156Z
LAST-MODIFIED:20260328T200553Z
UID:26433-1774776600-1774785600@sttimothynj.org
SUMMARY:Worship & Palm Sunday Brunch
DESCRIPTION:
URL:https://sttimothynj.org/event/worship-palm-sunday-brunch/
CATEGORIES:St Timothy's
END:VEVENT
BEGIN:VEVENT
DTSTART;VALUE=DATE:20260329
DTEND;VALUE=DATE:20260330
DTSTAMP:20260424T043501
CREATED:20260227T182342Z
LAST-MODIFIED:20260329T202003Z
UID:26511-1774742400-1774828799@sttimothynj.org
SUMMARY:Palm/Passion Sunday
DESCRIPTION:
URL:https://sttimothynj.org/event/palm-passion-sunday/
CATEGORIES:St Timothy's
END:VEVENT
BEGIN:VEVENT
DTSTART;TZID=America/New_York:20260327T180000
DTEND;TZID=America/New_York:20260327T193000
DTSTAMP:20260424T043501
CREATED:20260206T154232Z
LAST-MODIFIED:20260327T200721Z
UID:26276-1774634400-1774639800@sttimothynj.org
SUMMARY:AA Wayne Valley group
DESCRIPTION:
URL:https://sttimothynj.org/event/aa-wayne-valley-group-21/
CATEGORIES:St Timothy's
END:VEVENT
BEGIN:VEVENT
DTSTART;TZID=America/New_York:20260327T180000
DTEND;TZID=America/New_York:20260327T193000
DTSTAMP:20260424T043501
CREATED:20251021T151330Z
LAST-MODIFIED:20251028T154250Z
UID:25112-1774634400-1774639800@sttimothynj.org
SUMMARY:AA
DESCRIPTION:
URL:https://sttimothynj.org/event/aa-92/
CATEGORIES:St Timothy's
END:VEVENT
BEGIN:VEVENT
DTSTART;VALUE=DATE:20260327
DTEND;VALUE=DATE:20260328
DTSTAMP:20260424T043501
CREATED:20251204T181305Z
LAST-MODIFIED:20260327T200721Z
UID:25907-1774569600-1774655999@sttimothynj.org
SUMMARY:OFFICE CLOSED
DESCRIPTION:
URL:https://sttimothynj.org/event/office-closed-27/
CATEGORIES:St Timothy's
END:VEVENT
BEGIN:VEVENT
DTSTART;TZID=America/New_York:20260325T183000
DTEND;TZID=America/New_York:20260325T193000
DTSTAMP:20260424T043501
CREATED:20260206T154232Z
LAST-MODIFIED:20260325T200443Z
UID:26275-1774463400-1774467000@sttimothynj.org
SUMMARY:Lenten Soup & Worship
DESCRIPTION:
URL:https://sttimothynj.org/event/lenten-soup-worship-5/
CATEGORIES:St Timothy's
END:VEVENT
BEGIN:VEVENT
DTSTART;TZID=America/New_York:20260325T103000
DTEND;TZID=America/New_York:20260325T120000
DTSTAMP:20260424T043501
CREATED:20260226T182155Z
LAST-MODIFIED:20260324T200458Z
UID:26432-1774434600-1774440000@sttimothynj.org
SUMMARY:Knitters & Crocheters
DESCRIPTION:
URL:https://sttimothynj.org/event/knitters-crocheters-7/
CATEGORIES:St Timothy's
END:VEVENT
END:VCALENDAR