BEGIN:VCALENDAR
VERSION:2.0
PRODID:-//St Timothy Lutheran Church - ECPv6.15.20//NONSGML v1.0//EN
CALSCALE:GREGORIAN
METHOD:PUBLISH
X-WR-CALNAME:St Timothy Lutheran Church
X-ORIGINAL-URL:https://sttimothynj.org
X-WR-CALDESC:Events for St Timothy Lutheran Church
REFRESH-INTERVAL;VALUE=DURATION:PT1H
X-Robots-Tag:noindex
X-PUBLISHED-TTL:PT1H
BEGIN:VTIMEZONE
TZID:America/New_York
BEGIN:DAYLIGHT
TZOFFSETFROM:-0500
TZOFFSETTO:-0400
TZNAME:EDT
DTSTART:20240310T070000
END:DAYLIGHT
BEGIN:STANDARD
TZOFFSETFROM:-0400
TZOFFSETTO:-0500
TZNAME:EST
DTSTART:20241103T060000
END:STANDARD
BEGIN:DAYLIGHT
TZOFFSETFROM:-0500
TZOFFSETTO:-0400
TZNAME:EDT
DTSTART:20250309T070000
END:DAYLIGHT
BEGIN:STANDARD
TZOFFSETFROM:-0400
TZOFFSETTO:-0500
TZNAME:EST
DTSTART:20251102T060000
END:STANDARD
BEGIN:DAYLIGHT
TZOFFSETFROM:-0500
TZOFFSETTO:-0400
TZNAME:EDT
DTSTART:20260308T070000
END:DAYLIGHT
BEGIN:STANDARD
TZOFFSETFROM:-0400
TZOFFSETTO:-0500
TZNAME:EST
DTSTART:20261101T060000
END:STANDARD
BEGIN:DAYLIGHT
TZOFFSETFROM:-0500
TZOFFSETTO:-0400
TZNAME:EDT
DTSTART:20270314T070000
END:DAYLIGHT
BEGIN:STANDARD
TZOFFSETFROM:-0400
TZOFFSETTO:-0500
TZNAME:EST
DTSTART:20271107T060000
END:STANDARD
END:VTIMEZONE
BEGIN:VEVENT
DTSTART;TZID=America/New_York:20260125T130000
DTEND;TZID=America/New_York:20260125T143000
DTSTAMP:20260425T120124
CREATED:20251030T154231Z
LAST-MODIFIED:20260125T142442Z
UID:25662-1769346000-1769351400@sttimothynj.org
SUMMARY:AA Keep It Real group
DESCRIPTION:
URL:https://sttimothynj.org/event/aa-keep-it-real-group-13/
CATEGORIES:St Timothy's
END:VEVENT
BEGIN:VEVENT
DTSTART;TZID=America/New_York:20260123T180000
DTEND;TZID=America/New_York:20260123T193000
DTSTAMP:20260425T120124
CREATED:20251030T154231Z
LAST-MODIFIED:20260123T142221Z
UID:25661-1769191200-1769196600@sttimothynj.org
SUMMARY:AA Wayne Valley group
DESCRIPTION:
URL:https://sttimothynj.org/event/aa-wayne-valley-group-12/
CATEGORIES:St Timothy's
END:VEVENT
BEGIN:VEVENT
DTSTART;TZID=America/New_York:20260123T180000
DTEND;TZID=America/New_York:20260123T193000
DTSTAMP:20260425T120124
CREATED:20251021T151329Z
LAST-MODIFIED:20251028T154249Z
UID:25094-1769191200-1769196600@sttimothynj.org
SUMMARY:AA
DESCRIPTION:
URL:https://sttimothynj.org/event/aa-83/
CATEGORIES:St Timothy's
END:VEVENT
BEGIN:VEVENT
DTSTART;VALUE=DATE:20260123
DTEND;VALUE=DATE:20260124
DTSTAMP:20260425T120124
CREATED:20251204T181304Z
LAST-MODIFIED:20260123T142221Z
UID:25894-1769126400-1769212799@sttimothynj.org
SUMMARY:OFFICE CLOSED
DESCRIPTION:
URL:https://sttimothynj.org/event/office-closed-18/
CATEGORIES:St Timothy's
END:VEVENT
BEGIN:VEVENT
DTSTART;TZID=America/New_York:20260121T100000
DTEND;TZID=America/New_York:20260121T110000
DTSTAMP:20260425T120124
CREATED:20251030T154231Z
LAST-MODIFIED:20260121T140444Z
UID:25660-1768989600-1768993200@sttimothynj.org
SUMMARY:Hymn Sing @ Alps of Wayne
DESCRIPTION:
URL:https://sttimothynj.org/event/hymn-sing-alps-of-wayne-3/
CATEGORIES:St Timothy's
END:VEVENT
BEGIN:VEVENT
DTSTART;TZID=America/New_York:20260118T130000
DTEND;TZID=America/New_York:20260118T143000
DTSTAMP:20260425T120124
CREATED:20251030T154231Z
LAST-MODIFIED:20260118T133031Z
UID:25659-1768741200-1768746600@sttimothynj.org
SUMMARY:AA Keep It Real group
DESCRIPTION:
URL:https://sttimothynj.org/event/aa-keep-it-real-group-12/
CATEGORIES:St Timothy's
END:VEVENT
BEGIN:VEVENT
DTSTART;TZID=America/New_York:20260116T180000
DTEND;TZID=America/New_York:20260116T193000
DTSTAMP:20260425T120124
CREATED:20251030T154231Z
LAST-MODIFIED:20260116T131538Z
UID:25658-1768586400-1768591800@sttimothynj.org
SUMMARY:AA Wayne Valley group
DESCRIPTION:
URL:https://sttimothynj.org/event/aa-wayne-valley-group-11/
CATEGORIES:St Timothy's
END:VEVENT
BEGIN:VEVENT
DTSTART;TZID=America/New_York:20260116T180000
DTEND;TZID=America/New_York:20260116T193000
DTSTAMP:20260425T120124
CREATED:20251021T151329Z
LAST-MODIFIED:20251028T154249Z
UID:25092-1768586400-1768591800@sttimothynj.org
SUMMARY:AA
DESCRIPTION:
URL:https://sttimothynj.org/event/aa-82/
CATEGORIES:St Timothy's
END:VEVENT
BEGIN:VEVENT
DTSTART;VALUE=DATE:20260116
DTEND;VALUE=DATE:20260117
DTSTAMP:20260425T120124
CREATED:20251204T181304Z
LAST-MODIFIED:20260116T131538Z
UID:25893-1768521600-1768607999@sttimothynj.org
SUMMARY:OFFICE CLOSED
DESCRIPTION:
URL:https://sttimothynj.org/event/office-closed-17/
CATEGORIES:St Timothy's
END:VEVENT
BEGIN:VEVENT
DTSTART;TZID=America/New_York:20260115T103000
DTEND;TZID=America/New_York:20260115T113000
DTSTAMP:20260425T120124
CREATED:20251030T154231Z
LAST-MODIFIED:20260115T131659Z
UID:25657-1768473000-1768476600@sttimothynj.org
SUMMARY:Adult Book Group
DESCRIPTION:
URL:https://sttimothynj.org/event/adult-book-group-11/
CATEGORIES:St Timothy's
END:VEVENT
BEGIN:VEVENT
DTSTART;TZID=America/New_York:20260114T103000
DTEND;TZID=America/New_York:20260114T120000
DTSTAMP:20260425T120124
CREATED:20251204T181304Z
LAST-MODIFIED:20260114T130738Z
UID:25891-1768386600-1768392000@sttimothynj.org
SUMMARY:Knitters & Crocheters
DESCRIPTION:
URL:https://sttimothynj.org/event/knitters-crocheters-2/
CATEGORIES:St Timothy's
END:VEVENT
BEGIN:VEVENT
DTSTART;TZID=America/New_York:20260114T093000
DTEND;TZID=America/New_York:20260114T110000
DTSTAMP:20260425T120124
CREATED:20251204T181304Z
LAST-MODIFIED:20260114T130738Z
UID:25892-1768383000-1768388400@sttimothynj.org
SUMMARY:Angels Circle
DESCRIPTION:
URL:https://sttimothynj.org/event/angels-circle-12/
CATEGORIES:St Timothy's
END:VEVENT
BEGIN:VEVENT
DTSTART;TZID=America/New_York:20260111T130000
DTEND;TZID=America/New_York:20260111T143000
DTSTAMP:20260425T120124
CREATED:20251030T154231Z
LAST-MODIFIED:20260111T130131Z
UID:25656-1768136400-1768141800@sttimothynj.org
SUMMARY:AA Keep It Real group
DESCRIPTION:
URL:https://sttimothynj.org/event/aa-keep-it-real-group-11/
CATEGORIES:St Timothy's
END:VEVENT
BEGIN:VEVENT
DTSTART;TZID=America/New_York:20260110T103000
DTEND;TZID=America/New_York:20260110T113000
DTSTAMP:20260425T120124
CREATED:20251030T154231Z
LAST-MODIFIED:20260110T130053Z
UID:25655-1768041000-1768044600@sttimothynj.org
SUMMARY:Bookworks Book Club
DESCRIPTION:
URL:https://sttimothynj.org/event/bookworks-book-club-3/
CATEGORIES:St Timothy's
END:VEVENT
BEGIN:VEVENT
DTSTART;TZID=America/New_York:20260109T190000
DTEND;TZID=America/New_York:20260109T210000
DTSTAMP:20260425T120124
CREATED:20251030T154231Z
LAST-MODIFIED:20260109T125658Z
UID:25653-1767985200-1767992400@sttimothynj.org
SUMMARY:Line Dancing
DESCRIPTION:
URL:https://sttimothynj.org/event/line-dancing-3/
CATEGORIES:St Timothy's
END:VEVENT
BEGIN:VEVENT
DTSTART;TZID=America/New_York:20260109T180000
DTEND;TZID=America/New_York:20260109T193000
DTSTAMP:20260425T120124
CREATED:20251030T154231Z
LAST-MODIFIED:20260109T125658Z
UID:25654-1767981600-1767987000@sttimothynj.org
SUMMARY:AA Wayne Valley group
DESCRIPTION:
URL:https://sttimothynj.org/event/aa-wayne-valley-group-10/
CATEGORIES:St Timothy's
END:VEVENT
BEGIN:VEVENT
DTSTART;TZID=America/New_York:20260109T180000
DTEND;TZID=America/New_York:20260109T193000
DTSTAMP:20260425T120124
CREATED:20251021T151329Z
LAST-MODIFIED:20251028T154249Z
UID:25090-1767981600-1767987000@sttimothynj.org
SUMMARY:AA
DESCRIPTION:
URL:https://sttimothynj.org/event/aa-81/
CATEGORIES:St Timothy's
END:VEVENT
BEGIN:VEVENT
DTSTART;VALUE=DATE:20260109
DTEND;VALUE=DATE:20260110
DTSTAMP:20260425T120124
CREATED:20251204T181304Z
LAST-MODIFIED:20260109T125658Z
UID:25890-1767916800-1768003199@sttimothynj.org
SUMMARY:OFFICE CLOSED
DESCRIPTION:
URL:https://sttimothynj.org/event/office-closed-16/
CATEGORIES:St Timothy's
END:VEVENT
BEGIN:VEVENT
DTSTART;TZID=America/New_York:20260104T130000
DTEND;TZID=America/New_York:20260104T143000
DTSTAMP:20260425T120124
CREATED:20251030T154231Z
LAST-MODIFIED:20260104T123059Z
UID:25652-1767531600-1767537000@sttimothynj.org
SUMMARY:AA Keep It Real group
DESCRIPTION:
URL:https://sttimothynj.org/event/aa-keep-it-real-group-10/
CATEGORIES:St Timothy's
END:VEVENT
BEGIN:VEVENT
DTSTART;TZID=America/New_York:20260102T180000
DTEND;TZID=America/New_York:20260102T193000
DTSTAMP:20260425T120124
CREATED:20251030T154231Z
LAST-MODIFIED:20260102T123209Z
UID:25651-1767376800-1767382200@sttimothynj.org
SUMMARY:AA Wayne Valley group
DESCRIPTION:
URL:https://sttimothynj.org/event/aa-wayne-valley-group-9/
CATEGORIES:St Timothy's
END:VEVENT
BEGIN:VEVENT
DTSTART;TZID=America/New_York:20260102T180000
DTEND;TZID=America/New_York:20260102T193000
DTSTAMP:20260425T120124
CREATED:20251021T151329Z
LAST-MODIFIED:20251028T154249Z
UID:25088-1767376800-1767382200@sttimothynj.org
SUMMARY:AA
DESCRIPTION:
URL:https://sttimothynj.org/event/aa-80/
CATEGORIES:St Timothy's
END:VEVENT
BEGIN:VEVENT
DTSTART;VALUE=DATE:20260102
DTEND;VALUE=DATE:20260103
DTSTAMP:20260425T120124
CREATED:20251204T181304Z
LAST-MODIFIED:20260102T123209Z
UID:25888-1767312000-1767398399@sttimothynj.org
SUMMARY:OFFICE CLOSED
DESCRIPTION:
URL:https://sttimothynj.org/event/office-closed-14/
CATEGORIES:St Timothy's
END:VEVENT
BEGIN:VEVENT
DTSTART;VALUE=DATE:20260101
DTEND;VALUE=DATE:20260102
DTSTAMP:20260425T120124
CREATED:20251204T181304Z
LAST-MODIFIED:20260101T123315Z
UID:25889-1767225600-1767311999@sttimothynj.org
SUMMARY:OFFICE CLOSED
DESCRIPTION:
URL:https://sttimothynj.org/event/office-closed-15/
CATEGORIES:St Timothy's
END:VEVENT
BEGIN:VEVENT
DTSTART;VALUE=DATE:20251231
DTEND;VALUE=DATE:20260101
DTSTAMP:20260425T120124
CREATED:20251204T181304Z
LAST-MODIFIED:20251231T121716Z
UID:25887-1767139200-1767225599@sttimothynj.org
SUMMARY:OFFICE CLOSED
DESCRIPTION:
URL:https://sttimothynj.org/event/office-closed-13/
CATEGORIES:St Timothy's
END:VEVENT
BEGIN:VEVENT
DTSTART;TZID=America/New_York:20251230T130000
DTEND;TZID=America/New_York:20251230T140000
DTSTAMP:20260425T120124
CREATED:20251204T181304Z
LAST-MODIFIED:20251230T121727Z
UID:25886-1767099600-1767103200@sttimothynj.org
SUMMARY:Meditation with Movement
DESCRIPTION:
URL:https://sttimothynj.org/event/meditation-with-movement-9/
CATEGORIES:St Timothy's
END:VEVENT
BEGIN:VEVENT
DTSTART;VALUE=DATE:20251230
DTEND;VALUE=DATE:20251231
DTSTAMP:20260425T120124
CREATED:20251204T181304Z
LAST-MODIFIED:20251230T121727Z
UID:25885-1767052800-1767139199@sttimothynj.org
SUMMARY:OFFICE CLOSED
DESCRIPTION:
URL:https://sttimothynj.org/event/office-closed-12/
CATEGORIES:St Timothy's
END:VEVENT
BEGIN:VEVENT
DTSTART;VALUE=DATE:20251229
DTEND;VALUE=DATE:20251230
DTSTAMP:20260425T120124
CREATED:20251204T181304Z
LAST-MODIFIED:20251229T121053Z
UID:25884-1766966400-1767052799@sttimothynj.org
SUMMARY:OFFICE CLOSED
DESCRIPTION:
URL:https://sttimothynj.org/event/office-closed-11/
CATEGORIES:St Timothy's
END:VEVENT
BEGIN:VEVENT
DTSTART;TZID=America/New_York:20251228T130000
DTEND;TZID=America/New_York:20251228T143000
DTSTAMP:20260425T120124
CREATED:20251030T154231Z
LAST-MODIFIED:20251228T115138Z
UID:25650-1766926800-1766932200@sttimothynj.org
SUMMARY:AA Keep It Real group
DESCRIPTION:
URL:https://sttimothynj.org/event/aa-keep-it-real-group-9/
CATEGORIES:St Timothy's
END:VEVENT
BEGIN:VEVENT
DTSTART;TZID=America/New_York:20251228T093000
DTEND;TZID=America/New_York:20251228T103000
DTSTAMP:20260425T120124
CREATED:20251204T181304Z
LAST-MODIFIED:20251228T115138Z
UID:25883-1766914200-1766917800@sttimothynj.org
SUMMARY:Worship
DESCRIPTION:
URL:https://sttimothynj.org/event/worship-39/
CATEGORIES:St Timothy's
END:VEVENT
BEGIN:VEVENT
DTSTART;TZID=America/New_York:20251226T180000
DTEND;TZID=America/New_York:20251226T193000
DTSTAMP:20260425T120124
CREATED:20251030T154231Z
LAST-MODIFIED:20251226T115019Z
UID:25649-1766772000-1766777400@sttimothynj.org
SUMMARY:AA Wayne Valley group
DESCRIPTION:
URL:https://sttimothynj.org/event/aa-wayne-valley-group-8/
CATEGORIES:St Timothy's
END:VEVENT
END:VCALENDAR