BEGIN:VCALENDAR
VERSION:2.0
PRODID:-//St Timothy Lutheran Church - ECPv6.15.20//NONSGML v1.0//EN
CALSCALE:GREGORIAN
METHOD:PUBLISH
X-ORIGINAL-URL:https://sttimothynj.org
X-WR-CALDESC:Events for St Timothy Lutheran Church
REFRESH-INTERVAL;VALUE=DURATION:PT1H
X-Robots-Tag:noindex
X-PUBLISHED-TTL:PT1H
BEGIN:VTIMEZONE
TZID:America/New_York
BEGIN:DAYLIGHT
TZOFFSETFROM:-0500
TZOFFSETTO:-0400
TZNAME:EDT
DTSTART:20250309T070000
END:DAYLIGHT
BEGIN:STANDARD
TZOFFSETFROM:-0400
TZOFFSETTO:-0500
TZNAME:EST
DTSTART:20251102T060000
END:STANDARD
BEGIN:DAYLIGHT
TZOFFSETFROM:-0500
TZOFFSETTO:-0400
TZNAME:EDT
DTSTART:20260308T070000
END:DAYLIGHT
BEGIN:STANDARD
TZOFFSETFROM:-0400
TZOFFSETTO:-0500
TZNAME:EST
DTSTART:20261101T060000
END:STANDARD
BEGIN:DAYLIGHT
TZOFFSETFROM:-0500
TZOFFSETTO:-0400
TZNAME:EDT
DTSTART:20270314T070000
END:DAYLIGHT
BEGIN:STANDARD
TZOFFSETFROM:-0400
TZOFFSETTO:-0500
TZNAME:EST
DTSTART:20271107T060000
END:STANDARD
END:VTIMEZONE
BEGIN:VEVENT
DTSTART;VALUE=DATE:20260911
DTEND;VALUE=DATE:20260912
DTSTAMP:20260423T192624
CREATED:20251204T181305Z
LAST-MODIFIED:20260423T213927Z
UID:25935-1789084800-1789171199@sttimothynj.org
SUMMARY:OFFICE CLOSED
DESCRIPTION:
URL:https://sttimothynj.org/event/office-closed-51/
CATEGORIES:St Timothy's
END:VEVENT
BEGIN:VEVENT
DTSTART;TZID=America/New_York:20260911T180000
DTEND;TZID=America/New_York:20260911T193000
DTSTAMP:20260423T192624
CREATED:20251021T151331Z
LAST-MODIFIED:20251028T154250Z
UID:25160-1789149600-1789155000@sttimothynj.org
SUMMARY:AA
DESCRIPTION:
URL:https://sttimothynj.org/event/aa-116/
CATEGORIES:St Timothy's
END:VEVENT
BEGIN:VEVENT
DTSTART;TZID=America/New_York:20260912T103000
DTEND;TZID=America/New_York:20260912T113000
DTSTAMP:20260423T192624
CREATED:20251030T154232Z
LAST-MODIFIED:20260423T213927Z
UID:25686-1789209000-1789212600@sttimothynj.org
SUMMARY:Bookworks Book Club
DESCRIPTION:
URL:https://sttimothynj.org/event/bookworks-book-club-11/
CATEGORIES:St Timothy's
END:VEVENT
BEGIN:VEVENT
DTSTART;VALUE=DATE:20260914
DTEND;VALUE=DATE:20260915
DTSTAMP:20260423T192624
CREATED:20260227T182344Z
LAST-MODIFIED:20260423T213927Z
UID:26581-1789344000-1789430399@sttimothynj.org
SUMMARY:DEADLINE: TIPS newsletter contributions
DESCRIPTION:
URL:https://sttimothynj.org/event/deadline-tips-newsletter-contributions-7/
CATEGORIES:St Timothy's
END:VEVENT
BEGIN:VEVENT
DTSTART;TZID=America/New_York:20260917T103000
DTEND;TZID=America/New_York:20260917T113000
DTSTAMP:20260423T192624
CREATED:20251030T154232Z
LAST-MODIFIED:20260423T213927Z
UID:25687-1789641000-1789644600@sttimothynj.org
SUMMARY:Adult Book Group
DESCRIPTION:
URL:https://sttimothynj.org/event/adult-book-group-19/
CATEGORIES:St Timothy's
END:VEVENT
BEGIN:VEVENT
DTSTART;VALUE=DATE:20260918
DTEND;VALUE=DATE:20260919
DTSTAMP:20260423T192624
CREATED:20251204T181305Z
LAST-MODIFIED:20260423T213927Z
UID:25936-1789689600-1789775999@sttimothynj.org
SUMMARY:OFFICE CLOSED
DESCRIPTION:
URL:https://sttimothynj.org/event/office-closed-52/
CATEGORIES:St Timothy's
END:VEVENT
BEGIN:VEVENT
DTSTART;TZID=America/New_York:20260918T180000
DTEND;TZID=America/New_York:20260918T193000
DTSTAMP:20260423T192624
CREATED:20251021T151331Z
LAST-MODIFIED:20251028T154250Z
UID:25162-1789754400-1789759800@sttimothynj.org
SUMMARY:AA
DESCRIPTION:
URL:https://sttimothynj.org/event/aa-117/
CATEGORIES:St Timothy's
END:VEVENT
BEGIN:VEVENT
DTSTART;VALUE=DATE:20260925
DTEND;VALUE=DATE:20260926
DTSTAMP:20260423T192624
CREATED:20251204T181305Z
LAST-MODIFIED:20260423T213927Z
UID:25937-1790294400-1790380799@sttimothynj.org
SUMMARY:OFFICE CLOSED
DESCRIPTION:
URL:https://sttimothynj.org/event/office-closed-53/
CATEGORIES:St Timothy's
END:VEVENT
BEGIN:VEVENT
DTSTART;TZID=America/New_York:20260925T180000
DTEND;TZID=America/New_York:20260925T193000
DTSTAMP:20260423T192624
CREATED:20251021T151331Z
LAST-MODIFIED:20251028T154250Z
UID:25164-1790359200-1790364600@sttimothynj.org
SUMMARY:AA
DESCRIPTION:
URL:https://sttimothynj.org/event/aa-118/
CATEGORIES:St Timothy's
END:VEVENT
BEGIN:VEVENT
DTSTART;VALUE=DATE:20261002
DTEND;VALUE=DATE:20261003
DTSTAMP:20260423T192624
CREATED:20251204T181305Z
LAST-MODIFIED:20260423T213927Z
UID:25938-1790899200-1790985599@sttimothynj.org
SUMMARY:OFFICE CLOSED
DESCRIPTION:
URL:https://sttimothynj.org/event/office-closed-54/
CATEGORIES:St Timothy's
END:VEVENT
BEGIN:VEVENT
DTSTART;TZID=America/New_York:20261002T180000
DTEND;TZID=America/New_York:20261002T193000
DTSTAMP:20260423T192624
CREATED:20251021T151331Z
LAST-MODIFIED:20251028T154250Z
UID:25166-1790964000-1790969400@sttimothynj.org
SUMMARY:AA
DESCRIPTION:
URL:https://sttimothynj.org/event/aa-119/
CATEGORIES:St Timothy's
END:VEVENT
BEGIN:VEVENT
DTSTART;VALUE=DATE:20261009
DTEND;VALUE=DATE:20261010
DTSTAMP:20260423T192624
CREATED:20251204T181305Z
LAST-MODIFIED:20260423T213927Z
UID:25939-1791504000-1791590399@sttimothynj.org
SUMMARY:OFFICE CLOSED
DESCRIPTION:
URL:https://sttimothynj.org/event/office-closed-55/
CATEGORIES:St Timothy's
END:VEVENT
BEGIN:VEVENT
DTSTART;TZID=America/New_York:20261009T180000
DTEND;TZID=America/New_York:20261009T193000
DTSTAMP:20260423T192624
CREATED:20251021T151331Z
LAST-MODIFIED:20251028T154250Z
UID:25168-1791568800-1791574200@sttimothynj.org
SUMMARY:AA
DESCRIPTION:
URL:https://sttimothynj.org/event/aa-120/
CATEGORIES:St Timothy's
END:VEVENT
BEGIN:VEVENT
DTSTART;TZID=America/New_York:20261010T103000
DTEND;TZID=America/New_York:20261010T113000
DTSTAMP:20260423T192624
CREATED:20251030T154232Z
LAST-MODIFIED:20260423T213927Z
UID:25688-1791628200-1791631800@sttimothynj.org
SUMMARY:Bookworks Book Club
DESCRIPTION:
URL:https://sttimothynj.org/event/bookworks-book-club-12/
CATEGORIES:St Timothy's
END:VEVENT
BEGIN:VEVENT
DTSTART;VALUE=DATE:20261012
DTEND;VALUE=DATE:20261013
DTSTAMP:20260423T192624
CREATED:20260227T182344Z
LAST-MODIFIED:20260423T213927Z
UID:26582-1791763200-1791849599@sttimothynj.org
SUMMARY:DEADLINE: TIPS newsletter contributions
DESCRIPTION:
URL:https://sttimothynj.org/event/deadline-tips-newsletter-contributions-8/
CATEGORIES:St Timothy's
END:VEVENT
BEGIN:VEVENT
DTSTART;TZID=America/New_York:20261015T103000
DTEND;TZID=America/New_York:20261015T113000
DTSTAMP:20260423T192624
CREATED:20251030T154232Z
LAST-MODIFIED:20260423T213927Z
UID:25689-1792060200-1792063800@sttimothynj.org
SUMMARY:Adult Book Group
DESCRIPTION:
URL:https://sttimothynj.org/event/adult-book-group-20/
CATEGORIES:St Timothy's
END:VEVENT
BEGIN:VEVENT
DTSTART;VALUE=DATE:20261016
DTEND;VALUE=DATE:20261017
DTSTAMP:20260423T192624
CREATED:20251204T181305Z
LAST-MODIFIED:20260423T213927Z
UID:25940-1792108800-1792195199@sttimothynj.org
SUMMARY:OFFICE CLOSED
DESCRIPTION:
URL:https://sttimothynj.org/event/office-closed-56/
CATEGORIES:St Timothy's
END:VEVENT
BEGIN:VEVENT
DTSTART;TZID=America/New_York:20261016T180000
DTEND;TZID=America/New_York:20261016T193000
DTSTAMP:20260423T192624
CREATED:20251021T151331Z
LAST-MODIFIED:20251028T154250Z
UID:25170-1792173600-1792179000@sttimothynj.org
SUMMARY:AA
DESCRIPTION:
URL:https://sttimothynj.org/event/aa-121/
CATEGORIES:St Timothy's
END:VEVENT
BEGIN:VEVENT
DTSTART;VALUE=DATE:20261023
DTEND;VALUE=DATE:20261024
DTSTAMP:20260423T192624
CREATED:20251204T181306Z
LAST-MODIFIED:20260423T213927Z
UID:25941-1792713600-1792799999@sttimothynj.org
SUMMARY:OFFICE CLOSED
DESCRIPTION:
URL:https://sttimothynj.org/event/office-closed-57/
CATEGORIES:St Timothy's
END:VEVENT
BEGIN:VEVENT
DTSTART;TZID=America/New_York:20261023T180000
DTEND;TZID=America/New_York:20261023T193000
DTSTAMP:20260423T192624
CREATED:20251021T151331Z
LAST-MODIFIED:20251028T154250Z
UID:25172-1792778400-1792783800@sttimothynj.org
SUMMARY:AA
DESCRIPTION:
URL:https://sttimothynj.org/event/aa-122/
CATEGORIES:St Timothy's
END:VEVENT
BEGIN:VEVENT
DTSTART;VALUE=DATE:20261030
DTEND;VALUE=DATE:20261031
DTSTAMP:20260423T192624
CREATED:20251204T181306Z
LAST-MODIFIED:20260423T213927Z
UID:25942-1793318400-1793404799@sttimothynj.org
SUMMARY:OFFICE CLOSED
DESCRIPTION:
URL:https://sttimothynj.org/event/office-closed-58/
CATEGORIES:St Timothy's
END:VEVENT
BEGIN:VEVENT
DTSTART;TZID=America/New_York:20261030T180000
DTEND;TZID=America/New_York:20261030T193000
DTSTAMP:20260423T192624
CREATED:20251021T151331Z
LAST-MODIFIED:20251028T154250Z
UID:25174-1793383200-1793388600@sttimothynj.org
SUMMARY:AA
DESCRIPTION:
URL:https://sttimothynj.org/event/aa-123/
CATEGORIES:St Timothy's
END:VEVENT
BEGIN:VEVENT
DTSTART;VALUE=DATE:20261106
DTEND;VALUE=DATE:20261107
DTSTAMP:20260423T192624
CREATED:20251204T181306Z
LAST-MODIFIED:20260423T213927Z
UID:25943-1793923200-1794009599@sttimothynj.org
SUMMARY:OFFICE CLOSED
DESCRIPTION:
URL:https://sttimothynj.org/event/office-closed-59/
CATEGORIES:St Timothy's
END:VEVENT
BEGIN:VEVENT
DTSTART;TZID=America/New_York:20261106T180000
DTEND;TZID=America/New_York:20261106T193000
DTSTAMP:20260423T192624
CREATED:20251021T151331Z
LAST-MODIFIED:20251028T154250Z
UID:25176-1793988000-1793993400@sttimothynj.org
SUMMARY:AA
DESCRIPTION:
URL:https://sttimothynj.org/event/aa-124/
CATEGORIES:St Timothy's
END:VEVENT
BEGIN:VEVENT
DTSTART;VALUE=DATE:20261109
DTEND;VALUE=DATE:20261110
DTSTAMP:20260423T192624
CREATED:20260227T182344Z
LAST-MODIFIED:20260423T213927Z
UID:26583-1794182400-1794268799@sttimothynj.org
SUMMARY:DEADLINE: TIPS newsletter contributions
DESCRIPTION:
URL:https://sttimothynj.org/event/deadline-tips-newsletter-contributions-9/
CATEGORIES:St Timothy's
END:VEVENT
BEGIN:VEVENT
DTSTART;VALUE=DATE:20261113
DTEND;VALUE=DATE:20261114
DTSTAMP:20260423T192624
CREATED:20251204T181306Z
LAST-MODIFIED:20260423T213927Z
UID:25944-1794528000-1794614399@sttimothynj.org
SUMMARY:OFFICE CLOSED
DESCRIPTION:
URL:https://sttimothynj.org/event/office-closed-60/
CATEGORIES:St Timothy's
END:VEVENT
BEGIN:VEVENT
DTSTART;TZID=America/New_York:20261113T180000
DTEND;TZID=America/New_York:20261113T193000
DTSTAMP:20260423T192624
CREATED:20251021T151331Z
LAST-MODIFIED:20251028T154250Z
UID:25178-1794592800-1794598200@sttimothynj.org
SUMMARY:AA
DESCRIPTION:
URL:https://sttimothynj.org/event/aa-125/
CATEGORIES:St Timothy's
END:VEVENT
BEGIN:VEVENT
DTSTART;TZID=America/New_York:20261114T103000
DTEND;TZID=America/New_York:20261114T113000
DTSTAMP:20260423T192624
CREATED:20251030T154232Z
LAST-MODIFIED:20260423T213927Z
UID:25690-1794652200-1794655800@sttimothynj.org
SUMMARY:Bookworks Book Club
DESCRIPTION:
URL:https://sttimothynj.org/event/bookworks-book-club-13/
CATEGORIES:St Timothy's
END:VEVENT
BEGIN:VEVENT
DTSTART;TZID=America/New_York:20261119T103000
DTEND;TZID=America/New_York:20261119T113000
DTSTAMP:20260423T192624
CREATED:20251030T154232Z
LAST-MODIFIED:20260423T213927Z
UID:25691-1795084200-1795087800@sttimothynj.org
SUMMARY:Adult Book Group
DESCRIPTION:
URL:https://sttimothynj.org/event/adult-book-group-21/
CATEGORIES:St Timothy's
END:VEVENT
BEGIN:VEVENT
DTSTART;VALUE=DATE:20261120
DTEND;VALUE=DATE:20261121
DTSTAMP:20260423T192624
CREATED:20251204T181306Z
LAST-MODIFIED:20260423T213927Z
UID:25945-1795132800-1795219199@sttimothynj.org
SUMMARY:OFFICE CLOSED
DESCRIPTION:
URL:https://sttimothynj.org/event/office-closed-61/
CATEGORIES:St Timothy's
END:VEVENT
END:VCALENDAR