BEGIN:VCALENDAR
VERSION:2.0
PRODID:-//St Timothy Lutheran Church - ECPv6.15.20//NONSGML v1.0//EN
CALSCALE:GREGORIAN
METHOD:PUBLISH
X-ORIGINAL-URL:https://sttimothynj.org
X-WR-CALDESC:Events for St Timothy Lutheran Church
REFRESH-INTERVAL;VALUE=DURATION:PT1H
X-Robots-Tag:noindex
X-PUBLISHED-TTL:PT1H
BEGIN:VTIMEZONE
TZID:America/New_York
BEGIN:DAYLIGHT
TZOFFSETFROM:-0500
TZOFFSETTO:-0400
TZNAME:EDT
DTSTART:20260308T070000
END:DAYLIGHT
BEGIN:STANDARD
TZOFFSETFROM:-0400
TZOFFSETTO:-0500
TZNAME:EST
DTSTART:20261101T060000
END:STANDARD
BEGIN:DAYLIGHT
TZOFFSETFROM:-0500
TZOFFSETTO:-0400
TZNAME:EDT
DTSTART:20270314T070000
END:DAYLIGHT
BEGIN:STANDARD
TZOFFSETFROM:-0400
TZOFFSETTO:-0500
TZNAME:EST
DTSTART:20271107T060000
END:STANDARD
BEGIN:DAYLIGHT
TZOFFSETFROM:-0500
TZOFFSETTO:-0400
TZNAME:EDT
DTSTART:20280312T070000
END:DAYLIGHT
BEGIN:STANDARD
TZOFFSETFROM:-0400
TZOFFSETTO:-0500
TZNAME:EST
DTSTART:20281105T060000
END:STANDARD
BEGIN:DAYLIGHT
TZOFFSETFROM:-0500
TZOFFSETTO:-0400
TZNAME:EDT
DTSTART:20290311T070000
END:DAYLIGHT
BEGIN:STANDARD
TZOFFSETFROM:-0400
TZOFFSETTO:-0500
TZNAME:EST
DTSTART:20291104T060000
END:STANDARD
END:VTIMEZONE
BEGIN:VEVENT
DTSTART;VALUE=DATE:20271112
DTEND;VALUE=DATE:20271113
DTSTAMP:20260425T120317
CREATED:20251204T181307Z
LAST-MODIFIED:20260424T213631Z
UID:25996-1825977600-1826063999@sttimothynj.org
SUMMARY:OFFICE CLOSED
DESCRIPTION:
URL:https://sttimothynj.org/event/office-closed-112/
CATEGORIES:St Timothy's
END:VEVENT
BEGIN:VEVENT
DTSTART;VALUE=DATE:20271119
DTEND;VALUE=DATE:20271120
DTSTAMP:20260425T120317
CREATED:20251204T181307Z
LAST-MODIFIED:20260424T213631Z
UID:25997-1826582400-1826668799@sttimothynj.org
SUMMARY:OFFICE CLOSED
DESCRIPTION:
URL:https://sttimothynj.org/event/office-closed-113/
CATEGORIES:St Timothy's
END:VEVENT
BEGIN:VEVENT
DTSTART;VALUE=DATE:20271126
DTEND;VALUE=DATE:20271127
DTSTAMP:20260425T120317
CREATED:20251204T181307Z
LAST-MODIFIED:20260424T213631Z
UID:25998-1827187200-1827273599@sttimothynj.org
SUMMARY:OFFICE CLOSED
DESCRIPTION:
URL:https://sttimothynj.org/event/office-closed-114/
CATEGORIES:St Timothy's
END:VEVENT
BEGIN:VEVENT
DTSTART;VALUE=DATE:20271203
DTEND;VALUE=DATE:20271204
DTSTAMP:20260425T120317
CREATED:20251204T181307Z
LAST-MODIFIED:20260424T213631Z
UID:25999-1827792000-1827878399@sttimothynj.org
SUMMARY:OFFICE CLOSED
DESCRIPTION:
URL:https://sttimothynj.org/event/office-closed-115/
CATEGORIES:St Timothy's
END:VEVENT
BEGIN:VEVENT
DTSTART;VALUE=DATE:20271210
DTEND;VALUE=DATE:20271211
DTSTAMP:20260425T120317
CREATED:20251210T232408Z
LAST-MODIFIED:20260424T213631Z
UID:26167-1828396800-1828483199@sttimothynj.org
SUMMARY:OFFICE CLOSED
DESCRIPTION:
URL:https://sttimothynj.org/event/office-closed-116/
CATEGORIES:St Timothy's
END:VEVENT
BEGIN:VEVENT
DTSTART;VALUE=DATE:20271217
DTEND;VALUE=DATE:20271218
DTSTAMP:20260425T120317
CREATED:20251221T105303Z
LAST-MODIFIED:20260424T213631Z
UID:26176-1829001600-1829087999@sttimothynj.org
SUMMARY:OFFICE CLOSED
DESCRIPTION:
URL:https://sttimothynj.org/event/office-closed-117/
CATEGORIES:St Timothy's
END:VEVENT
BEGIN:VEVENT
DTSTART;VALUE=DATE:20271224
DTEND;VALUE=DATE:20271225
DTSTAMP:20260425T120317
CREATED:20251224T112203Z
LAST-MODIFIED:20260424T213631Z
UID:26181-1829606400-1829692799@sttimothynj.org
SUMMARY:OFFICE CLOSED
DESCRIPTION:
URL:https://sttimothynj.org/event/office-closed-118/
CATEGORIES:St Timothy's
END:VEVENT
BEGIN:VEVENT
DTSTART;VALUE=DATE:20271231
DTEND;VALUE=DATE:20280101
DTSTAMP:20260425T120317
CREATED:20251231T121718Z
LAST-MODIFIED:20260424T213631Z
UID:26190-1830211200-1830297599@sttimothynj.org
SUMMARY:OFFICE CLOSED
DESCRIPTION:
URL:https://sttimothynj.org/event/office-closed-119/
CATEGORIES:St Timothy's
END:VEVENT
BEGIN:VEVENT
DTSTART;VALUE=DATE:20280107
DTEND;VALUE=DATE:20280108
DTSTAMP:20260425T120317
CREATED:20260107T124538Z
LAST-MODIFIED:20260424T213631Z
UID:26199-1830816000-1830902399@sttimothynj.org
SUMMARY:OFFICE CLOSED
DESCRIPTION:
URL:https://sttimothynj.org/event/office-closed-120/
CATEGORIES:St Timothy's
END:VEVENT
BEGIN:VEVENT
DTSTART;VALUE=DATE:20280114
DTEND;VALUE=DATE:20280115
DTSTAMP:20260425T120317
CREATED:20260114T130740Z
LAST-MODIFIED:20260424T213631Z
UID:26216-1831420800-1831507199@sttimothynj.org
SUMMARY:OFFICE CLOSED
DESCRIPTION:
URL:https://sttimothynj.org/event/office-closed-121/
CATEGORIES:St Timothy's
END:VEVENT
BEGIN:VEVENT
DTSTART;VALUE=DATE:20280121
DTEND;VALUE=DATE:20280122
DTSTAMP:20260425T120317
CREATED:20260121T140446Z
LAST-MODIFIED:20260424T213631Z
UID:26225-1832025600-1832111999@sttimothynj.org
SUMMARY:OFFICE CLOSED
DESCRIPTION:
URL:https://sttimothynj.org/event/office-closed-122/
CATEGORIES:St Timothy's
END:VEVENT
BEGIN:VEVENT
DTSTART;VALUE=DATE:20280128
DTEND;VALUE=DATE:20280129
DTSTAMP:20260425T120317
CREATED:20260128T145147Z
LAST-MODIFIED:20260424T213631Z
UID:26234-1832630400-1832716799@sttimothynj.org
SUMMARY:OFFICE CLOSED
DESCRIPTION:
URL:https://sttimothynj.org/event/office-closed-123/
CATEGORIES:St Timothy's
END:VEVENT
BEGIN:VEVENT
DTSTART;VALUE=DATE:20280204
DTEND;VALUE=DATE:20280205
DTSTAMP:20260425T120317
CREATED:20260204T151952Z
LAST-MODIFIED:20260424T213631Z
UID:26243-1833235200-1833321599@sttimothynj.org
SUMMARY:OFFICE CLOSED
DESCRIPTION:
URL:https://sttimothynj.org/event/office-closed-124/
CATEGORIES:St Timothy's
END:VEVENT
BEGIN:VEVENT
DTSTART;VALUE=DATE:20280211
DTEND;VALUE=DATE:20280212
DTSTAMP:20260425T120317
CREATED:20260211T162041Z
LAST-MODIFIED:20260424T213631Z
UID:26389-1833840000-1833926399@sttimothynj.org
SUMMARY:OFFICE CLOSED
DESCRIPTION:
URL:https://sttimothynj.org/event/office-closed-125/
CATEGORIES:St Timothy's
END:VEVENT
BEGIN:VEVENT
DTSTART;VALUE=DATE:20280218
DTEND;VALUE=DATE:20280219
DTSTAMP:20260425T120317
CREATED:20260218T170517Z
LAST-MODIFIED:20260424T213631Z
UID:26398-1834444800-1834531199@sttimothynj.org
SUMMARY:OFFICE CLOSED
DESCRIPTION:
URL:https://sttimothynj.org/event/office-closed-126/
CATEGORIES:St Timothy's
END:VEVENT
BEGIN:VEVENT
DTSTART;VALUE=DATE:20280225
DTEND;VALUE=DATE:20280226
DTSTAMP:20260425T120317
CREATED:20260225T180514Z
LAST-MODIFIED:20260424T213631Z
UID:26407-1835049600-1835135999@sttimothynj.org
SUMMARY:OFFICE CLOSED
DESCRIPTION:
URL:https://sttimothynj.org/event/office-closed-127/
CATEGORIES:St Timothy's
END:VEVENT
BEGIN:VEVENT
DTSTART;VALUE=DATE:20280303
DTEND;VALUE=DATE:20280304
DTSTAMP:20260425T120317
CREATED:20260303T183504Z
LAST-MODIFIED:20260424T213631Z
UID:26640-1835654400-1835740799@sttimothynj.org
SUMMARY:OFFICE CLOSED
DESCRIPTION:
URL:https://sttimothynj.org/event/office-closed-129/
CATEGORIES:St Timothy's
END:VEVENT
BEGIN:VEVENT
DTSTART;VALUE=DATE:20280310
DTEND;VALUE=DATE:20280311
DTSTAMP:20260425T120317
CREATED:20260310T192155Z
LAST-MODIFIED:20260424T213631Z
UID:26658-1836259200-1836345599@sttimothynj.org
SUMMARY:OFFICE CLOSED
DESCRIPTION:
URL:https://sttimothynj.org/event/office-closed-130/
CATEGORIES:St Timothy's
END:VEVENT
BEGIN:VEVENT
DTSTART;VALUE=DATE:20280317
DTEND;VALUE=DATE:20280318
DTSTAMP:20260425T120317
CREATED:20260317T195009Z
LAST-MODIFIED:20260424T213631Z
UID:26667-1836864000-1836950399@sttimothynj.org
SUMMARY:OFFICE CLOSED
DESCRIPTION:
URL:https://sttimothynj.org/event/office-closed-131/
CATEGORIES:St Timothy's
END:VEVENT
BEGIN:VEVENT
DTSTART;VALUE=DATE:20280324
DTEND;VALUE=DATE:20280325
DTSTAMP:20260425T120317
CREATED:20260324T200502Z
LAST-MODIFIED:20260424T213631Z
UID:26676-1837468800-1837555199@sttimothynj.org
SUMMARY:OFFICE CLOSED
DESCRIPTION:
URL:https://sttimothynj.org/event/office-closed-132/
CATEGORIES:St Timothy's
END:VEVENT
BEGIN:VEVENT
DTSTART;VALUE=DATE:20280331
DTEND;VALUE=DATE:20280401
DTSTAMP:20260425T120317
CREATED:20260331T201954Z
LAST-MODIFIED:20260424T213631Z
UID:26689-1838073600-1838159999@sttimothynj.org
SUMMARY:OFFICE CLOSED
DESCRIPTION:
URL:https://sttimothynj.org/event/office-closed-133/
CATEGORIES:St Timothy's
END:VEVENT
BEGIN:VEVENT
DTSTART;VALUE=DATE:20280407
DTEND;VALUE=DATE:20280408
DTSTAMP:20260425T120317
CREATED:20260407T202051Z
LAST-MODIFIED:20260424T213631Z
UID:26709-1838678400-1838764799@sttimothynj.org
SUMMARY:OFFICE CLOSED
DESCRIPTION:
URL:https://sttimothynj.org/event/office-closed-134/
CATEGORIES:St Timothy's
END:VEVENT
BEGIN:VEVENT
DTSTART;VALUE=DATE:20280414
DTEND;VALUE=DATE:20280415
DTSTAMP:20260425T120317
CREATED:20260414T205107Z
LAST-MODIFIED:20260424T213631Z
UID:26718-1839283200-1839369599@sttimothynj.org
SUMMARY:OFFICE CLOSED
DESCRIPTION:
URL:https://sttimothynj.org/event/office-closed-135/
CATEGORIES:St Timothy's
END:VEVENT
BEGIN:VEVENT
DTSTART;VALUE=DATE:20280421
DTEND;VALUE=DATE:20280422
DTSTAMP:20260425T120317
CREATED:20260421T212712Z
LAST-MODIFIED:20260424T213631Z
UID:26727-1839888000-1839974399@sttimothynj.org
SUMMARY:OFFICE CLOSED
DESCRIPTION:
URL:https://sttimothynj.org/event/office-closed-136/
CATEGORIES:St Timothy's
END:VEVENT
END:VCALENDAR