BEGIN:VCALENDAR
VERSION:2.0
PRODID:-//St Timothy Lutheran Church - ECPv6.15.20//NONSGML v1.0//EN
CALSCALE:GREGORIAN
METHOD:PUBLISH
X-ORIGINAL-URL:https://sttimothynj.org
X-WR-CALDESC:Events for St Timothy Lutheran Church
REFRESH-INTERVAL;VALUE=DURATION:PT1H
X-Robots-Tag:noindex
X-PUBLISHED-TTL:PT1H
BEGIN:VTIMEZONE
TZID:America/New_York
BEGIN:DAYLIGHT
TZOFFSETFROM:-0500
TZOFFSETTO:-0400
TZNAME:EDT
DTSTART:20250309T070000
END:DAYLIGHT
BEGIN:STANDARD
TZOFFSETFROM:-0400
TZOFFSETTO:-0500
TZNAME:EST
DTSTART:20251102T060000
END:STANDARD
BEGIN:DAYLIGHT
TZOFFSETFROM:-0500
TZOFFSETTO:-0400
TZNAME:EDT
DTSTART:20260308T070000
END:DAYLIGHT
BEGIN:STANDARD
TZOFFSETFROM:-0400
TZOFFSETTO:-0500
TZNAME:EST
DTSTART:20261101T060000
END:STANDARD
BEGIN:DAYLIGHT
TZOFFSETFROM:-0500
TZOFFSETTO:-0400
TZNAME:EDT
DTSTART:20270314T070000
END:DAYLIGHT
BEGIN:STANDARD
TZOFFSETFROM:-0400
TZOFFSETTO:-0500
TZNAME:EST
DTSTART:20271107T060000
END:STANDARD
END:VTIMEZONE
BEGIN:VEVENT
DTSTART;TZID=America/New_York:20260503T090000
DTEND;TZID=America/New_York:20260503T093000
DTSTAMP:20260423T174358
CREATED:20260226T182156Z
LAST-MODIFIED:20260423T213925Z
UID:26457-1777798800-1777800600@sttimothynj.org
SUMMARY:Worship
DESCRIPTION:
URL:https://sttimothynj.org/event/worship-48/
CATEGORIES:St Timothy's
END:VEVENT
BEGIN:VEVENT
DTSTART;TZID=America/New_York:20260503T093500
DTEND;TZID=America/New_York:20260503T102000
DTSTAMP:20260423T174358
CREATED:20260227T182343Z
LAST-MODIFIED:20260423T213925Z
UID:26553-1777800900-1777803600@sttimothynj.org
SUMMARY:Christian Ed Programs
DESCRIPTION:Programs include: \nSunday School classes for grades Pre-K through 6\nConfirmation classes for grades 7-8\nAdult Discussion Forum\nAdult Christian Education classes
URL:https://sttimothynj.org/event/christian-ed-programs-29/
CATEGORIES:St Timothy's
END:VEVENT
BEGIN:VEVENT
DTSTART;TZID=America/New_York:20260503T103000
DTEND;TZID=America/New_York:20260503T113000
DTSTAMP:20260423T174358
CREATED:20260226T182156Z
LAST-MODIFIED:20260423T213925Z
UID:26458-1777804200-1777807800@sttimothynj.org
SUMMARY:Worship & livestream
DESCRIPTION:
URL:https://sttimothynj.org/event/worship-livestream-21/
CATEGORIES:St Timothy's
END:VEVENT
BEGIN:VEVENT
DTSTART;TZID=America/New_York:20260503T130000
DTEND;TZID=America/New_York:20260503T143000
DTSTAMP:20260423T174358
CREATED:20260206T154233Z
LAST-MODIFIED:20260423T213925Z
UID:26292-1777813200-1777818600@sttimothynj.org
SUMMARY:AA Keep It Real group
DESCRIPTION:
URL:https://sttimothynj.org/event/aa-keep-it-real-group-26/
CATEGORIES:St Timothy's
END:VEVENT
BEGIN:VEVENT
DTSTART;TZID=America/New_York:20260504T090000
DTEND;TZID=America/New_York:20260504T113000
DTSTAMP:20260423T174358
CREATED:20260226T182156Z
LAST-MODIFIED:20260423T213925Z
UID:26459-1777885200-1777894200@sttimothynj.org
SUMMARY:Heart n' Hands Mission
DESCRIPTION:Volunteers are available to help with donations.  Please pull around to the rear parking lot and enter through first set of doors (where the railings are!).  Go down the half-flight of stairs to the rooms on the right.\nThis is a collection site only.\nFor donation intake at other times\, call the office 973.694.8316 for arrangements.
URL:https://sttimothynj.org/event/heart-n-hands-mission-18/
CATEGORIES:St Timothy's
END:VEVENT
BEGIN:VEVENT
DTSTART;TZID=America/New_York:20260504T190000
DTEND;TZID=America/New_York:20260504T200000
DTSTAMP:20260423T174358
CREATED:20260206T154233Z
LAST-MODIFIED:20260423T213925Z
UID:26293-1777921200-1777924800@sttimothynj.org
SUMMARY:Boy Scout Troop 107
DESCRIPTION:
URL:https://sttimothynj.org/event/boy-scout-troop-107-16/
CATEGORIES:St Timothy's
END:VEVENT
BEGIN:VEVENT
DTSTART;TZID=America/New_York:20260505T130000
DTEND;TZID=America/New_York:20260505T140000
DTSTAMP:20260423T174358
CREATED:20260226T182156Z
LAST-MODIFIED:20260423T213925Z
UID:26460-1777986000-1777989600@sttimothynj.org
SUMMARY:Meditation with Movement
DESCRIPTION:
URL:https://sttimothynj.org/event/meditation-with-movement-19/
CATEGORIES:St Timothy's
END:VEVENT
BEGIN:VEVENT
DTSTART;TZID=America/New_York:20260505T140000
DTEND;TZID=America/New_York:20260505T150000
DTSTAMP:20260423T174358
CREATED:20260226T182156Z
LAST-MODIFIED:20260423T213925Z
UID:26461-1777989600-1777993200@sttimothynj.org
SUMMARY:Bible Study w/Communion
DESCRIPTION:
URL:https://sttimothynj.org/event/bible-study-w-communion-17/
CATEGORIES:St Timothy's
END:VEVENT
BEGIN:VEVENT
DTSTART;VALUE=DATE:20260508
DTEND;VALUE=DATE:20260509
DTSTAMP:20260423T174358
CREATED:20251204T181305Z
LAST-MODIFIED:20260423T213925Z
UID:25915-1778198400-1778284799@sttimothynj.org
SUMMARY:OFFICE CLOSED
DESCRIPTION:
URL:https://sttimothynj.org/event/office-closed-33/
CATEGORIES:St Timothy's
END:VEVENT
BEGIN:VEVENT
DTSTART;TZID=America/New_York:20260508T180000
DTEND;TZID=America/New_York:20260508T193000
DTSTAMP:20260423T174358
CREATED:20260206T154233Z
LAST-MODIFIED:20260423T213925Z
UID:26294-1778263200-1778268600@sttimothynj.org
SUMMARY:AA Wayne Valley group
DESCRIPTION:
URL:https://sttimothynj.org/event/aa-wayne-valley-group-27/
CATEGORIES:St Timothy's
END:VEVENT
BEGIN:VEVENT
DTSTART;TZID=America/New_York:20260508T190000
DTEND;TZID=America/New_York:20260508T210000
DTSTAMP:20260423T174358
CREATED:20251030T154232Z
LAST-MODIFIED:20260423T213925Z
UID:25676-1778266800-1778274000@sttimothynj.org
SUMMARY:Line Dancing
DESCRIPTION:
URL:https://sttimothynj.org/event/line-dancing-7/
CATEGORIES:St Timothy's
END:VEVENT
BEGIN:VEVENT
DTSTART;TZID=America/New_York:20260509T093500
DTEND;TZID=America/New_York:20260509T102000
DTSTAMP:20260423T174358
CREATED:20260227T182343Z
LAST-MODIFIED:20260423T213925Z
UID:26558-1778319300-1778322000@sttimothynj.org
SUMMARY:Christian Ed Programs
DESCRIPTION:Programs include: \nSunday School classes for grades Pre-K through 6\nConfirmation classes for grades 7-8\nAdult Discussion Forum\nAdult Christian Education classes
URL:https://sttimothynj.org/event/christian-ed-programs-30/
CATEGORIES:St Timothy's
END:VEVENT
BEGIN:VEVENT
DTSTART;TZID=America/New_York:20260509T103000
DTEND;TZID=America/New_York:20260509T113000
DTSTAMP:20260423T174358
CREATED:20251030T154232Z
LAST-MODIFIED:20260423T213925Z
UID:25677-1778322600-1778326200@sttimothynj.org
SUMMARY:Bookworks Book Club
DESCRIPTION:
URL:https://sttimothynj.org/event/bookworks-book-club-7/
CATEGORIES:St Timothy's
END:VEVENT
BEGIN:VEVENT
DTSTART;TZID=America/New_York:20260510T090000
DTEND;TZID=America/New_York:20260510T093000
DTSTAMP:20260423T174358
CREATED:20260226T182156Z
LAST-MODIFIED:20260423T213925Z
UID:26462-1778403600-1778405400@sttimothynj.org
SUMMARY:Worship
DESCRIPTION:
URL:https://sttimothynj.org/event/worship-49/
CATEGORIES:St Timothy's
END:VEVENT
BEGIN:VEVENT
DTSTART;TZID=America/New_York:20260510T093500
DTEND;TZID=America/New_York:20260510T102000
DTSTAMP:20260423T174358
CREATED:20260227T182343Z
LAST-MODIFIED:20260423T213925Z
UID:26560-1778405700-1778408400@sttimothynj.org
SUMMARY:Christian Ed Programs
DESCRIPTION:Programs include: \nSunday School classes for grades Pre-K through 6\nConfirmation classes for grades 7-8\nAdult Discussion Forum\nAdult Christian Education classes
URL:https://sttimothynj.org/event/christian-ed-programs-31/
CATEGORIES:St Timothy's
END:VEVENT
BEGIN:VEVENT
DTSTART;TZID=America/New_York:20260510T103000
DTEND;TZID=America/New_York:20260510T113000
DTSTAMP:20260423T174358
CREATED:20260226T182156Z
LAST-MODIFIED:20260423T213925Z
UID:26463-1778409000-1778412600@sttimothynj.org
SUMMARY:Worship & livestream
DESCRIPTION:
URL:https://sttimothynj.org/event/worship-livestream-22/
CATEGORIES:St Timothy's
END:VEVENT
BEGIN:VEVENT
DTSTART;TZID=America/New_York:20260510T130000
DTEND;TZID=America/New_York:20260510T143000
DTSTAMP:20260423T174358
CREATED:20260206T154233Z
LAST-MODIFIED:20260423T213925Z
UID:26295-1778418000-1778423400@sttimothynj.org
SUMMARY:AA Keep It Real group
DESCRIPTION:
URL:https://sttimothynj.org/event/aa-keep-it-real-group-27/
CATEGORIES:St Timothy's
END:VEVENT
BEGIN:VEVENT
DTSTART;VALUE=DATE:20260511
DTEND;VALUE=DATE:20260512
DTSTAMP:20260423T174358
CREATED:20260227T182343Z
LAST-MODIFIED:20260423T213925Z
UID:26563-1778457600-1778543999@sttimothynj.org
SUMMARY:DEADLINE: TIPS newsletter contributions
DESCRIPTION:
URL:https://sttimothynj.org/event/deadline-tips-newsletter-contributions-3/
CATEGORIES:St Timothy's
END:VEVENT
BEGIN:VEVENT
DTSTART;TZID=America/New_York:20260511T090000
DTEND;TZID=America/New_York:20260511T113000
DTSTAMP:20260423T174358
CREATED:20260226T182157Z
LAST-MODIFIED:20260423T213925Z
UID:26464-1778490000-1778499000@sttimothynj.org
SUMMARY:Heart n' Hands Mission
DESCRIPTION:Volunteers are available to help with donations.  Please pull around to the rear parking lot and enter through first set of doors (where the railings are!).  Go down the half-flight of stairs to the rooms on the right.\nThis is a collection site only.\nFor donation intake at other times\, call the office 973.694.8316 for arrangements.
URL:https://sttimothynj.org/event/heart-n-hands-mission-19/
CATEGORIES:St Timothy's
END:VEVENT
BEGIN:VEVENT
DTSTART;TZID=America/New_York:20260511T190000
DTEND;TZID=America/New_York:20260511T200000
DTSTAMP:20260423T174358
CREATED:20260206T154233Z
LAST-MODIFIED:20260423T213925Z
UID:26296-1778526000-1778529600@sttimothynj.org
SUMMARY:Boy Scout Troop 107
DESCRIPTION:
URL:https://sttimothynj.org/event/boy-scout-troop-107-17/
CATEGORIES:St Timothy's
END:VEVENT
BEGIN:VEVENT
DTSTART;TZID=America/New_York:20260512T130000
DTEND;TZID=America/New_York:20260512T140000
DTSTAMP:20260423T174358
CREATED:20260226T182157Z
LAST-MODIFIED:20260423T213925Z
UID:26465-1778590800-1778594400@sttimothynj.org
SUMMARY:Meditation with Movement
DESCRIPTION:
URL:https://sttimothynj.org/event/meditation-with-movement-20/
CATEGORIES:St Timothy's
END:VEVENT
BEGIN:VEVENT
DTSTART;TZID=America/New_York:20260512T140000
DTEND;TZID=America/New_York:20260512T150000
DTSTAMP:20260423T174358
CREATED:20260226T182157Z
LAST-MODIFIED:20260423T213925Z
UID:26466-1778594400-1778598000@sttimothynj.org
SUMMARY:Bible Study w/Communion
DESCRIPTION:
URL:https://sttimothynj.org/event/bible-study-w-communion-18/
CATEGORIES:St Timothy's
END:VEVENT
BEGIN:VEVENT
DTSTART;TZID=America/New_York:20260513T093000
DTEND;TZID=America/New_York:20260513T110000
DTSTAMP:20260423T174358
CREATED:20251204T181305Z
LAST-MODIFIED:20260423T213926Z
UID:25916-1778664600-1778670000@sttimothynj.org
SUMMARY:Angels Circle
DESCRIPTION:
URL:https://sttimothynj.org/event/angels-circle-16/
CATEGORIES:St Timothy's
END:VEVENT
BEGIN:VEVENT
DTSTART;TZID=America/New_York:20260513T103000
DTEND;TZID=America/New_York:20260513T120000
DTSTAMP:20260423T174358
CREATED:20251204T181305Z
LAST-MODIFIED:20260423T213925Z
UID:25917-1778668200-1778673600@sttimothynj.org
SUMMARY:Knitters & Crocheters
DESCRIPTION:
URL:https://sttimothynj.org/event/knitters-crocheters-6/
CATEGORIES:St Timothy's
END:VEVENT
BEGIN:VEVENT
DTSTART;TZID=America/New_York:20260514T190000
DTEND;TZID=America/New_York:20260514T200000
DTSTAMP:20260423T174358
CREATED:20260422T213714Z
LAST-MODIFIED:20260423T213926Z
UID:26730-1778785200-1778788800@sttimothynj.org
SUMMARY:Ascension Day Special Service
DESCRIPTION:
URL:https://sttimothynj.org/event/ascension-day-special-service/
CATEGORIES:St Timothy's
END:VEVENT
BEGIN:VEVENT
DTSTART;VALUE=DATE:20260515
DTEND;VALUE=DATE:20260516
DTSTAMP:20260423T174358
CREATED:20251204T181305Z
LAST-MODIFIED:20260423T213926Z
UID:25918-1778803200-1778889599@sttimothynj.org
SUMMARY:OFFICE CLOSED
DESCRIPTION:
URL:https://sttimothynj.org/event/office-closed-34/
CATEGORIES:St Timothy's
END:VEVENT
BEGIN:VEVENT
DTSTART;TZID=America/New_York:20260515T180000
DTEND;TZID=America/New_York:20260515T193000
DTSTAMP:20260423T174358
CREATED:20260206T154233Z
LAST-MODIFIED:20260423T213926Z
UID:26297-1778868000-1778873400@sttimothynj.org
SUMMARY:AA Wayne Valley group
DESCRIPTION:
URL:https://sttimothynj.org/event/aa-wayne-valley-group-28/
CATEGORIES:St Timothy's
END:VEVENT
BEGIN:VEVENT
DTSTART;TZID=America/New_York:20260516T093500
DTEND;TZID=America/New_York:20260516T102000
DTSTAMP:20260423T174358
CREATED:20260227T182343Z
LAST-MODIFIED:20260423T213926Z
UID:26566-1778924100-1778926800@sttimothynj.org
SUMMARY:Christian Ed Programs
DESCRIPTION:Programs include: \nSunday School classes for grades Pre-K through 6\nConfirmation classes for grades 7-8\nAdult Discussion Forum\nAdult Christian Education classes
URL:https://sttimothynj.org/event/christian-ed-programs-32/
CATEGORIES:St Timothy's
END:VEVENT
BEGIN:VEVENT
DTSTART;TZID=America/New_York:20260517T090000
DTEND;TZID=America/New_York:20260517T093000
DTSTAMP:20260423T174358
CREATED:20260226T182157Z
LAST-MODIFIED:20260423T213926Z
UID:26467-1779008400-1779010200@sttimothynj.org
SUMMARY:Worship
DESCRIPTION:
URL:https://sttimothynj.org/event/worship-50/
CATEGORIES:St Timothy's
END:VEVENT
BEGIN:VEVENT
DTSTART;TZID=America/New_York:20260517T093500
DTEND;TZID=America/New_York:20260517T102000
DTSTAMP:20260423T174358
CREATED:20260227T182343Z
LAST-MODIFIED:20260423T213926Z
UID:26568-1779010500-1779013200@sttimothynj.org
SUMMARY:Christian Ed Programs
DESCRIPTION:Programs include: \nSunday School classes for grades Pre-K through 6\nConfirmation classes for grades 7-8\nAdult Discussion Forum\nAdult Christian Education classes
URL:https://sttimothynj.org/event/christian-ed-programs-33/
CATEGORIES:St Timothy's
END:VEVENT
END:VCALENDAR