BEGIN:VCALENDAR
VERSION:2.0
PRODID:-//St Timothy Lutheran Church - ECPv6.15.20//NONSGML v1.0//EN
CALSCALE:GREGORIAN
METHOD:PUBLISH
X-WR-CALNAME:St Timothy Lutheran Church
X-ORIGINAL-URL:https://sttimothynj.org
X-WR-CALDESC:Events for St Timothy Lutheran Church
REFRESH-INTERVAL;VALUE=DURATION:PT1H
X-Robots-Tag:noindex
X-PUBLISHED-TTL:PT1H
BEGIN:VTIMEZONE
TZID:America/New_York
BEGIN:DAYLIGHT
TZOFFSETFROM:-0500
TZOFFSETTO:-0400
TZNAME:EDT
DTSTART:20260308T070000
END:DAYLIGHT
BEGIN:STANDARD
TZOFFSETFROM:-0400
TZOFFSETTO:-0500
TZNAME:EST
DTSTART:20261101T060000
END:STANDARD
BEGIN:DAYLIGHT
TZOFFSETFROM:-0500
TZOFFSETTO:-0400
TZNAME:EDT
DTSTART:20270314T070000
END:DAYLIGHT
BEGIN:STANDARD
TZOFFSETFROM:-0400
TZOFFSETTO:-0500
TZNAME:EST
DTSTART:20271107T060000
END:STANDARD
BEGIN:DAYLIGHT
TZOFFSETFROM:-0500
TZOFFSETTO:-0400
TZNAME:EDT
DTSTART:20280312T070000
END:DAYLIGHT
BEGIN:STANDARD
TZOFFSETFROM:-0400
TZOFFSETTO:-0500
TZNAME:EST
DTSTART:20281105T060000
END:STANDARD
END:VTIMEZONE
BEGIN:VEVENT
DTSTART;VALUE=DATE:20270702
DTEND;VALUE=DATE:20270703
DTSTAMP:20260424T070719
CREATED:20251204T181307Z
LAST-MODIFIED:20260423T213928Z
UID:25977-1814486400-1814572799@sttimothynj.org
SUMMARY:OFFICE CLOSED
DESCRIPTION:
URL:https://sttimothynj.org/event/office-closed-93/
CATEGORIES:St Timothy's
END:VEVENT
BEGIN:VEVENT
DTSTART;VALUE=DATE:20270709
DTEND;VALUE=DATE:20270710
DTSTAMP:20260424T070719
CREATED:20251204T181307Z
LAST-MODIFIED:20260423T213928Z
UID:25978-1815091200-1815177599@sttimothynj.org
SUMMARY:OFFICE CLOSED
DESCRIPTION:
URL:https://sttimothynj.org/event/office-closed-94/
CATEGORIES:St Timothy's
END:VEVENT
BEGIN:VEVENT
DTSTART;VALUE=DATE:20270716
DTEND;VALUE=DATE:20270717
DTSTAMP:20260424T070719
CREATED:20251204T181307Z
LAST-MODIFIED:20260423T213928Z
UID:25979-1815696000-1815782399@sttimothynj.org
SUMMARY:OFFICE CLOSED
DESCRIPTION:
URL:https://sttimothynj.org/event/office-closed-95/
CATEGORIES:St Timothy's
END:VEVENT
BEGIN:VEVENT
DTSTART;VALUE=DATE:20270723
DTEND;VALUE=DATE:20270724
DTSTAMP:20260424T070719
CREATED:20251204T181307Z
LAST-MODIFIED:20260423T213928Z
UID:25980-1816300800-1816387199@sttimothynj.org
SUMMARY:OFFICE CLOSED
DESCRIPTION:
URL:https://sttimothynj.org/event/office-closed-96/
CATEGORIES:St Timothy's
END:VEVENT
BEGIN:VEVENT
DTSTART;VALUE=DATE:20270730
DTEND;VALUE=DATE:20270731
DTSTAMP:20260424T070719
CREATED:20251204T181307Z
LAST-MODIFIED:20260423T213928Z
UID:25981-1816905600-1816991999@sttimothynj.org
SUMMARY:OFFICE CLOSED
DESCRIPTION:
URL:https://sttimothynj.org/event/office-closed-97/
CATEGORIES:St Timothy's
END:VEVENT
END:VCALENDAR